{"text_format":"1","workbook":"xlsx","n_sheets":3,"sheets":["8er","Rangliste Vorrunde","Rangliste Final"],"not_rendered":{"charts":0,"images":0,"macros":1,"external_links":0,"defined_names":3,"comments":0,"pivot_tables":0},"unopened":[],"bounds":{"document_bytes":16777216,"sheet_cells":100000,"rows_first":2000,"rows_last":500,"rows_between":2000,"halvings":0,"cell_chars":16384,"cell_head_chars":4096},"cells_cut":0,"cells_raw":0,"read":"whole","date_system":"1900"}

{"sheet":"8er","index":0,"n_rows":60,"n_cols":41,"rows_kept":60,"cut":false,"hidden":false,"merged":[[42,2,42,12],[41,2,41,12],[40,2,40,12],[39,2,39,12],[40,13,40,14],[41,13,41,14],[42,13,42,14],[45,29,45,30],[2,35,5,35],[33,14,33,16],[32,14,32,16],[43,13,43,14],[35,13,35,14],[36,13,36,14],[37,13,37,14],[38,13,38,14],[39,13,39,14],[43,17,43,18],[40,15,40,16],[41,15,41,16],[42,15,42,16],[41,17,41,18],[42,17,42,18],[43,15,43,16],[31,17,31,28],[32,17,32,28],[33,17,33,28],[39,15,39,16],[39,21,39,22],[40,21,40,22],[41,21,41,22],[36,19,36,20],[37,19,37,20],[38,19,38,20],[39,19,39,20],[40,19,40,20],[41,19,41,20],[37,17,37,18],[38,17,38,18],[39,17,39,18],[40,17,40,18],[36,15,36,16],[37,15,37,16],[38,15,38,16],[2,27,2,33],[18,17,18,28],[27,17,27,28],[28,17,28,28],[29,17,29,28],[30,17,30,28],[23,17,23,28],[24,17,24,28],[25,17,25,28],[26,17,26,28],[2,2,2,9],[3,5,3,12],[35,27,35,28],[35,25,35,26],[35,23,35,24],[35,21,35,22],[35,15,35,16],[5,5,5,13],[35,19,35,20],[11,17,11,28],[12,17,12,28],[13,17,13,28],[14,17,14,28],[7,17,7,28],[8,17,8,28],[9,17,9,28],[10,17,10,28],[19,17,19,28],[20,17,20,28],[21,17,21,28],[22,17,22,28],[15,17,15,28],[16,17,16,28],[17,17,17,28],[0,7,0,24],[2,13,2,19],[36,23,36,24],[37,23,37,24],[31,14,31,16],[30,14,30,16],[36,21,36,22],[37,21,37,22],[35,17,35,18],[36,17,36,18],[21,14,21,16],[20,14,20,16],[15,14,15,16],[14,14,14,16],[17,14,17,16],[16,14,16,16],[27,14,27,16],[26,14,26,16],[29,14,29,16],[28,14,28,16],[23,14,23,16],[22,14,22,16],[25,14,25,16],[24,14,24,16],[37,0,37,1],[37,29,37,30],[37,31,37,33],[35,31,35,33],[35,29,35,30],[35,0,35,1],[36,0,36,1],[36,29,36,30],[36,31,36,33],[36,27,36,28],[37,27,37,28],[36,25,36,26],[37,25,37,26],[37,2,37,12],[36,2,36,12],[35,2,35,12],[39,0,39,1],[39,29,39,30],[39,31,39,33],[38,0,38,1],[38,29,38,30],[38,31,38,33],[38,2,38,12],[38,23,38,24],[39,23,39,24],[38,21,38,22],[38,27,38,28],[39,27,39,28],[38,25,38,26],[39,25,39,26],[41,29,41,30],[41,31,41,33],[40,0,40,1],[40,29,40,30],[40,31,40,33],[41,27,41,28],[40,25,40,26],[41,25,41,26],[41,23,41,24],[40,23,40,24],[40,27,40,28],[42,29,42,30],[42,31,42,33],[42,27,42,28],[42,25,42,26],[42,23,42,24],[42,21,42,22],[43,29,43,30],[43,31,43,33],[43,27,43,28],[43,25,43,26],[43,23,43,24],[43,19,43,20],[43,21,43,22],[6,5,6,13],[6,14,6,16],[5,17,5,28],[5,14,5,16],[6,17,6,28],[43,0,43,1],[43,2,43,12],[42,0,42,1],[42,19,42,20],[41,0,41,1],[11,14,11,16],[10,14,10,16],[13,14,13,16],[12,14,12,16],[9,5,9,13],[7,5,7,13],[9,14,9,16],[8,14,8,16],[7,14,7,16],[8,5,8,13],[19,14,19,16],[18,14,18,16],[10,5,10,13],[11,5,11,13],[12,5,12,13],[13,5,13,13],[14,5,14,13],[15,5,15,13],[16,5,16,13],[21,5,21,13],[22,5,22,13],[23,5,23,13],[24,5,24,13],[17,5,17,13],[18,5,18,13],[19,5,19,13],[20,5,20,13],[33,5,33,13],[29,5,29,13],[30,5,30,13],[31,5,31,13],[32,5,32,13],[25,5,25,13],[26,5,26,13],[27,5,27,13],[28,5,28,13],[49,16,49,28],[50,16,50,28],[51,16,51,28],[53,16,53,28],[55,16,55,28],[57,16,57,28],[51,5,51,12],[51,13,51,15],[49,5,49,12],[49,13,49,15],[50,5,50,12],[50,13,50,15],[59,5,59,12],[59,13,59,15],[59,16,59,28],[53,5,53,12],[53,13,53,15],[55,5,55,12],[55,13,55,15],[57,5,57,12],[57,13,57,15]]}
[null,null,null,null,null,null,null,"OSM",null,null,null,null,null,null,null,null,null,null,null,null,null,null,null,null,null,null,null,null,null,null,null,null,null,null," "]
[]
["Turnier:",null,null,null,null,null,null,null,null,null,null,"Datum:",null,null,null,null,null,null,null,null,null,"Gewichtsklasse:",null,null,null,null,null,null,null,null,null,null,null,null,null,"Prüfung"]
["Turnierleiter:"]
[null,null,null,null,null,null,null,null,null,null,null,null,null,null,null,null,null,null,null,null,null,null,null,null,null,null,null,null,null,"8-Turnier"]
["P",1,2,3,null,"Teams",null,null,null,null,null,null,null,null,"Z-Nr.",null,null,"Teams",null,null,null,null,null,null,null,null,null,null,null,null,1,2,3,"P","Zeit:"]
[{"$f":"IF(B7=\"\",\"\",IF(C7=\"\",B7,IF(B7+C7=2,3,IF(D7=\"\",B7+C7,B7+C7+D7))))","v":""},null,null,null,"A",{"$f":"IF(C37=\"\",\"\",C37)","v":""},null,null,null,null,null,null,null,null,1,null,null,{"$f":"IF(C38=\"\",\"\",C38)","v":""},null,null,null,null,null,null,null,null,null,null,null,"B",{"$f":"IF(B7=1,\"0\",IF(B7=\"\",\"\",\"1\"))","v":""},{"$f":"IF(C7=1,\"0\",IF(C7=\"\",\"\",\"1\"))","v":""},{"$f":"IF(D7=1,\"0\",IF(D7=\"\",\"\",\"1\"))","v":""},{"$f":"IF(AE7=\"\",\"\",IF(AF7=\"\",AE7,IF(AE7+AF7=2,3,IF(AG7=\"\",AE7+AF7,AE7+AF7+AG7))))","v":""}," ",{"$f":"IF(A7=\"\",\"\",IF(AND(A7=1,AF7=1)+OR(C7=\"\")+AND(A7+AH7>3)+OR(A7+AH7=2),\"nicht i.o.\",\"i.o.\"))","v":""}]
[{"$f":"IF(B8=\"\",\"\",IF(C8=\"\",B8,IF(B8+C8=2,3,IF(D8=\"\",B8+C8,B8+C8+D8))))","v":""},null,null,null,"C",{"$f":"IF(C39=\"\",\"\",C39)","v":""},null,null,null,null,null,null,null,null,2,null,null,{"$f":"IF(C40=\"\",\"\",C40)","v":""},null,null,null,null,null,null,null,null,null,null,null,"D",{"$f":"IF(B8=1,\"0\",IF(B8=\"\",\"\",\"1\"))","v":""},{"$f":"IF(C8=1,\"0\",IF(C8=\"\",\"\",\"1\"))","v":""},{"$f":"IF(D8=1,\"0\",IF(D8=\"\",\"\",\"1\"))","v":""},{"$f":"IF(AE8=\"\",\"\",IF(AF8=\"\",AE8,IF(AE8+AF8=2,3,IF(AG8=\"\",AE8+AF8,AE8+AF8+AG8))))","v":""},null,{"$f":"IF(A8=\"\",\"\",IF(AND(A8=1,AF8=1)+OR(C8=\"\")+AND(A8+AH8>3)+OR(A8+AH8=2),\"nicht i.o.\",\"i.o.\"))","v":""}]
["",null,null,null,"E",{"$f":"IF(C41=\"\",\"\",C41)","v":""},null,null,null,null,null,null,null,null,3,null,null,{"$f":"IF(C42=\"\",\"\",C42)","v":""},null,null,null,null,null,null,null,null,null,null,null,"F","","","","",null,""]
["",null,null,null,"G",{"$f":"IF(C43=\"\",\"\",C43)","v":""},null,null,null,null,null,null,null,null,4,null,null,{"$f":"IF(C44=\"\",\"\",C44)","v":""},null,null,null,null,null,null,null,null,null,null,null,"H","","","","",null,""]
["",null,null,null,"A",{"$f":"IF(C37=\"\",\"\",C37)","v":""},null,null,null,null,null,null,null,null,5,null,null,{"$f":"IF(C39=\"\",\"\",C39)","v":""},null,null,null,null,null,null,null,null,null,null,null,"C","","","","",null,""]
["",null,null,null,"B",{"$f":"IF(C38=\"\",\"\",C38)","v":""},null,null,null,null,null,null,null,null,6,null,null,{"$f":"IF(C40=\"\",\"\",C40)","v":""},null,null,null,null,null,null,null,null,null,null,null,"D","","","","",null,""]
["",null,null,null,"E",{"$f":"IF(C41=\"\",\"\",C41)","v":""},null,null,null,null,null,null,null,null,7,null,null,{"$f":"IF(C43=\"\",\"\",C43)","v":""},null,null,null,null,null,null,null,null,null,null,null,"G","","","","",null,""]
["",null,null,null,"H",{"$f":"IF(C44=\"\",\"\",C44)","v":""},null,null,null,null,null,null,null,null,8,null,null,{"$f":"IF(C42=\"\",\"\",C42)","v":""},null,null,null,null,null,null,null,null,null,null,null,"F","","","","",null,""]
["",null,null,null,"A",{"$f":"IF(C37=\"\",\"\",C37)","v":""},null,null,null,null,null,null,null,null,9,null,null,{"$f":"IF(C40=\"\",\"\",C40)","v":""},null,null,null,null,null,null,null,null,null,null,null,"D","","","","",null,""]
["",null,null,null,"B",{"$f":"IF(C38=\"\",\"\",C38)","v":""},null,null,null,null,null,null,null,null,10,null,null,{"$f":"IF(C39=\"\",\"\",C39)","v":""},null,null,null,null,null,null,null,null,null,null,null,"C","","","","",null,""]
["",null,null,null,"H",{"$f":"IF(C44=\"\",\"\",C44)","v":""},null,null,null,null,null,null,null,null,11,null,null,{"$f":"IF(C41=\"\",\"\",C41)","v":""},null,null,null,null,null,null,null,null,null,null,null,"E","","","","",null,""]
["",null,null,null,"F",{"$f":"IF(C42=\"\",\"\",C42)","v":""},null,null,null,null,null,null,null,null,12,null,null,{"$f":"IF(C43=\"\",\"\",C43)","v":""},null,null,null,null,null,null,null,null,null,null,null,"G","","","","",null,""]
["",null,null,null,"A",{"$f":"IF(C37=\"\",\"\",C37)","v":""},null,null,null,null,null,null,null,null,13,null,null,{"$f":"IF(C41=\"\",\"\",C41)","v":""},null,null,null,null,null,null,null,null,null,null,null,"E","","","","",null,""]
["",null,null,null,"B",{"$f":"IF(C38=\"\",\"\",C38)","v":""},null,null,null,null,null,null,null,null,14,null,null,{"$f":"IF(C42=\"\",\"\",C42)","v":""},null,null,null,null,null,null,null,null,null,null,null,"F","","","","",null,""]
["",null,null,null,"C",{"$f":"IF(C39=\"\",\"\",C39)","v":""},null,null,null,null,null,null,null,null,15,null,null,{"$f":"IF(C43=\"\",\"\",C43)","v":""},null,null,null,null,null,null,null,null,null,null,null,"G","","","","",null,""]
["",null,null,null,"H",{"$f":"IF(C44=\"\",\"\",C44)","v":""},null,null,null,null,null,null,null,null,16,null,null,{"$f":"IF(C40=\"\",\"\",C40)","v":""},null,null,null,null,null,null,null,null,null,null,null,"D","","","","",null,""]
["",null,null,null,"A",{"$f":"IF(C37=\"\",\"\",C37)","v":""},null,null,null,null,null,null,null,null,17,null,null,{"$f":"IF(C42=\"\",\"\",C42)","v":""},null,null,null,null,null,null,null,null,null,null,null,"F","","","","",null,""]
["",null,null,null,"B",{"$f":"IF(C38=\"\",\"\",C38)","v":""},null,null,null,null,null,null,null,null,18,null,null,{"$f":"IF(C41=\"\",\"\",C41)","v":""},null,null,null,null,null,null,null,null,null,null,null,"E","","","","",null,""]
["",null,null,null,"H",{"$f":"IF(C44=\"\",\"\",C44)","v":""},null,null,null,null,null,null,null,null,19,null,null,{"$f":"IF(C39=\"\",\"\",C39)","v":""},null,null,null,null,null,null,null,null,null,null,null,"C","","","","",null,""]
["",null,null,null,"D",{"$f":"IF(C40=\"\",\"\",C40)","v":""},null,null,null,null,null,null,null,null,20,null,null,{"$f":"IF(C43=\"\",\"\",C43)","v":""},null,null,null,null,null,null,null,null,null,null,null,"G","","","","",null,""]
["",null,null,null,"A",{"$f":"IF(C37=\"\",\"\",C37)","v":""},null,null,null,null,null,null,null,null,21,null,null,{"$f":"IF(C44=\"\",\"\",C44)","v":""},null,null,null,null,null,null,null,null,null,null,null,"H","","","","",null,""]
["",null,null,null,"B",{"$f":"IF(C38=\"\",\"\",C38)","v":""},null,null,null,null,null,null,null,null,22,null,null,{"$f":"IF(C43=\"\",\"\",C43)","v":""},null,null,null,null,null,null,null,null,null,null,null,"G","","","","",null,""]
["",null,null,null,"C",{"$f":"IF(C39=\"\",\"\",C39)","v":""},null,null,null,null,null,null,null,null,23,null,null,{"$f":"IF(C41=\"\",\"\",C41)","v":""},null,null,null,null,null,null,null,null,null,null,null,"E","","","","",null,""]
["",null,null,null,"D",{"$f":"IF(C40=\"\",\"\",C40)","v":""},null,null,null,null,null,null,null,null,24,null,null,{"$f":"IF(C42=\"\",\"\",C42)","v":""},null,null,null,null,null,null,null,null,null,null,null,"F","","","","",null,""]
["",null,null,null,"A",{"$f":"IF(C37=\"\",\"\",C37)","v":""},null,null,null,null,null,null,null,null,25,null,null,{"$f":"IF(C43=\"\",\"\",C43)","v":""},null,null,null,null,null,null,null,null,null,null,null,"G","","","","",null,""]
["",null,null,null,"B",{"$f":"IF(C38=\"\",\"\",C38)","v":""},null,null,null,null,null,null,null,null,26,null,null,{"$f":"IF(C44=\"\",\"\",C44)","v":""},null,null,null,null,null,null,null,null,null,null,null,"H","","","","",null,""]
["",null,null,null,"C",{"$f":"IF(C39=\"\",\"\",C39)","v":""},null,null,null,null,null,null,null,null,27,null,null,{"$f":"IF(C42=\"\",\"\",C42)","v":""},null,null,null,null,null,null,null,null,null,null,null,"F","","","","",null,""]
[{"$f":"IF(B34=\"\",\"\",IF(C34=\"\",B34,IF(B34+C34=2,3,IF(D34=\"\",B34+C34,B34+C34+D34))))","v":""},null,null,null,"D",{"$f":"IF(C40=\"\",\"\",C40)","v":""},null,null,null,null,null,null,null,null,28,null,null,{"$f":"IF(C41=\"\",\"\",C41)","v":""},null,null,null,null,null,null,null,null,null,null,null,"E","","","","",null,""]
[null,null,null,null,null,null,null,null,null,null,null,null,null,null,null,null,null,null,null,null,null,null,null,null,null,null,null,null,null,null,null,null,null,null,null,null,null,null,"Rangliste Vorrunde"]
[null,null,"Teams",null,null,null,null,null,null,null,null,null,null,"A",null,"B",null,"C",null,"D",null,"E",null,"F",null,"G",null,"H",null,"Pt.",null,"Rang"]
["A",null,null,null,null,null,null,null,null,null,null,null,null,null,null,{"$f":"A7","v":""},null,{"$f":"A11","v":""},null,{"$f":"A15","v":""},null,{"$f":"A19","v":""},null,{"$f":"A23","v":""},null,{"$f":"A31","v":""},null,{"$f":"A27","v":""},null,{"$f":"IF(A7=\"\",\"\",(IF(N37<>\"\",N37,0))+(IF(P37<>\"\",P37,0))+(IF(R37<>\"\",R37,0))+(IF(T37<>\"\",T37,0))+(IF(V37<>\"\",V37,0))+(IF(X37<>\"\",X37,0))+(IF(Z37<>\"\",Z37,0))+(IF(AB37<>\"\",AB37,0)))","v":""},null,null,null,null,null,null,null,null,1,null,{"$f":"IF(AF37=\"\",\"\",IF(AF37=1,C37,IF(AF38=1,C38,IF(AF39=1,C39,IF(AF40=1,C40,IF(AF41=1,C41,IF(AF42=1,C42,IF(AF43=1,C43,C44))))))))","v":""}]
["B",null,null,null,null,null,null,null,null,null,null,null,null,{"$f":"AH7","v":""},null,null,null,{"$f":"A16","v":""},null,{"$f":"A12","v":""},null,{"$f":"A24","v":""},null,{"$f":"A20","v":""},null,{"$f":"A28","v":""},null,{"$f":"A32","v":""},null,{"$f":"IF(A7=\"\",\"\",(IF(N38<>\"\",N38,0))+(IF(P38<>\"\",P38,0))+(IF(R38<>\"\",R38,0))+(IF(T38<>\"\",T38,0))+(IF(V38<>\"\",V38,0))+(IF(X38<>\"\",X38,0))+(IF(Z38<>\"\",Z38,0))+(IF(AB38<>\"\",AB38,0)))","v":""},null,null,null,null,null,null,null,null,2,null,{"$f":"IF(AF37=\"\",\"\",IF(AF37=2,C37,IF(AF38=2,C38,IF(AF39=2,C39,IF(AF40=2,C40,IF(AF41=2,C41,IF(AF42=2,C42,IF(AF43=2,C43,C44))))))))","v":""}]
["C",null,null,null,null,null,null,null,null,null,null,null,null,{"$f":"AH11","v":""},null,{"$f":"AH16","v":""},null,null,null,{"$f":"A8","v":""},null,{"$f":"A29","v":""},null,{"$f":"A33","v":""},null,{"$f":"A21","v":""},null,{"$f":"AH25","v":""},null,{"$f":"IF(A8=\"\",\"\",(IF(N39<>\"\",N39,0))+(IF(P39<>\"\",P39,0))+(IF(R39<>\"\",R39,0))+(IF(T39<>\"\",T39,0))+(IF(V39<>\"\",V39,0))+(IF(X39<>\"\",X39,0))+(IF(Z39<>\"\",Z39,0))+(IF(AB39<>\"\",AB39,0)))","v":""},null,null,null,null,null,null,null,null,3,null,{"$f":"IF(AF37=\"\",\"\",IF(AF37=3,C37,IF(AF38=3,C38,IF(AF39=3,C39,IF(AF40=3,C40,IF(AF41=3,C41,IF(AF42=3,C42,IF(AF43=3,C43,C44))))))))","v":""}]
["D",null,null,null,null,null,null,null,null,null,null,null,null,{"$f":"AH15","v":""},null,{"$f":"AH12","v":""},null,{"$f":"AH8","v":""},null,null,null,{"$f":"A34","v":""},null,{"$f":"A30","v":""},null,{"$f":"A26","v":""},null,{"$f":"AH22","v":""},null,{"$f":"IF(A8=\"\",\"\",(IF(N40<>\"\",N40,0))+(IF(P40<>\"\",P40,0))+(IF(R40<>\"\",R40,0))+(IF(T40<>\"\",T40,0))+(IF(V40<>\"\",V40,0))+(IF(X40<>\"\",X40,0))+(IF(Z40<>\"\",Z40,0))+(IF(AB40<>\"\",AB40,0)))","v":""},null,null,null,null,null,null,null,null,4,null,{"$f":"IF(AF37=\"\",\"\",IF(AF37=4,C37,IF(AF38=4,C38,IF(AF39=4,C39,IF(AF40=4,C40,IF(AF41=4,C41,IF(AF42=4,C42,IF(AF43=4,C43,C44))))))))","v":""}]
["E",null,null,null,null,null,null,null,null,null,null,null,null,{"$f":"AH19","v":""},null,{"$f":"AH24","v":""},null,{"$f":"AH29","v":""},null,{"$f":"AH34","v":""},null,null,null,{"$f":"A9","v":""},null,{"$f":"A13","v":""},null,{"$f":"AH17","v":""},null,{"$f":"IF(A9=\"\",\"\",(IF(N41<>\"\",N41,0))+(IF(P41<>\"\",P41,0))+(IF(R41<>\"\",R41,0))+(IF(T41<>\"\",T41,0))+(IF(V41<>\"\",V41,0))+(IF(X41<>\"\",X41,0))+(IF(Z41<>\"\",Z41,0))+(IF(AB41<>\"\",AB41,0)))","v":""},null,null,null,null,null,null,null,null,5,null,{"$f":"IF(AF37=\"\",\"\",IF(AF37=5,C37,IF(AF38=5,C38,IF(AF39=5,C39,IF(AF40=5,C40,IF(AF41=5,C41,IF(AF42=5,C42,IF(AF43=5,C43,C44))))))))","v":""}]
["F",null,null,null,null,null,null,null,null,null,null,null,null,{"$f":"AH23","v":""},null,{"$f":"AH20","v":""},null,{"$f":"AH33","v":""},null,{"$f":"AH30","v":""},null,{"$f":"AH9","v":""},null,null,null,{"$f":"A18","v":""},null,{"$f":"AH14","v":""},null,{"$f":"IF(A9=\"\",\"\",(IF(N42<>\"\",N42,0))+(IF(P42<>\"\",P42,0))+(IF(R42<>\"\",R42,0))+(IF(T42<>\"\",T42,0))+(IF(V42<>\"\",V42,0))+(IF(X42<>\"\",X42,0))+(IF(Z42<>\"\",Z42,0))+(IF(AB42<>\"\",AB42,0)))","v":""},null,null,null,null,null,null,null,null,6,null,{"$f":"IF(AF37=\"\",\"\",IF(AF37=6,C37,IF(AF38=6,C38,IF(AF39=6,C39,IF(AF40=6,C40,IF(AF41=6,C41,IF(AF42=6,C42,IF(AF43=6,C43,C44))))))))","v":""}]
["G",null,null,null,null,null,null,null,null,null,null,null,null,{"$f":"AH31","v":""},null,{"$f":"AH28","v":""},null,{"$f":"AH21","v":""},null,{"$f":"AH26","v":""},null,{"$f":"AH13","v":""},null,{"$f":"AH18","v":""},null,null,null,{"$f":"A10","v":""},null,{"$f":"IF(A10=\"\",\"\",(IF(N43<>\"\",N43,0))+(IF(P43<>\"\",P43,0))+(IF(R43<>\"\",R43,0))+(IF(T43<>\"\",T43,0))+(IF(V43<>\"\",V43,0))+(IF(X43<>\"\",X43,0))+(IF(Z43<>\"\",Z43,0))+(IF(AB43<>\"\",AB43,0)))","v":""},null,null,null,null,null,null,null,null,7,null,{"$f":"IF(AF37=\"\",\"\",IF(AF37=7,C37,IF(AF38=7,C38,IF(AF39=7,C39,IF(AF40=7,C40,IF(AF41=7,C41,IF(AF42=7,C42,IF(AF43=7,C43,C44))))))))","v":""}]
["H",null,null,null,null,null,null,null,null,null,null,null,null,{"$f":"AH27","v":""},null,{"$f":"AH32","v":""},null,{"$f":"A25","v":""},null,{"$f":"A22","v":""},null,{"$f":"A17","v":""},null,{"$f":"A14","v":""},null,{"$f":"AH10","v":""},null,null,null,{"$f":"IF(A10=\"\",\"\",(IF(N44<>\"\",N44,0))+(IF(P44<>\"\",P44,0))+(IF(R44<>\"\",R44,0))+(IF(T44<>\"\",T44,0))+(IF(V44<>\"\",V44,0))+(IF(X44<>\"\",X44,0))+(IF(Z44<>\"\",Z44,0))+(IF(AB44<>\"\",AB44,0)))","v":""},null,null,null,null,null,null,null,null,8,null,{"$f":"IF(AF37=\"\",\"\",IF(AF37=8,C37,IF(AF38=8,C38,IF(AF39=8,C39,IF(AF40=8,C40,IF(AF41=8,C41,IF(AF42=8,C42,IF(AF43=8,C43,C44))))))))","v":""}]
[]
[null,null,null,null,null,null,null,null,null,null,null,null,null,null,null,null,null,null,null,null,null,null,null,null,null,null,null,null,null,{"$f":"SUM(AD37:AE44)","v":0}]
[null,null,null,null,null,null,null,null,null,null,null,null,null,null,null,null,null,null,null,null,null,null,null,null,null,null,null,null,"Kontrollsumme = 84"]
[]
["½ -Finals"]
["P",1,2,3,null,"Teams",null,null,null,null,null,null,null,"Z-Nr.",null,null,"Teams",null,null,null,null,null,null,null,null,null,null,null,null,null,1,2,3,"P",null,null,null,null,"Rangliste Final"]
[{"$f":"IF(B51=\"\",\"\",IF(C51=\"\",B51,IF(B51+C51=2,3,IF(D51=\"\",B51+C51,B51+C51+D51))))","v":""},null,null,null,{"$f":"IF(AF37=\"\",\"\",IF(AF37=1,A37,IF(AF38=1,A38,IF(AF39=1,A39,IF(AF40=1,A40,IF(AF41=1,A41,IF(AF42=1,A42,IF(AF43=1,A43,A44))))))))","v":""},{"$f":"IF(AF37=\"\",\"\",IF(AF37=1,C37,IF(AF38=1,C38,IF(AF39=1,C39,IF(AF40=1,C40,IF(AF41=1,C41,IF(AF42=1,C42,IF(AF43=1,C43,C44))))))))","v":""},null,null,null,null,null,null,null,29,null,null,{"$f":"IF(AF37=\"\",\"\",IF(AF37=4,C37,IF(AF38=4,C38,IF(AF39=4,C39,IF(AF40=4,C40,IF(AF41=4,C41,IF(AF42=4,C42,IF(AF43=4,C43,C44))))))))","v":""},null,null,null,null,null,null,null,null,null,null,null,null,{"$f":"IF(AF37=\"\",\"\",IF(AF37=4,A37,IF(AF38=4,A38,IF(AF39=4,A39,IF(AF40=4,A40,IF(AF41=4,A41,IF(AF42=4,A42,IF(AF43=4,A43,A44))))))))","v":""},{"$f":"IF(B51=1,\"0\",IF(B51=\"\",\"\",\"1\"))","v":""},"","",{"$f":"IF(AE51=\"\",\"\",IF(AF51=\"\",AE51,IF(AE51+AF51=2,3,IF(AG51=\"\",AE51+AF51,AE51+AF51+AG51))))","v":""},null,{"$f":"IF(A51=\"\",\"\",IF(AND(A51=1,AH51=1)+OR(C51=\"\")+AND(A51+AH51>3)+OR(A51+AH51=2),\"nicht i.o.\",\"i.o.\"))","v":""}]
[{"$f":"IF(B52=\"\",\"\",IF(C52=\"\",B52,IF(B52+C52=2,3,IF(D52=\"\",B52+C52,B52+C52+D52))))","v":""},null,null,null,{"$f":"IF(AF37=\"\",\"\",IF(AF37=2,A37,IF(AF38=2,A38,IF(AF39=2,A39,IF(AF40=2,A40,IF(AF41=2,A41,IF(AF42=2,A42,IF(AF43=2,A43,A44))))))))","v":""},{"$f":"IF(AF37=\"\",\"\",IF(AF37=2,C37,IF(AF38=2,C38,IF(AF39=2,C39,IF(AF40=2,C40,IF(AF41=2,C41,IF(AF42=2,C42,IF(AF43=2,C43,C44))))))))","v":""},null,null,null,null,null,null,null,30,null,null,{"$f":"IF(AF37=\"\",\"\",IF(AF37=3,C37,IF(AF38=3,C38,IF(AF39=3,C39,IF(AF40=3,C40,IF(AF41=3,C41,IF(AF42=3,C42,IF(AF43=3,C43,C44))))))))","v":""},null,null,null,null,null,null,null,null,null,null,null,null,{"$f":"IF(AF37=\"\",\"\",IF(AF37=3,A37,IF(AF38=3,A38,IF(AF39=3,A39,IF(AF40=3,A40,IF(AF41=3,A41,IF(AF42=3,A42,IF(AF43=3,A43,A44))))))))","v":""},"","","",{"$f":"IF(AE52=\"\",\"\",IF(AF52=\"\",AE52,IF(AE52+AF52=2,3,IF(AG52=\"\",AE52+AF52,AE52+AF52+AG52))))","v":""},null,{"$f":"IF(A52=\"\",\"\",IF(AND(A52=1,AH52=1)+OR(C52=\"\")+AND(A52+AH52>3)+OR(A52+AH52=2),\"nicht i.o.\",\"i.o.\"))","v":""}]
["Plazierungszug 7./8.",null,null,null,null,null,null,null,null,null,null,null,null,null,null,null,null,null,null,null,null,null,null,null,null,null,null,null,null,null,null,null,null,null,null,null,null,null,8,null,{"$f":"IF(AF37=\"\",\"\",IF(OR(A54=\"\",A54+AH54>3,A54+AH54<=2),\"\",IF(A54<=1,F54,Q54)))","v":""}]
[{"$f":"IF(B54=\"\",\"\",IF(C54=\"\",B54,IF(B54+C54=2,3,IF(D54=\"\",B54+C54,B54+C54+D54))))","v":""},null,null,null,{"$f":"IF(AF37=\"\",\"\",IF(AF37=7,A37,IF(AF38=7,A38,IF(AF39=7,A39,IF(AF40=7,A40,IF(AF41=7,A41,IF(AF42=7,A42,IF(AF43=7,A43,A44))))))))","v":""},{"$f":"IF(AF37=\"\",\"\",IF(AF37=7,C37,IF(AF38=7,C38,IF(AF39=7,C39,IF(AF40=7,C40,IF(AF41=7,C41,IF(AF42=7,C42,IF(AF43=7,C43,C44))))))))","v":""},null,null,null,null,null,null,null,31,null,null,{"$f":"IF(AF37=\"\",\"\",IF(AF37=8,C37,IF(AF38=8,C38,IF(AF39=8,C39,IF(AF40=8,C40,IF(AF41=8,C41,IF(AF42=8,C42,IF(AF43=8,C43,C44))))))))","v":""},null,null,null,null,null,null,null,null,null,null,null,null,{"$f":"IF(AF37=\"\",\"\",IF(AF37=8,A37,IF(AF38=8,A38,IF(AF39=8,A39,IF(AF40=8,A40,IF(AF41=8,A41,IF(AF42=8,A42,IF(AF43=8,A43,A44))))))))","v":""},{"$f":"IF(B54=1,\"0\",IF(B54=\"\",\"\",\"1\"))","v":""},{"$f":"IF(C54=1,\"0\",IF(C54=\"\",\"\",\"1\"))","v":""},{"$f":"IF(D54=1,\"0\",IF(D54=\"\",\"\",\"1\"))","v":""},{"$f":"IF(AE54=\"\",\"\",IF(AF54=\"\",AE54,IF(AE54+AF54=2,3,IF(AG54=\"\",AE54+AF54,AE54+AF54+AG54))))","v":""},null,"",null,null,7,null,{"$f":"IF(AF37=\"\",\"\",IF(OR(A54=\"\",A54+AH54>3,A54+AH54<=2),\"\",IF(A54>=2,F54,Q54)))","v":""}]
["Plazierungszug 5./6.",null,null,null,null,null,null,null,null,null,null,null,null,null,null,null,null,null,null,null,null,null,null,null,null,null,null,null,null,null,null,null,null,null,null,null,null,null,6,null,{"$f":"IF(AF37=\"\",\"\",IF(OR(A56=\"\",A56+AH56>3,A56+AH56<=2),\"\",IF(A56<=1,F56,Q56)))","v":""}]
[{"$f":"IF(B56=\"\",\"\",IF(C56=\"\",B56,IF(B56+C56=2,3,IF(D56=\"\",B56+C56,B56+C56+D56))))","v":""},null,null,null,{"$f":"IF(AF37=\"\",\"\",IF(AF37=5,A37,IF(AF38=5,A38,IF(AF39=5,A39,IF(AF40=5,A40,IF(AF41=5,A41,IF(AF42=5,A42,IF(AF43=5,A43,A44))))))))","v":""},{"$f":"IF(AF37=\"\",\"\",IF(AF37=5,C37,IF(AF38=5,C38,IF(AF39=5,C39,IF(AF40=5,C40,IF(AF41=5,C41,IF(AF42=5,C42,IF(AF43=5,C43,C44))))))))","v":""},null,null,null,null,null,null,null,32,null,null,{"$f":"IF(AF37=\"\",\"\",IF(AF37=6,C37,IF(AF38=6,C38,IF(AF39=6,C39,IF(AF40=6,C40,IF(AF41=6,C41,IF(AF42=6,C42,IF(AF43=6,C43,C44))))))))","v":""},null,null,null,null,null,null,null,null,null,null,null,null,{"$f":"IF(AF37=\"\",\"\",IF(AF37=6,A37,IF(AF38=6,A38,IF(AF39=6,A39,IF(AF40=6,A40,IF(AF41=6,A41,IF(AF42=6,A42,IF(AF43=6,A43,A44))))))))","v":""},{"$f":"IF(B56=1,\"0\",IF(B56=\"\",\"\",\"1\"))","v":""},{"$f":"IF(C56=1,\"0\",IF(C56=\"\",\"\",\"1\"))","v":""},{"$f":"IF(D56=1,\"0\",IF(D56=\"\",\"\",\"1\"))","v":""},{"$f":"IF(AE56=\"\",\"\",IF(AF56=\"\",AE56,IF(AE56+AF56=2,3,IF(AG56=\"\",AE56+AF56,AE56+AF56+AG56))))","v":""},null,"",null,null,5,null,{"$f":"IF(AF37=\"\",\"\",IF(OR(A56=\"\",A56+AH56>3,A56+AH56<=2),\"\",IF(A56>=2,F56,Q56)))","v":""}]
["Kleiner Final",null,null,null,null,null,null,null,null,null,null,null,null,null,null,null,null,null,null,null,null,null,null,null,null,null,null,null,null,null,null,null,null,null,null,null,null,null,4,null,{"$f":"IF(AF37=\"\",\"\",IF(OR(A58=\"\",A58+AH58>3,A58+AH58<=2),\"\",IF(A58<=1,F58,Q58)))","v":""}]
[{"$f":"IF(B58=\"\",\"\",IF(C58=\"\",B58,IF(B58+C58=2,3,IF(D58=\"\",B58+C58,B58+C58+D58))))","v":""},null,null,null,{"$f":"IF(A51=\"\",\"\",IF(A51>1,AD51,E51))","v":""},{"$f":"IF(A51=\"\",\"\",IF(A51>1,Q51,F51))","v":""},null,null,null,null,null,null,null,33,null,null,{"$f":"IF(A52=\"\",\"\",IF(A52>1,Q52,F52))","v":""},null,null,null,null,null,null,null,null,null,null,null,null,{"$f":"IF(A52=\"\",\"\",IF(A52>1,AD52,E52))","v":""},{"$f":"IF(B58=1,\"0\",IF(B58=\"\",\"\",\"1\"))","v":""},{"$f":"IF(C58=1,\"0\",IF(C58=\"\",\"\",\"1\"))","v":""},{"$f":"IF(D58=1,\"0\",IF(D58=\"\",\"\",\"1\"))","v":""},{"$f":"IF(AE58=\"\",\"\",IF(AF58=\"\",AE58,IF(AE58+AF58=2,3,IF(AG58=\"\",AE58+AF58,AE58+AF58+AG58))))","v":""}," ","",null,null,3,null,{"$f":"IF(AF37=\"\",\"\",IF(OR(A58=\"\",A58+AH58>3,A58+AH58<=2),\"\",IF(A58>=2,F58,Q58)))","v":""}]
["Final",null,null,null,null,null,null,null,null,null,null,null,null,null,null,null,null,null,null,null,null,null,null,null,null,null,null,null,null,null,null,null,null,null,null,null,null,null,2,null,{"$f":"IF(AF37=\"\",\"\",IF(OR(A60=\"\",A60+AH60>3,A60+AH60<=2),\"\",IF(A60<=1,F60,Q60)))","v":""}]
[{"$f":"IF(B60=\"\",\"\",IF(C60=\"\",B60,IF(B60+C60=2,3,IF(D60=\"\",B60+C60,B60+C60+D60))))","v":""},null,null,null,{"$f":"IF(A51=\"\",\"\",IF(A51>1,E51,AD51))","v":""},{"$f":"IF(A51=\"\",\"\",IF(A51>1,F51,Q51))","v":""},null,null,null,null,null,null,null,34,null,null,{"$f":"IF(A52=\"\",\"\",IF(A52>1,F52,Q52))","v":""},null,null,null,null,null,null,null,null,null,null,null,null,{"$f":"IF(A52=\"\",\"\",IF(A52>1,E52,AD52))","v":""},{"$f":"IF(B60=1,\"0\",IF(B60=\"\",\"\",\"1\"))","v":""},{"$f":"IF(C60=1,\"0\",IF(C60=\"\",\"\",\"1\"))","v":""},{"$f":"IF(D60=1,\"0\",IF(D60=\"\",\"\",\"1\"))","v":""},{"$f":"IF(AE60=\"\",\"\",IF(AF60=\"\",AE60,IF(AE60+AF60=2,3,IF(AG60=\"\",AE60+AF60,AE60+AF60+AG60))))","v":""},null,"",null,null,1,null,{"$f":"IF(AF37=\"\",\"\",IF(OR(A60=\"\",A60+AH60>3,A60+AH60<=2),\"\",IF(A60>=2,F60,Q60)))","v":""}]

{"sheet":"Rangliste Vorrunde","index":1,"n_rows":28,"n_cols":7,"rows_kept":28,"cut":false,"hidden":false,"merged":[[5,0,5,6],[9,0,9,6],[0,0,0,6]]}
["OSM"]
[]
[null,null,null,null,null,null,"Datum:"]
[]
[]
["Turnier Sevelen"]
[]
[null,"Pokal-Sponsor: "]
[]
["Besten Dank fürs mitmachen."]
[]
[null,"Rangliste"]
[]
[null,"1.",{"$f":"'8er'!AO37","v":""}]
[]
[null,"2.",{"$f":"'8er'!AO38","v":""}]
[]
[null,"3.",{"$f":"'8er'!AO39","v":""}]
[]
[null,"4.",{"$f":"'8er'!AO40","v":""}]
[]
[null,"5.",{"$f":"'8er'!AO41","v":""}]
[]
[null,"6.",{"$f":"'8er'!AO42","v":""}]
[]
[null,"7.",{"$f":"'8er'!AO43","v":""}]
[]
[null,"8.",{"$f":"'8er'!AO44","v":""}]

{"sheet":"Rangliste Final","index":2,"n_rows":28,"n_cols":7,"rows_kept":28,"cut":false,"hidden":false,"merged":[[9,0,9,6],[5,0,5,6],[0,0,0,6]]}
["OSM"]
[]
[null,null,null,null,null,null,"Datum:"]
[]
[]
["Turnier Sevelen"]
[]
[null,"Pokal-Sponsor: "]
[]
["Besten Dank fürs mitmachen."]
[]
[null,"Rangliste"]
[]
[null,"1.",{"$f":"'8er'!AO60","v":""}]
[]
[null,"2.",{"$f":"'8er'!AO59","v":""}]
[]
[null,"3.",{"$f":"'8er'!AO58","v":""}]
[]
[null,"4.",{"$f":"'8er'!AO57","v":""}]
[]
[null,"5.",{"$f":"'8er'!AO56","v":""}]
[]
[null,"6.",{"$f":"'8er'!AO55","v":""}]
[]
[null,"7.",{"$f":"'8er'!AO54","v":""}]
[]
[null,"8.",{"$f":"'8er'!AO53","v":""}]