{"text_format":"1","workbook":"xlsx","n_sheets":2,"sheets":["5er DR","Rangliste Final 5er DR"],"not_rendered":{"charts":0,"images":0,"macros":1,"external_links":0,"defined_names":2,"comments":0,"pivot_tables":0},"unopened":[],"bounds":{"document_bytes":16777216,"sheet_cells":100000,"rows_first":2000,"rows_last":500,"rows_between":2000,"halvings":0,"cell_chars":16384,"cell_head_chars":4096},"cells_cut":0,"cells_raw":0,"read":"whole","date_system":"1900"}

{"sheet":"5er DR","index":0,"n_rows":65,"n_cols":39,"rows_kept":65,"cut":false,"hidden":false,"merged":[[0,35,5,35],[51,19,51,20],[51,21,51,22],[51,23,51,24],[51,25,51,26],[51,27,51,28],[51,29,51,30],[51,31,51,33],[52,0,52,1],[52,2,52,18],[52,19,52,20],[52,21,52,22],[52,23,52,24],[52,25,52,26],[52,27,52,28],[52,29,52,30],[52,31,52,33],[49,19,49,20],[49,21,49,22],[49,23,49,24],[49,25,49,26],[49,27,49,28],[49,29,49,30],[49,31,49,33],[50,0,50,1],[50,2,50,18],[50,19,50,20],[50,21,50,22],[50,23,50,24],[50,25,50,26],[50,27,50,28],[50,29,50,30],[50,31,50,33],[47,27,47,28],[47,29,47,30],[47,31,47,33],[48,0,48,1],[48,2,48,18],[48,19,48,20],[48,21,48,22],[48,23,48,24],[48,25,48,26],[48,27,48,28],[48,29,48,30],[48,31,48,33],[42,31,42,33],[43,0,43,1],[43,2,43,18],[43,19,43,20],[43,21,43,22],[43,23,43,24],[44,31,44,33],[44,23,44,24],[44,25,44,26],[44,27,44,28],[44,29,44,30],[43,25,43,26],[43,27,43,28],[43,29,43,30],[43,31,43,33],[42,29,42,30],[40,0,40,1],[40,2,40,18],[40,19,40,20],[40,21,40,22],[40,23,40,24],[44,0,44,1],[44,2,44,18],[44,19,44,20],[44,21,44,22],[41,29,41,30],[34,14,34,16],[34,17,34,28],[35,5,35,13],[35,14,35,16],[35,17,35,28],[36,17,36,28],[41,31,41,33],[39,29,39,30],[39,31,39,33],[40,27,40,28],[40,29,40,30],[40,31,40,33],[41,2,41,18],[41,19,41,20],[41,21,41,22],[41,23,41,24],[39,0,39,1],[39,2,39,18],[39,19,39,20],[39,21,39,22],[39,23,39,24],[39,25,39,26],[39,27,39,28],[57,16,57,26],[61,5,61,12],[40,25,40,26],[41,25,41,26],[41,27,41,28],[42,0,42,1],[42,2,42,18],[42,19,42,20],[42,21,42,22],[41,0,41,1],[42,23,42,24],[42,25,42,26],[42,27,42,28],[47,19,47,20],[47,21,47,22],[47,23,47,24],[47,25,47,26],[64,5,64,12],[57,5,57,12],[58,5,58,12],[58,13,58,15],[61,13,61,15],[16,17,16,28],[15,5,15,13],[15,17,15,28],[26,17,26,28],[27,5,27,13],[27,14,27,16],[27,17,27,28],[16,5,16,13],[30,14,30,16],[30,17,30,28],[31,5,31,13],[31,14,31,16],[31,17,31,28],[28,17,28,28],[29,5,29,13],[29,14,29,16],[29,17,29,28],[56,16,56,26],[32,17,32,28],[8,14,8,16],[9,5,9,13],[24,29,24,30],[24,31,24,33],[24,27,24,28],[24,25,24,26],[23,31,23,33],[21,31,21,33],[19,31,19,33],[19,29,19,30],[12,14,12,16],[11,14,11,16],[14,14,14,16],[13,14,13,16],[10,14,10,16],[9,14,9,16],[15,14,15,16],[14,17,14,28],[8,17,8,28],[9,17,9,28],[10,17,10,28],[23,29,23,30],[23,19,23,20],[24,19,24,20],[24,21,24,22],[20,19,20,20],[21,19,21,20],[19,0,19,1],[20,0,20,1],[20,29,20,30],[20,31,20,33],[20,27,20,28],[21,27,21,28],[21,29,21,30],[19,19,19,20],[22,0,22,1],[22,31,22,33],[22,23,22,24],[22,21,22,22],[22,27,22,28],[21,0,21,1],[22,19,22,20],[22,29,22,30],[23,0,23,1],[24,0,24,1],[57,13,57,15],[26,5,26,13],[26,14,26,16],[28,5,28,13],[28,14,28,16],[30,5,30,13],[32,5,32,13],[32,14,32,16],[36,5,36,13],[36,14,36,16],[47,0,47,1],[47,2,47,18],[49,0,49,1],[49,2,49,18],[51,0,51,1],[51,2,51,18],[56,5,56,12],[33,5,33,13],[33,14,33,16],[33,17,33,28],[34,5,34,13],[23,25,23,26],[0,7,0,24],[2,13,2,19],[20,23,20,24],[21,23,21,24],[20,21,20,22],[21,21,21,22],[6,5,6,13],[7,5,7,13],[7,14,7,16],[6,17,6,28],[11,17,11,28],[12,17,12,28],[13,17,13,28],[2,2,2,9],[11,5,11,13],[12,5,12,13],[13,5,13,13],[14,5,14,13],[2,27,2,33],[3,5,3,12],[19,27,19,28],[19,25,19,26],[19,23,19,24],[19,21,19,22],[64,13,64,15],[23,23,23,24],[23,27,23,28],[5,29,5,33],[56,13,56,15],[6,14,6,16],[7,17,7,28],[10,5,10,13],[8,5,8,13],[24,2,24,18],[23,21,23,22],[61,16,61,26],[64,16,64,26],[16,14,16,16],[58,16,58,26],[19,2,19,18],[20,2,20,18],[21,2,21,18],[22,2,22,18],[23,2,23,18],[24,23,24,24],[20,25,20,26],[21,25,21,26],[22,25,22,26]]}
[null,null,null,null,null,null,null,"OSM",null,null,null,null,null,null,null,null,null,null,null,null,null,null,null,null,null,null,null,null,null,null,null,null,null,null,null,"Prüfung"]
[]
["Turnier:",null,null,null,null,null,null,null,null,null,null,"Datum:",null,null,null,null,null,null,null,null,null,"Gewichtsklasse:"]
["Turnierleiter:"]
[]
[null,null,null,null,null,null,null,null,null,null,null,null,null,null,null,null,null,null,null,null,null,null,null,null,null,null,null,null,null,"5-Turnier DR"]
["P",1,2,3,null,"Teams",null,null,null,null,null,null,null,null,"Z-Nr.",null,null,"Teams",null,null,null,null,null,null,null,null,null,null,null,null,1,2,3,"P","Zeit:"]
[{"$f":"IF(B8=\"\",\"\",IF(C8=\"\",B8,IF(B8+C8=2,3,IF(D8=\"\",B8+C8,B8+C8+D8))))","v":""},null,null,null,"A",{"$f":"IF(C21=\"\",\"\",C21)","v":""},null,null,null,null,null,null,null,null,1,null,null,{"$f":"IF(C22=\"\",\"\",C22)","v":""},null,null,null,null,null,null,null,null,null,null,null,"B",{"$f":"IF(B8=1,\"0\",IF(B8=\"\",\"\",\"1\"))","v":""},{"$f":"IF(C8=1,\"0\",IF(C8=\"\",\"\",\"1\"))","v":""},"",{"$f":"IF(AE8=\"\",\"\",IF(AF8=\"\",AE8,IF(AE8+AF8=2,3,IF(AG8=\"\",AE8+AF8,AE8+AF8+AG8))))","v":""},null,{"$f":"IF(A8=\"\",\"\",IF(AND(A8=1,AF8=1)+OR(C8=\"\")+AND(A8+AH8>3)+OR(A8+AH8=2),\"nicht i.o.\",\"i.o.\"))","v":""}]
["",null,null,null,"C",{"$f":"IF(C23=\"\",\"\",C23)","v":""},null,null,null,null,null,null,null,null,2,null,null,{"$f":"IF(C24=\"\",\"\",C24)","v":""},null,null,null,null,null,null,null,null,null,null,null,"D","","","","",null,""]
["",null,null,null,"E",{"$f":"IF(C25=\"\",\"\",C25)","v":""},null,null,null,null,null,null,null,null,3,null,null,{"$f":"IF(C21=\"\",\"\",C21)","v":""},null,null,null,null,null,null,null,null,null,null,null,"A","","","","",null,""]
["",null,null,null,"B",{"$f":"IF(C22=\"\",\"\",C22)","v":""},null,null,null,null,null,null,null,null,4,null,null,{"$f":"IF(C23=\"\",\"\",C23)","v":""},null,null,null,null,null,null,null,null,null,null,null,"C","","","","",null,""]
["",null,null,null,"D",{"$f":"IF(C24=\"\",\"\",C24)","v":""},null,null,null,null,null,null,null,null,5,null,null,{"$f":"IF(C25=\"\",\"\",C25)","v":""},null,null,null,null,null,null,null,null,null,null,null,"E","","","","",null,""]
["",null,null,null,"A",{"$f":"IF(C21=\"\",\"\",C21)","v":""},null,null,null,null,null,null,null,null,6,null,null,{"$f":"IF(C23=\"\",\"\",C23)","v":""},null,null,null,null,null,null,null,null,null,null,null,"C","","","","",null,""]
["",null,null,null,"E",{"$f":"IF(C25=\"\",\"\",C25)","v":""},null,null,null,null,null,null,null,null,7,null,null,{"$f":"IF(C22=\"\",\"\",C22)","v":""},null,null,null,null,null,null,null,null,null,null,null,"B","","","","",null,""]
["",null,null,null,"D",{"$f":"IF(C24=\"\",\"\",C24)","v":""},null,null,null,null,null,null,null,null,8,null,null,{"$f":"IF(C21=\"\",\"\",C21)","v":""},null,null,null,null,null,null,null,null,null,null,null,"A","","","","",null,""]
["",null,null,null,"C",{"$f":"IF(C23=\"\",\"\",C23)","v":""},null,null,null,null,null,null,null,null,9,null,null,{"$f":"IF(C25=\"\",\"\",C25)","v":""},null,null,null,null,null,null,null,null,null,null,null,"E","","","","",null,""]
["",null,null,null,"B",{"$f":"IF(C22=\"\",\"\",C22)","v":""},null,null,null,null,null,null,null,null,10,null,null,{"$f":"IF(C24=\"\",\"\",C24)","v":""},null,null,null,null,null,null,null,null,null,null,null,"D","","","","",null,""]
[null,null,null,null,null,null,null,null,null,null,null,null,null,null,null,null,null,null,null,null,null,null,null,null,null,null,null,null,null,null,null,null,null,null,null,""]
["Runde 1"]
[null,null,"Teams",null,null,null,null,null,null,null,null,null,null,null,null,null,null,null,null,"A",null,"B",null,"C",null,"D",null,"E",null,"Pt.",null,"Rang"]
["A",null,null,null,null,null,null,null,null,null,null,null,null,null,null,null,null,null,null,null,null,{"$f":"A8","v":""},null,{"$f":"A13","v":""},null,{"$f":"AH15","v":""},null,{"$f":"AH10","v":""},null,{"$f":"IF(A8=\"\",\"\",(IF(T21<>\"\",T21,0))+(IF(V21<>\"\",V21,0))+(IF(X21<>\"\",X21,0))+(IF(Z21<>\"\",Z21,0))+(IF(AB21<>\"\",AB21,0)))","v":""}]
["B",null,null,null,null,null,null,null,null,null,null,null,null,null,null,null,null,null,null,{"$f":"AH8","v":""},null,null,null,{"$f":"A11","v":""},null,{"$f":"A17","v":""},null,{"$f":"AH14","v":""},null,{"$f":"IF(AH8=\"\",\"\",(IF(T22<>\"\",T22,0))+(IF(V22<>\"\",V22,0))+(IF(X22<>\"\",X22,0))+(IF(Z22<>\"\",Z22,0))+(IF(AB22<>\"\",AB22,0)))","v":""}]
["C",null,null,null,null,null,null,null,null,null,null,null,null,null,null,null,null,null,null,{"$f":"AH13","v":""},null,{"$f":"AH11","v":""},null,null,null,{"$f":"A9","v":""},null,{"$f":"A16","v":""},null,{"$f":"IF(A9=\"\",\"\",(IF(T23<>\"\",T23,0))+(IF(V23<>\"\",V23,0))+(IF(X23<>\"\",X23,0))+(IF(Z23<>\"\",Z23,0))+(IF(AB23<>\"\",AB23,0)))","v":""}]
["D",null,null,null,null,null,null,null,null,null,null,null,null,null,null,null,null,null,null,{"$f":"A15","v":""},null,{"$f":"AH17","v":""},null,{"$f":"AH9","v":""},null,null,null,{"$f":"A12","v":""},null,{"$f":"IF(AH9=\"\",\"\",(IF(T24<>\"\",T24,0))+(IF(V24<>\"\",V24,0))+(IF(X24<>\"\",X24,0))+(IF(Z24<>\"\",Z24,0))+(IF(AB24<>\"\",AB24,0)))","v":""}]
["E",null,null,null,null,null,null,null,null,null,null,null,null,null,null,null,null,null,null,{"$f":"A10","v":""},null,{"$f":"A14","v":""},null,{"$f":"AH16","v":""},null,{"$f":"AH12","v":""},null,null,null,{"$f":"IF(A10=\"\",\"\",(IF(T25<>\"\",T25,0))+(IF(V25<>\"\",V25,0))+(IF(X25<>\"\",X25,0))+(IF(Z25<>\"\",Z25,0))+(IF(AB25<>\"\",AB25,0)))","v":""}]
[]
["P",1,2,3,null,"Teams",null,null,null,null,null,null,null,null,"Z-Nr.",null,null,"Teams",null,null,null,null,null,null,null,null,null,null,null,null,1,2,3,"P","Zeit:"]
[{"$f":"IF(B28=\"\",\"\",IF(C28=\"\",B28,IF(B28+C28=2,3,IF(D28=\"\",B28+C28,B28+C28+D28))))","v":""},null,null,null,"A",{"$f":"IF(C41=\"\",\"\",C41)","v":""},null,null,null,null,null,null,null,null,11,null,null,{"$f":"IF(C42=\"\",\"\",C42)","v":""},null,null,null,null,null,null,null,null,null,null,null,"B",{"$f":"IF(B28=1,\"0\",IF(B28=\"\",\"\",\"1\"))","v":""},{"$f":"IF(C28=1,\"0\",IF(C28=\"\",\"\",\"1\"))","v":""},"",{"$f":"IF(AE28=\"\",\"\",IF(AF28=\"\",AE28,IF(AE28+AF28=2,3,IF(AG28=\"\",AE28+AF28,AE28+AF28+AG28))))","v":""},null,""]
["",null,null,null,"C",{"$f":"IF(C43=\"\",\"\",C43)","v":""},null,null,null,null,null,null,null,null,12,null,null,{"$f":"IF(C44=\"\",\"\",C44)","v":""},null,null,null,null,null,null,null,null,null,null,null,"D","","","","",null,""]
["",null,null,null,"E",{"$f":"IF(C45=\"\",\"\",C45)","v":""},null,null,null,null,null,null,null,null,13,null,null,{"$f":"IF(C41=\"\",\"\",C41)","v":""},null,null,null,null,null,null,null,null,null,null,null,"A","","","","",null,""]
["",null,null,null,"B",{"$f":"IF(C42=\"\",\"\",C42)","v":""},null,null,null,null,null,null,null,null,14,null,null,{"$f":"IF(C43=\"\",\"\",C43)","v":""},null,null,null,null,null,null,null,null,null,null,null,"C","","","","",null,""]
["",null,null,null,"D",{"$f":"IF(C44=\"\",\"\",C44)","v":""},null,null,null,null,null,null,null,null,15,null,null,{"$f":"IF(C45=\"\",\"\",C45)","v":""},null,null,null,null,null,null,null,null,null,null,null,"E","","","","",null,""]
["",null,null,null,"A",{"$f":"IF(C41=\"\",\"\",C41)","v":""},null,null,null,null,null,null,null,null,16,null,null,{"$f":"IF(C43=\"\",\"\",C43)","v":""},null,null,null,null,null,null,null,null,null,null,null,"C","","","","",null,""]
["",null,null,null,"E",{"$f":"IF(C45=\"\",\"\",C45)","v":""},null,null,null,null,null,null,null,null,17,null,null,{"$f":"IF(C42=\"\",\"\",C42)","v":""},null,null,null,null,null,null,null,null,null,null,null,"B","","","","",null,""]
["",null,null,null,"D",{"$f":"IF(C44=\"\",\"\",C44)","v":""},null,null,null,null,null,null,null,null,18,null,null,{"$f":"IF(C41=\"\",\"\",C41)","v":""},null,null,null,null,null,null,null,null,null,null,null,"A","","","","",null,""]
["",null,null,null,"C",{"$f":"IF(C43=\"\",\"\",C43)","v":""},null,null,null,null,null,null,null,null,19,null,null,{"$f":"IF(C45=\"\",\"\",C45)","v":""},null,null,null,null,null,null,null,null,null,null,null,"E","","","","",null,""]
["",null,null,null,"B",{"$f":"IF(C42=\"\",\"\",C42)","v":""},null,null,null,null,null,null,null,null,20,null,null,{"$f":"IF(C44=\"\",\"\",C44)","v":""},null,null,null,null,null,null,null,null,null,null,null,"D","","","","",null,""]
[]
["Runde 2"]
[null,null,"Teams",null,null,null,null,null,null,null,null,null,null,null,null,null,null,null,null,"A",null,"B",null,"C",null,"D",null,"E",null,"Pt.",null,"Rang"]
["A",null,{"$f":"IF(C21=\"\",\"\",C21)","v":""},null,null,null,null,null,null,null,null,null,null,null,null,null,null,null,null,null,null,{"$f":"A28","v":""},null,{"$f":"A33","v":""},null,{"$f":"AH35","v":""},null,{"$f":"AH30","v":""},null,{"$f":"IF(A28=\"\",\"\",(IF(T41<>\"\",T41,0))+(IF(V41<>\"\",V41,0))+(IF(X41<>\"\",X41,0))+(IF(Z41<>\"\",Z41,0))+(IF(AB41<>\"\",AB41,0)))","v":""}]
["B",null,{"$f":"IF(C22=\"\",\"\",C22)","v":""},null,null,null,null,null,null,null,null,null,null,null,null,null,null,null,null,{"$f":"AH28","v":""},null,null,null,{"$f":"A31","v":""},null,{"$f":"A37","v":""},null,{"$f":"AH34","v":""},null,{"$f":"IF(AH28=\"\",\"\",(IF(T42<>\"\",T42,0))+(IF(V42<>\"\",V42,0))+(IF(X42<>\"\",X42,0))+(IF(Z42<>\"\",Z42,0))+(IF(AB42<>\"\",AB42,0)))","v":""}]
["C",null,{"$f":"IF(C23=\"\",\"\",C23)","v":""},null,null,null,null,null,null,null,null,null,null,null,null,null,null,null,null,{"$f":"AH33","v":""},null,{"$f":"AH31","v":""},null,null,null,{"$f":"A29","v":""},null,{"$f":"A36","v":""},null,{"$f":"IF(A29=\"\",\"\",(IF(T43<>\"\",T43,0))+(IF(V43<>\"\",V43,0))+(IF(X43<>\"\",X43,0))+(IF(Z43<>\"\",Z43,0))+(IF(AB43<>\"\",AB43,0)))","v":""}]
["D",null,{"$f":"IF(C24=\"\",\"\",C24)","v":""},null,null,null,null,null,null,null,null,null,null,null,null,null,null,null,null,{"$f":"A35","v":""},null,{"$f":"AH37","v":""},null,{"$f":"AH29","v":""},null,null,null,{"$f":"A32","v":""},null,{"$f":"IF(AH29=\"\",\"\",(IF(T44<>\"\",T44,0))+(IF(V44<>\"\",V44,0))+(IF(X44<>\"\",X44,0))+(IF(Z44<>\"\",Z44,0))+(IF(AB44<>\"\",AB44,0)))","v":""}]
["E",null,{"$f":"IF(C25=\"\",\"\",C25)","v":""},null,null,null,null,null,null,null,null,null,null,null,null,null,null,null,null,{"$f":"A30","v":""},null,{"$f":"A34","v":""},null,{"$f":"AH36","v":""},null,{"$f":"AH32","v":""},null,null,null,{"$f":"IF(A30=\"\",\"\",(IF(T45<>\"\",T45,0))+(IF(V45<>\"\",V45,0))+(IF(X45<>\"\",X45,0))+(IF(Z45<>\"\",Z45,0))+(IF(AB45<>\"\",AB45,0)))","v":""}]
[]
["Total Doppelrunde"]
[null,null,"Teams",null,null,null,null,null,null,null,null,null,null,null,null,null,null,null,null,"A",null,"B",null,"C",null,"D",null,"E",null,"Pt.",null,"Rang"]
["A",null,{"$f":"IF(C21=\"\",\"\",C21)","v":""},null,null,null,null,null,null,null,null,null,null,null,null,null,null,null,null,null,null,{"$f":"V21+V41","v":{"$error":"#VALUE!"}},null,{"$f":"X21+X41","v":{"$error":"#VALUE!"}},null,{"$f":"Z21+Z41","v":{"$error":"#VALUE!"}},null,{"$f":"AB21+AB41","v":{"$error":"#VALUE!"}},null,{"$f":"V49+X49+Z49+AB49","v":{"$error":"#VALUE!"}}]
["B",null,{"$f":"IF(C22=\"\",\"\",C22)","v":""},null,null,null,null,null,null,null,null,null,null,null,null,null,null,null,null,{"$f":"T22+T42","v":{"$error":"#VALUE!"}},null,null,null,{"$f":"X22+X42","v":{"$error":"#VALUE!"}},null,{"$f":"Z22+Z42","v":{"$error":"#VALUE!"}},null,{"$f":"AB22+AB42","v":{"$error":"#VALUE!"}},null,{"$f":"T50+V50+X50+Z50+AB50","v":{"$error":"#VALUE!"}}]
["C",null,{"$f":"IF(C23=\"\",\"\",C23)","v":""},null,null,null,null,null,null,null,null,null,null,null,null,null,null,null,null,{"$f":"T23+T43","v":{"$error":"#VALUE!"}},null,{"$f":"V23+V43","v":{"$error":"#VALUE!"}},null,{"$f":"X23+X43","v":0},null,{"$f":"Z23+Z43","v":{"$error":"#VALUE!"}},null,{"$f":"AB23+AB43","v":{"$error":"#VALUE!"}},null,{"$f":"T51+V51+X51+Z51+AB51","v":{"$error":"#VALUE!"}}]
["D",null,{"$f":"IF(C24=\"\",\"\",C24)","v":""},null,null,null,null,null,null,null,null,null,null,null,null,null,null,null,null,{"$f":"T24+T44","v":{"$error":"#VALUE!"}},null,{"$f":"V24+V44","v":{"$error":"#VALUE!"}},null,{"$f":"X24+X44","v":{"$error":"#VALUE!"}},null,{"$f":"Z24+Z44","v":0},null,{"$f":"AB24+AB44","v":{"$error":"#VALUE!"}},null,{"$f":"T52+V52+X52+Z52+AB52","v":{"$error":"#VALUE!"}}]
["E",null,{"$f":"IF(C25=\"\",\"\",C25)","v":""},null,null,null,null,null,null,null,null,null,null,null,null,null,null,null,null,{"$f":"T25+T45","v":{"$error":"#VALUE!"}},null,{"$f":"V25+V45","v":{"$error":"#VALUE!"}},null,{"$f":"X25+X45","v":{"$error":"#VALUE!"}},null,{"$f":"Z25+Z45","v":{"$error":"#VALUE!"}},null,{"$f":"AB25+AB45","v":0},null,{"$f":"T53+V53+X53+Z53+AB53","v":{"$error":"#VALUE!"}}]
[]
[]
["½ -Finals",null,null,null,null,null,null,null,null,null,null,null,null,null,null,null,null,null,null,null,null,null,null,null,null,null,null,null,null,null,null,null,null,null,null,null,null,null,"Rangliste Final"]
["P",1,2,3,null,"Teams",null,null,null,null,null,null,null,"Z-Nr.",null,null,"Teams",null,null,null,null,null,null,null,null,null,null,null,1,2,3,"P"]
[{"$f":"IF(B58=\"\",\"\",IF(C58=\"\",B58,IF(B58+C58=2,3,IF(D58=\"\",B58+C58,B58+C58+D58))))","v":""},null,null,null,{"$f":"IF(AF21=\"\",\"\",IF(AF21=1,A21,IF(AF22=1,A22,IF(AF23=1,A23,IF(AF24=1,A24,IF(AF25=1,A25))))))","v":""},{"$f":"IF(AF49=\"\",\"\",IF(AF49=1,C49,IF(AF50=1,C50,IF(AF51=1,C51,IF(AF52=1,C52,IF(AF53=1,C53))))))","v":""},null,null,null,null,null,null,null,21,null,null,{"$f":"IF(AF49=\"\",\"\",IF(AF49=4,C49,IF(AF50=4,C50,IF(AF51=4,C51,IF(AF52=4,C52,IF(AF53=4,C53))))))","v":""},null,null,null,null,null,null,null,null,null,null,{"$f":"IF(AF21=\"\",\"\",IF(AF21=4,A21,IF(AF22=4,A22,IF(AF23=4,A23,IF(AF24=4,A24,IF(AF25=4,A25))))))","v":""},{"$f":"IF(B58=1,\"0\",IF(B58=\"\",\"\",\"1\"))","v":""},{"$f":"IF(C58=1,\"0\",IF(C58=\"\",\"\",\"1\"))","v":""},{"$f":"IF(D58=1,\"0\",IF(D58=\"\",\"\",\"1\"))","v":""},{"$f":"IF(AC58=\"\",\"\",IF(AD58=\"\",AC58,IF(AC58+AD58=2,3,IF(AE58=\"\",AC58+AD58,AC58+AD58+AE58))))","v":""},null,{"$f":"IF(A58=\"\",\"\",IF(AND(A58=1,AF58=1)+OR(C58=\"\")+AND(A58+AF58>3)+OR(A58+AF58=2),\"nicht i.o.\",\"i.o.\"))","v":""}]
[{"$f":"IF(B59=\"\",\"\",IF(C59=\"\",B59,IF(B59+C59=2,3,IF(D59=\"\",B59+C59,B59+C59+D59))))","v":""},null,null,null,{"$f":"IF(AF21=\"\",\"\",IF(AF21=2,A21,IF(AF22=2,A22,IF(AF23=2,A23,IF(AF24=2,A24,IF(AF25=2,A25))))))","v":""},{"$f":"IF(AF49=\"\",\"\",IF(AF49=2,C49,IF(AF50=2,C50,IF(AF51=2,C51,IF(AF52=2,C52,IF(AF53=2,C53))))))","v":""},null,null,null,null,null,null,null,22,null,null,{"$f":"IF(AF49=\"\",\"\",IF(AF49=3,C49,IF(AF50=3,C50,IF(AF51=3,C51,IF(AF52=3,C52,IF(AF53=3,C53))))))","v":""},null,null,null,null,null,null,null,null,null,null,{"$f":"IF(AF21=\"\",\"\",IF(AF21=3,A21,IF(AF22=3,A22,IF(AF23=3,A23,IF(AF24=3,A24,IF(AF25=3,A25))))))","v":""},{"$f":"IF(B59=1,\"0\",IF(B59=\"\",\"\",\"1\"))","v":""},{"$f":"IF(C59=1,\"0\",IF(C59=\"\",\"\",\"1\"))","v":""},"",{"$f":"IF(AC59=\"\",\"\",IF(AD59=\"\",AC59,IF(AC59+AD59=2,3,IF(AE59=\"\",AC59+AD59,AC59+AD59+AE59))))","v":""},null,{"$f":"IF(A59=\"\",\"\",IF(AND(A59=1,AF59=1)+OR(C59=\"\")+AND(A59+AF59>3)+OR(A59+AF59=2),\"nicht i.o.\",\"i.o.\"))","v":""}]
[null,null,null,null,null,null,null,null,null,null,null,null,null,null,null,null,null,null,null,null,null,null,null,null,null,null,null,null,null,null,null,null,null,{"$f":"IF(A60=\"\",\"\",IF(AND(A60=1,AF60=1)+OR(C60=\"\")+AND(A60+AF60>3)+OR(A60+AF60=2),\"nicht i.o.\",\"i.o.\"))","v":""}]
["Kleiner Final",null,null,null,null,null,null,null,null,null,null,null,null,null,null,null,null,null,null,null,null,null,null,null,null,null,null,null,null,null,null,null,null,null,null,null,5,null,{"$f":"IF(AF49=\"\",\"\",IF(AF49=5,C49,IF(AF50=5,C50,IF(AF51=5,C51,IF(AF52=5,C52,IF(AF53=5,C53))))))","v":""}]
[{"$f":"IF(B62=\"\",\"\",IF(C62=\"\",B62,IF(B62+C62=2,3,IF(D62=\"\",B62+C62,B62+C62+D62))))","v":""},null,null,null,{"$f":"IF(A58=\"\",\"\",IF(A58>1,AB58,E58))","v":""},{"$f":"IF(A58=\"\",\"\",IF(A58>1,Q58,F58))","v":""},null,null,null,null,null,null,null,23,null,null,{"$f":"IF(A59=\"\",\"\",IF(A59>1,Q59,F59))","v":""},null,null,null,null,null,null,null,null,null,null,{"$f":"IF(A59=\"\",\"\",IF(A59>1,AB59,E59))","v":""},{"$f":"IF(B62=1,\"0\",IF(B62=\"\",\"\",\"1\"))","v":""},{"$f":"IF(C62=1,\"0\",IF(C62=\"\",\"\",\"1\"))","v":""},{"$f":"IF(D62=1,\"0\",IF(D62=\"\",\"\",\"1\"))","v":""},{"$f":"IF(AC62=\"\",\"\",IF(AD62=\"\",AC62,IF(AC62+AD62=2,3,IF(AE62=\"\",AC62+AD62,AC62+AD62+AE62))))","v":""},null,{"$f":"IF(A62=\"\",\"\",IF(AND(A62=1,AF62=1)+OR(C62=\"\")+AND(A62+AF62>3)+OR(A62+AF62=2),\"nicht i.o.\",\"i.o.\"))","v":""},null,null,4,null,{"$f":"IF(C49=\"\",\"\",IF(OR(A62=\"\",A62+AF62>3,A62+AF62<=2),\"\",IF(A62<=1,F62,Q62)))","v":""}]
[null,null,null,null,null,null,null,null,null,null,null,null,null,null,null,null,null,null,null,null,null,null,null,null,null,null,null,null,null,null,null,null,null,{"$f":"IF(A63=\"\",\"\",IF(AND(A63=1,AF63=1)+OR(C63=\"\")+AND(A63+AF63>3)+OR(A63+AF63=2),\"nicht i.o.\",\"i.o.\"))","v":""},null,null,3,null,{"$f":"IF(C49=\"\",\"\",IF(OR(A62=\"\",A62+AF62>3,A62+AF62<=2),\"\",IF(A62>=2,F62,Q62)))","v":""}]
["Final",null,null,null,null,null,null,null,null,null,null,null,null,null,null,null,null,null,null,null,null,null,null,null,null,null,null,null,null,null,null,null,null,null,null,null,2,null,{"$f":"IF(C49=\"\",\"\",IF(OR(A65=\"\",A65+AF65>3,A65+AF65<=2),\"\",IF(A65<=1,F65,Q65)))","v":""}]
[{"$f":"IF(B65=\"\",\"\",IF(C65=\"\",B65,IF(B65+C65=2,3,IF(D65=\"\",B65+C65,B65+C65+D65))))","v":""},null,null,null,{"$f":"IF(A58=\"\",\"\",IF(A58>1,E58,AB58))","v":""},{"$f":"IF(A58=\"\",\"\",IF(A58>1,F58,Q58))","v":""},null,null,null,null,null,null,null,24,null,null,{"$f":"IF(A59=\"\",\"\",IF(A59>1,F59,Q59))","v":""},null,null,null,null,null,null,null,null,null,null,{"$f":"IF(A59=\"\",\"\",IF(A59>1,E59,AB59))","v":""},{"$f":"IF(B65=1,\"0\",IF(B65=\"\",\"\",\"1\"))","v":""},{"$f":"IF(C65=1,\"0\",IF(C65=\"\",\"\",\"1\"))","v":""},{"$f":"IF(D65=1,\"0\",IF(D65=\"\",\"\",\"1\"))","v":""},{"$f":"IF(AC65=\"\",\"\",IF(AD65=\"\",AC65,IF(AC65+AD65=2,3,IF(AE65=\"\",AC65+AD65,AC65+AD65+AE65))))","v":""},null,{"$f":"IF(A65=\"\",\"\",IF(AND(A65=1,AF65=1)+OR(C65=\"\")+AND(A65+AF65>3)+OR(A65+AF65=2),\"nicht i.o.\",\"i.o.\"))","v":""},null,null,1,null,{"$f":"IF(C49=\"\",\"\",IF(OR(A65=\"\",A65+AF65>3,A65+AF65<=2),\"\",IF(A65>=2,F65,Q65)))","v":""}]

{"sheet":"Rangliste Final 5er DR","index":1,"n_rows":17,"n_cols":6,"rows_kept":17,"cut":false,"hidden":false,"merged":[[4,0,4,6],[8,0,8,6],[0,0,0,6]]}
["OSM"]
[]
[null,null,null,null,null,"Datum:"]
[]
["Turnier Sevelen"]
[]
[null,"Pokal-Sponsor: "]
[]
["Besten Dank fürs mitmachen."]
[]
[null,"Rangliste"]
[]
[null,"1.",{"$f":"'5er DR'!F58","v":""}]
[null,"2.",{"$f":"'5er DR'!F59","v":""}]
[null,"3.",{"$f":"'5er DR'!Q59","v":""}]
[null,"4.",{"$f":"'5er DR'!Q58","v":""}]
[null,"5.",{"$f":"'5er DR'!AM61","v":""}]