{"text_format":"1","workbook":"xlsx","n_sheets":4,"sheets":["9er Gr1","9er Gr2","Rangliste Final","Worktab"],"not_rendered":{"charts":0,"images":0,"macros":1,"external_links":0,"defined_names":3,"comments":0,"pivot_tables":0},"unopened":[],"bounds":{"document_bytes":16777216,"sheet_cells":100000,"rows_first":2000,"rows_last":500,"rows_between":2000,"halvings":0,"cell_chars":16384,"cell_head_chars":4096},"cells_cut":0,"cells_raw":0,"read":"whole","date_system":"1900"}

{"sheet":"9er Gr1","index":0,"n_rows":75,"n_cols":38,"rows_kept":75,"cut":false,"hidden":false,"merged":[[0,6,0,21],[55,14,55,15],[50,2,50,14],[37,5,37,13],[37,14,37,15],[37,16,37,24],[38,5,38,13],[38,14,38,15],[38,16,38,24],[45,2,45,14],[1,2,1,8],[1,12,1,16],[1,23,1,27],[2,4,2,11],[35,14,35,15],[35,16,35,24],[30,5,30,13],[30,14,30,15],[30,16,30,24],[31,5,31,13],[31,14,31,15],[31,16,31,24],[32,5,32,13],[32,14,32,15],[56,14,56,15],[47,2,47,14],[48,2,48,14],[49,2,49,14],[64,14,64,15],[62,14,62,15],[36,5,36,13],[36,14,36,15],[36,16,36,24],[51,2,51,14],[39,5,39,13],[39,14,39,15],[39,16,39,24],[58,14,58,15],[60,14,60,15],[54,14,54,15],[74,14,74,15],[7,5,7,13],[7,14,7,15],[7,16,7,24],[8,14,8,15],[9,14,9,15],[10,14,10,15],[40,5,40,13],[40,14,40,15],[40,16,40,24],[72,14,72,15],[68,14,68,15],[70,14,70,15],[42,2,42,14],[43,2,43,14],[44,2,44,14],[66,14,66,15],[33,5,33,13],[33,14,33,15],[33,16,33,24],[34,5,34,13],[34,14,34,15],[34,16,34,24],[35,5,35,13],[32,16,32,24],[27,5,27,13],[27,14,27,15],[27,16,27,24],[28,5,28,13],[28,14,28,15],[28,16,28,24],[29,5,29,13],[29,14,29,15],[29,16,29,24],[24,5,24,13],[24,14,24,15],[24,16,24,24],[25,5,25,13],[25,14,25,15],[25,16,25,24],[26,5,26,13],[26,14,26,15],[26,16,26,24],[21,5,21,13],[21,14,21,15],[21,16,21,24],[22,5,22,13],[22,14,22,15],[22,16,22,24],[23,5,23,13],[23,14,23,15],[23,16,23,24],[18,5,18,13],[18,14,18,15],[18,16,18,24],[19,5,19,13],[19,14,19,15],[19,16,19,24],[20,5,20,13],[20,14,20,15],[20,16,20,24],[15,5,15,13],[15,14,15,15],[15,16,15,24],[16,5,16,13],[16,14,16,15],[16,16,16,24],[17,5,17,13],[17,14,17,15],[17,16,17,24],[12,14,12,15],[12,16,12,24],[11,14,11,15],[13,5,13,13],[13,14,13,15],[13,16,13,24],[14,5,14,13],[14,14,14,15],[14,16,14,24],[51,0,51,1],[51,24,51,25],[51,26,51,27],[50,0,50,1],[50,24,50,25],[50,26,50,27],[4,5,4,13],[4,14,4,15],[4,16,4,24],[5,5,5,13],[5,14,5,15],[5,16,5,24],[9,5,9,13],[9,16,9,24],[10,5,10,13],[10,16,10,24],[6,14,6,15],[6,16,6,24],[8,5,8,13],[8,16,8,24],[6,5,6,13],[11,5,11,13],[11,16,11,24],[12,5,12,13],[47,0,47,1],[47,24,47,25],[47,26,47,27],[46,0,46,1],[46,24,46,25],[46,26,46,27],[49,0,49,1],[49,24,49,25],[49,26,49,27],[48,0,48,1],[48,24,48,25],[48,26,48,27],[46,2,46,14],[42,26,42,27],[42,24,42,25],[42,0,42,1],[43,0,43,1],[43,24,43,25],[43,26,43,27],[45,0,45,1],[45,24,45,25],[45,26,45,27],[44,0,44,1],[44,24,44,25],[44,26,44,27],[70,5,70,13],[72,5,72,13],[74,5,74,13],[54,16,54,24],[55,16,55,24],[56,16,56,24],[58,16,58,24],[60,16,60,24],[62,16,62,24],[64,16,64,24],[66,16,66,24],[68,16,68,24],[70,16,70,24],[72,16,72,24],[74,16,74,24],[54,5,54,13],[55,5,55,13],[56,5,56,13],[58,5,58,13],[60,5,60,13],[62,5,62,13],[64,5,64,13],[66,5,66,13],[68,5,68,13]]}
[null,null,null,null,null,null,"OSM",null,null,null,null,null,null,null,null,null,null,null,null,null,null,null,null,null,null,null,null,null,null,null," "]
["Turnier:",null,null,null,null,null,null,null,null,null,"Datum:",null,null,null,null,null,null,null,"Gewichtsklasse:",null,null,null,null,"Gr. 1"]
["Turnierleiter:"]
[null,null,null,null,null,null,null,null,null,null,null,null,null,null,null,null,null,null,null,null,null,null,null,null,"9-Turnier"]
["P",1,2,3,null,"Teams",null,null,null,null,null,null,null,null,"Z-Nr.",null,"Teams",null,null,null,null,null,null,null,null,null,1,2,3,"P","Zeit:","Prüfung"]
[{"$f":"IF(B6=\"\",\"\",IF(C6=\"\",B6,IF(B6+C6=2,3,IF(D6=\"\",B6+C6,B6+C6+D6))))","v":""},null,null,null,"A",{"$f":"IF(C44=\"\",\"\",C44)","v":""},null,null,null,null,null,null,null,null,1,null,{"$f":"IF(C45=\"\",\"\",C45)","v":""},null,null,null,null,null,null,null,null,"B",{"$f":"IF(B6=1,\"0\",IF(B6=\"\",\"\",\"1\"))","v":""},{"$f":"IF(C6=1,\"0\",IF(C6=\"\",\"\",\"1\"))","v":""},{"$f":"IF(D6=1,\"0\",IF(D6=\"\",\"\",\"1\"))","v":""},{"$f":"IF(AA6=\"\",\"\",IF(AB6=\"\",AA6,IF(AA6+AB6=2,3,IF(AC6=\"\",AA6+AB6,AA6+AB6+AC6))))","v":""},null,{"$f":"IF(A6=\"\",\"\",IF(AND(A6=1,AB6=1)+OR(C6=\"\")+AND(A6+AD6>3)+OR(A6+AD6=2),\"nicht i.o.\",\"i.o.\"))","v":""}]
[{"$f":"IF(B7=\"\",\"\",IF(C7=\"\",B7,IF(B7+C7=2,3,IF(D7=\"\",B7+C7,B7+C7+D7))))","v":""},null,null,null,"C",{"$f":"IF(C46=\"\",\"\",C46)","v":""},null,null,null,null,null,null,null,null,2,null,{"$f":"IF(C47=\"\",\"\",C47)","v":""},null,null,null,null,null,null,null,null,"D",{"$f":"IF(B7=1,\"0\",IF(B7=\"\",\"\",\"1\"))","v":""},{"$f":"IF(C7=1,\"0\",IF(C7=\"\",\"\",\"1\"))","v":""},{"$f":"IF(D7=1,\"0\",IF(D7=\"\",\"\",\"1\"))","v":""},{"$f":"IF(AA7=\"\",\"\",IF(AB7=\"\",AA7,IF(AA7+AB7=2,3,IF(AC7=\"\",AA7+AB7,AA7+AB7+AC7))))","v":""},null,{"$f":"IF(A7=\"\",\"\",IF(AND(A7=1,AB7=1)+OR(C7=\"\")+AND(A7+AD7>3)+OR(A7+AD7=2),\"nicht i.o.\",\"i.o.\"))","v":""}]
["",null,null,null,"E",{"$f":"IF(C48=\"\",\"\",C48)","v":""},null,null,null,null,null,null,null,null,3,null,{"$f":"IF(C49=\"\",\"\",C49)","v":""},null,null,null,null,null,null,null,null,"F","","","","",null,""]
["",null,null,null,"G",{"$f":"IF(C50=\"\",\"\",C50)","v":""},null,null,null,null,null,null,null,null,4,null,{"$f":"IF(C51=\"\",\"\",C51)","v":""},null,null,null,null,null,null,null,null,"H","","","","",null,""]
["",null,null,null,"I",{"$f":"IF(C52=\"\",\"\",C52)","v":""},null,null,null,null,null,null,null,null,5,null,{"$f":"IF(C44=\"\",\"\",C44)","v":""},null,null,null,null,null,null,null,null,"A","","","","",null,""]
["",null,null,null,"B",{"$f":"IF(C45=\"\",\"\",C45)","v":""},null,null,null,null,null,null,null,null,6,null,{"$f":"IF(C46=\"\",\"\",C46)","v":""},null,null,null,null,null,null,null,null,"C","","","","",null,""]
["",null,null,null,"F",{"$f":"IF(C49=\"\",\"\",C49)","v":""},null,null,null,null,null,null,null,null,7,null,{"$f":"IF(C50=\"\",\"\",C50)","v":""},null,null,null,null,null,null,null,null,"G","","","","",null,""]
["",null,null,null,"D",{"$f":"IF(C47=\"\",\"\",C47)","v":""},null,null,null,null,null,null,null,null,8,null,{"$f":"IF(C48=\"\",\"\",C48)","v":""},null,null,null,null,null,null,null,null,"E","","","","",null,""]
["",null,null,null,"H",{"$f":"IF(C51=\"\",\"\",C51)","v":""},null,null,null,null,null,null,null,null,9,null,{"$f":"IF(C52=\"\",\"\",C52)","v":""},null,null,null,null,null,null,null,null,"I","","","","",null,""]
["",null,null,null,"A",{"$f":"IF(C44=\"\",\"\",C44)","v":""},null,null,null,null,null,null,null,null,10,null,{"$f":"IF(C46=\"\",\"\",C46)","v":""},null,null,null,null,null,null,null,null,"C","","","","",null,""]
["",null,null,null,"B",{"$f":"IF(C45=\"\",\"\",C45)","v":""},null,null,null,null,null,null,null,null,11,null,{"$f":"IF(C47=\"\",\"\",C47)","v":""},null,null,null,null,null,null,null,null,"D","","","","",null,""]
["",null,null,null,"G",{"$f":"IF(C50=\"\",\"\",C50)","v":""},null,null,null,null,null,null,null,null,12,null,{"$f":"IF(C52=\"\",\"\",C52)","v":""},null,null,null,null,null,null,null,null,"I","","","","",null,""]
["",null,null,null,"C",{"$f":"IF(C46=\"\",\"\",C46)","v":""},null,null,null,null,null,null,null,null,13,null,{"$f":"IF(C48=\"\",\"\",C48)","v":""},null,null,null,null,null,null,null,null,"E","","","","",null,""]
["",null,null,null,"D",{"$f":"IF(C47=\"\",\"\",C47)","v":""},null,null,null,null,null,null,null,null,14,null,{"$f":"IF(C49=\"\",\"\",C49)","v":""},null,null,null,null,null,null,null,null,"F","","","","",null,""]
["",null,null,null,"B",{"$f":"IF(C45=\"\",\"\",C45)","v":""},null,null,null,null,null,null,null,null,15,null,{"$f":"IF(C52=\"\",\"\",C52)","v":""},null,null,null,null,null,null,null,null,"I","","","","",null,""]
["",null,null,null,"E",{"$f":"IF(C48=\"\",\"\",C48)","v":""},null,null,null,null,null,null,null,null,16,null,{"$f":"IF(C50=\"\",\"\",C50)","v":""},null,null,null,null,null,null,null,null,"G","","","","",null,""]
["",null,null,null,"F",{"$f":"IF(C49=\"\",\"\",C49)","v":""},null,null,null,null,null,null,null,null,17,null,{"$f":"IF(C51=\"\",\"\",C51)","v":""},null,null,null,null,null,null,null,null,"H","","","","",null,""]
["",null,null,null,"A",{"$f":"IF(C44=\"\",\"\",C44)","v":""},null,null,null,null,null,null,null,null,18,null,{"$f":"IF(C47=\"\",\"\",C47)","v":""},null,null,null,null,null,null,null,null,"D","","","","",null,""]
["",null,null,null,"B",{"$f":"IF(C45=\"\",\"\",C45)","v":""},null,null,null,null,null,null,null,null,19,null,{"$f":"IF(C48=\"\",\"\",C48)","v":""},null,null,null,null,null,null,null,null,"E","","","","",null,""]
["",null,null,null,"C",{"$f":"IF(C46=\"\",\"\",C46)","v":""},null,null,null,null,null,null,null,null,20,null,{"$f":"IF(C49=\"\",\"\",C49)","v":""},null,null,null,null,null,null,null,null,"F","","","","",null,""]
["",null,null,null,"D",{"$f":"IF(C47=\"\",\"\",C47)","v":""},null,null,null,null,null,null,null,null,21,null,{"$f":"IF(C50=\"\",\"\",C50)","v":""},null,null,null,null,null,null,null,null,"G","","","","",null,""]
["",null,null,null,"E",{"$f":"IF(C48=\"\",\"\",C48)","v":""},null,null,null,null,null,null,null,null,22,null,{"$f":"IF(C51=\"\",\"\",C51)","v":""},null,null,null,null,null,null,null,null,"H","","","","",null,""]
["",null,null,null,"B",{"$f":"IF(C45=\"\",\"\",C45)","v":""},null,null,null,null,null,null,null,null,23,null,{"$f":"IF(C49=\"\",\"\",C49)","v":""},null,null,null,null,null,null,null,null,"F","","","","",null,""]
["",null,null,null,"C",{"$f":"IF(C46=\"\",\"\",C46)","v":""},null,null,null,null,null,null,null,null,24,null,{"$f":"IF(C52=\"\",\"\",C52)","v":""},null,null,null,null,null,null,null,null,"I","","","","",null,""]
["",null,null,null,"A",{"$f":"IF(C44=\"\",\"\",C44)","v":""},null,null,null,null,null,null,null,null,25,null,{"$f":"IF(C48=\"\",\"\",C48)","v":""},null,null,null,null,null,null,null,null,"E","","","","",null,""]
["",null,null,null,"D",{"$f":"IF(C47=\"\",\"\",C47)","v":""},null,null,null,null,null,null,null,null,26,null,{"$f":"IF(C51=\"\",\"\",C51)","v":""},null,null,null,null,null,null,null,null,"H","","","","",null,""]
["",null,null,null,"F",{"$f":"IF(C49=\"\",\"\",C49)","v":""},null,null,null,null,null,null,null,null,27,null,{"$f":"IF(C52=\"\",\"\",C52)","v":""},null,null,null,null,null,null,null,null,"I","","","","",null,""]
["",null,null,null,"B",{"$f":"IF(C45=\"\",\"\",C45)","v":""},null,null,null,null,null,null,null,null,28,null,{"$f":"IF(C50=\"\",\"\",C50)","v":""},null,null,null,null,null,null,null,null,"G","","","","",null,""]
["",null,null,null,"A",{"$f":"IF(C44=\"\",\"\",C44)","v":""},null,null,null,null,null,null,null,null,29,null,{"$f":"IF(C51=\"\",\"\",C51)","v":""},null,null,null,null,null,null,null,null,"H","","","",""," ",""]
["",null,null,null,"D",{"$f":"IF(C47=\"\",\"\",C47)","v":""},null,null,null,null,null,null,null,null,30,null,{"$f":"IF(C52=\"\",\"\",C52)","v":""},null,null,null,null,null,null,null,null,"I","","","","",null,""]
["",null,null,null,"C",{"$f":"IF(C46=\"\",\"\",C46)","v":""},null,null,null,null,null,null,null,null,31,null,{"$f":"IF(C50=\"\",\"\",C50)","v":""},null,null,null,null,null,null,null,null,"G","","","","",null,""]
["",null,null,null,"B",{"$f":"IF(C45=\"\",\"\",C45)","v":""},null,null,null,null,null,null,null,null,32,null,{"$f":"IF(C51=\"\",\"\",C51)","v":""},null,null,null,null,null,null,null,null,"H","","","","",null,""]
["",null,null,null,"A",{"$f":"IF(C44=\"\",\"\",C44)","v":""},null,null,null,null,null,null,null,null,33,null,{"$f":"IF(C49=\"\",\"\",C49)","v":""},null,null,null,null,null,null,null,null,"F","","","","",null,""]
["",null,null,null,"E",{"$f":"IF(C48=\"\",\"\",C48)","v":""},null,null,null,null,null,null,null,null,34,null,{"$f":"IF(C52=\"\",\"\",C52)","v":""},null,null,null,null,null,null,null,null,"I","","","","",null,""]
["",null,null,null,"C",{"$f":"IF(C46=\"\",\"\",C46)","v":""},null,null,null,null,null,null,null,null,35,null,{"$f":"IF(C51=\"\",\"\",C51)","v":""},null,null,null,null,null,null,null,null,"H","","","","",null,""]
["",null,null,null,"A",{"$f":"IF(C44=\"\",\"\",C44)","v":""},null,null,null,null,null,null,null,null,36,null,{"$f":"IF(C50=\"\",\"\",C50)","v":""},null,null,null,null,null,null,null,null,"G","","","","",null,""]
[null,null,null,null,null,null,null,null,null,null,null,null,null,null,null,null,null,null,null,null,null,null,null,null,null,null,null,null,null,null,null,""]
[null,null,"Teams",null,null,null,null,null,null,null,null,null,null,null,null,"A","B","C","D","E","F","G","H","I","Pt.",null,"Rang",null,null,null,null,""]
["A",null,null,null,null,null,null,null,null,null,null,null,null,null,null,null,{"$f":"A6","v":""},{"$f":"A15","v":""},{"$f":"A23","v":""},{"$f":"A30","v":""},{"$f":"A38","v":""},{"$f":"A41","v":""},{"$f":"A34","v":""},{"$f":"AD10","v":""},{"$f":"IF(A6=\"\",\"\",(IF(P44<>\"\",P44,0))+(IF(Q44<>\"\",Q44,0))+(IF(R44<>\"\",R44,0))+(IF(S44<>\"\",S44,0))+(IF(T44<>\"\",T44,0))+(IF(U44<>\"\",U44,0))+(IF(V44<>\"\",V44,0))+(IF(W44<>\"\",W44,0))+(IF(X44<>\"\",X44,0)))","v":""}]
["B",null,null,null,null,null,null,null,null,null,null,null,null,null,null,{"$f":"AD6","v":""},null,{"$f":"A11","v":""},{"$f":"A16","v":""},{"$f":"A24","v":""},{"$f":"A28","v":""},{"$f":"A33","v":""},{"$f":"A37","v":""},{"$f":"A20","v":""},{"$f":"IF(A6=\"\",\"\",(IF(P45<>\"\",P45,0))+(IF(Q45<>\"\",Q45,0))+(IF(R45<>\"\",R45,0))+(IF(S45<>\"\",S45,0))+(IF(T45<>\"\",T45,0))+(IF(U45<>\"\",U45,0))+(IF(V45<>\"\",V45,0))+(IF(W45<>\"\",W45,0))+(IF(X45<>\"\",X45,0)))","v":""}]
["C",null,null,null,null,null,null,null,null,null,null,null,null,null,null,{"$f":"AD15","v":""},{"$f":"AD11","v":""},null,{"$f":"A7","v":""},{"$f":"A18","v":""},{"$f":"A25","v":""},{"$f":"A36","v":""},{"$f":"A40","v":""},{"$f":"A29","v":""},{"$f":"IF(A7=\"\",\"\",(IF(P46<>\"\",P46,0))+(IF(Q46<>\"\",Q46,0))+(IF(R46<>\"\",R46,0))+(IF(S46<>\"\",S46,0))+(IF(T46<>\"\",T46,0))+(IF(U46<>\"\",U46,0))+(IF(V46<>\"\",V46,0))+(IF(W46<>\"\",W46,0))+(IF(X46<>\"\",X46,0)))","v":""}]
["D",null,null,null,null,null,null,null,null,null,null,null,null,null,null,{"$f":"AD23","v":""},{"$f":"AD16","v":""},{"$f":"AD7","v":""},null,{"$f":"A13","v":""},{"$f":"A19","v":""},{"$f":"A26","v":""},{"$f":"A31","v":""},{"$f":"A35","v":""},{"$f":"IF(A7=\"\",\"\",(IF(P47<>\"\",P47,0))+(IF(Q47<>\"\",Q47,0))+(IF(R47<>\"\",R47,0))+(IF(S47<>\"\",S47,0))+(IF(T47<>\"\",T47,0))+(IF(U47<>\"\",U47,0))+(IF(V47<>\"\",V47,0))+(IF(W47<>\"\",W47,0))+(IF(X47<>\"\",X47,0)))","v":""}]
["E",null,null,null,null,null,null,null,null,null,null,null,null,null,null,{"$f":"AD30","v":""},{"$f":"AD24","v":""},{"$f":"AD18","v":""},{"$f":"AD13","v":""},null,{"$f":"A8","v":""},{"$f":"A21","v":""},{"$f":"A27","v":""},{"$f":"A39","v":""},{"$f":"IF(A8=\"\",\"\",(IF(P48<>\"\",P48,0))+(IF(Q48<>\"\",Q48,0))+(IF(R48<>\"\",R48,0))+(IF(S48<>\"\",S48,0))+(IF(T48<>\"\",T48,0))+(IF(U48<>\"\",U48,0))+(IF(V48<>\"\",V48,0))+(IF(W48<>\"\",W48,0))+(IF(X48<>\"\",X48,0)))","v":""}]
["F",null,null,null,null,null,null,null,null,null,null,null,null,null,null,{"$f":"AD38","v":""},{"$f":"AD28","v":""},{"$f":"AD25","v":""},{"$f":"AD19","v":""},{"$f":"AD8","v":""},null,{"$f":"A12","v":""},{"$f":"A22","v":""},{"$f":"A32","v":""},{"$f":"IF(A8=\"\",\"\",(IF(P49<>\"\",P49,0))+(IF(Q49<>\"\",Q49,0))+(IF(R49<>\"\",R49,0))+(IF(S49<>\"\",S49,0))+(IF(T49<>\"\",T49,0))+(IF(U49<>\"\",U49,0))+(IF(V49<>\"\",V49,0))+(IF(W49<>\"\",W49,0))+(IF(X49<>\"\",X49,0)))","v":""}]
["G",null,null,null,null,null,null,null,null,null,null,null,null,null,null,{"$f":"AD41","v":""},{"$f":"AD33","v":""},{"$f":"AD36","v":""},{"$f":"AD26","v":""},{"$f":"AD21","v":""},{"$f":"AD12","v":""},null,{"$f":"A9","v":""},{"$f":"A17","v":""},{"$f":"IF(A9=\"\",\"\",(IF(P50<>\"\",P50,0))+(IF(Q50<>\"\",Q50,0))+(IF(R50<>\"\",R50,0))+(IF(S50<>\"\",S50,0))+(IF(T50<>\"\",T50,0))+(IF(U50<>\"\",U50,0))+(IF(V50<>\"\",V50,0))+(IF(W50<>\"\",W50,0))+(IF(X50<>\"\",X50,0)))","v":""}]
["H",null,null,null,null,null,null,null,null,null,null,null,null,null,null,{"$f":"AD34","v":""},{"$f":"AD37","v":""},{"$f":"AD40","v":""},{"$f":"AD31","v":""},{"$f":"AD27","v":""},{"$f":"AD22","v":""},{"$f":"AD9","v":""},null,{"$f":"A14","v":""},{"$f":"IF(A9=\"\",\"\",(IF(P51<>\"\",P51,0))+(IF(Q51<>\"\",Q51,0))+(IF(R51<>\"\",R51,0))+(IF(S51<>\"\",S51,0))+(IF(T51<>\"\",T51,0))+(IF(U51<>\"\",U51,0))+(IF(V51<>\"\",V51,0))+(IF(W51<>\"\",W51,0))+(IF(X51<>\"\",X51,0)))","v":""}]
["I",null,null,null,null,null,null,null,null,null,null,null,null,null,null,{"$f":"A10","v":""},{"$f":"AD20","v":""},{"$f":"AD29","v":""},{"$f":"AD35","v":""},{"$f":"AD39","v":""},{"$f":"AD32","v":""},{"$f":"AD17","v":""},{"$f":"AD14","v":""},null,{"$f":"IF(A10=\"\",\"\",(IF(P52<>\"\",P52,0))+(IF(Q52<>\"\",Q52,0))+(IF(R52<>\"\",R52,0))+(IF(S52<>\"\",S52,0))+(IF(T52<>\"\",T52,0))+(IF(U52<>\"\",U52,0))+(IF(V52<>\"\",V52,0))+(IF(W52<>\"\",W52,0))+(IF(X52<>\"\",X52,0)))","v":""}]
[null,null,null,null,null,null,null,null,null,null,null,null,null,null,null,null,null,null,null,null,null,null,null,null,null,null,null,null,null,null,null,""]
["½ -Finals"]
["P",1,2,3,null,"Teams",null,null,null,null,null,null,null,null,"Z-Nr.",null,"Teams",null,null,null,null,null,null,null,null,null,1,2,3,"P"]
[{"$f":"IF(B56=\"\",\"\",IF(C56=\"\",B56,IF(B56+C56=2,3,IF(D56=\"\",B56+C56,B56+C56+D56))))","v":""},null,null,null,{"$f":"IF(Worktab!A1<>\"\",Worktab!A1,IF(AA50=1,A50,IF(AA51=1,A51,IF(AA52=1,A52,\"\"))))","v":""},{"$f":"IF(Worktab!B1<>\"\",Worktab!B1,IF(AA50=1,C50,IF(AA51=1,C51,IF(AA52=1,C52,\"\"))))","v":""},null,null,null,null,null,null,null,null,73,null,{"$f":"IF(Worktab!F2<>\"\",Worktab!F2,IF('9er Gr2'!AA50=2,'9er Gr2'!C50,IF('9er Gr2'!AA51=2,'9er Gr2'!C51,IF('9er Gr2'!AA52=2,'9er Gr2'!C52,\"\"))))","v":""},null,null,null,null,null,null,null,null,{"$f":"IF(Worktab!E2<>\"\",Worktab!E2,IF('9er Gr2'!AA50=2,'9er Gr2'!A50,IF('9er Gr2'!AA51=2,'9er Gr2'!A51,IF('9er Gr2'!AA52=2,'9er Gr2'!A52,\"\"))))","v":""},{"$f":"IF(B56=1,\"0\",IF(B56=\"\",\"\",\"1\"))","v":""},"","",{"$f":"IF(AA56=\"\",\"\",IF(AB56=\"\",AA56,IF(AA56+AB56=2,3,IF(AC56=\"\",AA56+AB56,AA56+AB56+AC56))))","v":""},null,"",null,null,null,"Rangliste Final"]
[{"$f":"IF(B57=\"\",\"\",IF(C57=\"\",B57,IF(B57+C57=2,3,IF(D57=\"\",B57+C57,B57+C57+D57))))","v":""},null,null,null,{"$f":"IF(Worktab!E1<>\"\",Worktab!E1,IF('9er Gr2'!AA50=1,'9er Gr2'!A50,IF('9er Gr2'!AA51=1,'9er Gr2'!A51,IF('9er Gr2'!AA52=1,'9er Gr2'!A52,\"\"))))","v":""},{"$f":"IF(Worktab!F1<>\"\",Worktab!F1,IF('9er Gr2'!AA50=1,'9er Gr2'!C50,IF('9er Gr2'!AA51=1,'9er Gr2'!C51,IF('9er Gr2'!AA52=1,'9er Gr2'!C52,\"\"))))","v":""},null,null,null,null,null,null,null,null,74,null,{"$f":"IF(Worktab!B2<>\"\",Worktab!B2,IF(AA50=2,C50,IF(AA51=2,C51,IF(AA52=2,C52,\"\"))))","v":""},null,null,null,null,null,null,null,null,{"$f":"IF(Worktab!A2<>\"\",Worktab!A2,IF(AA50=2,A50,IF(AA51=2,A51,IF(AA52=2,A52,\"\"))))","v":""},"","","",{"$f":"IF(AA57=\"\",\"\",IF(AB57=\"\",AA57,IF(AA57+AB57=2,3,IF(AC57=\"\",AA57+AB57,AA57+AB57+AC57))))","v":""},null,""]
["Plazierungszug 17./18.",null,null,null,null,null,null,null,null,null,null,null,null,null,null,null,null,null,null,null,null,null,null,null,null,null,null,null,null,null,null,null,null,null,null,18,null,{"$f":"IF(C$44=\"\",\"\",IF(OR(A59=\"\",A59+AD59>3,A59+AD59<=2),\"\",IF(A59<=1,F59,Q59)))","v":""}]
[{"$f":"IF(B59=\"\",\"\",IF(C59=\"\",B59,IF(B59+C59=2,3,IF(D59=\"\",B59+C59,B59+C59+D59))))","v":""},null,null,null,{"$f":"IF(Worktab!A9<>\"\",Worktab!A9,IF(AA50=9,A50,IF(AA51=9,A51,IF(AA52=9,A52,\"\"))))","v":""},{"$f":"IF(Worktab!B9<>\"\",Worktab!B9,IF(AA50=9,C50,IF(AA51=9,C51,IF(AA52=9,C52,\"\"))))","v":""},null,null,null,null,null,null,null,null,75,null,{"$f":"IF(Worktab!F9<>\"\",Worktab!F9,IF('9er Gr2'!AA50=9,'9er Gr2'!C50,IF('9er Gr2'!AA51=9,'9er Gr2'!C51,IF('9er Gr2'!AA52=9,'9er Gr2'!C52,\"\"))))","v":""},null,null,null,null,null,null,null,null,{"$f":"IF(Worktab!E9<>\"\",Worktab!E9,IF('9er Gr2'!AA50=9,'9er Gr2'!A50,IF('9er Gr2'!AA51=9,'9er Gr2'!A51,IF('9er Gr2'!AA52=9,'9er Gr2'!A52,\"\"))))","v":""},{"$f":"IF(B59=1,\"0\",IF(B59=\"\",\"\",\"1\"))","v":""},{"$f":"IF(C59=1,\"0\",IF(C59=\"\",\"\",\"1\"))","v":""},{"$f":"IF(D59=1,\"0\",IF(D59=\"\",\"\",\"1\"))","v":""},{"$f":"IF(AA59=\"\",\"\",IF(AB59=\"\",AA59,IF(AA59+AB59=2,3,IF(AC59=\"\",AA59+AB59,AA59+AB59+AC59))))","v":""},null,"",null,null,null,17,null,{"$f":"IF(C$44=\"\",\"\",IF(OR(A59=\"\",A59+AD59>3,A59+AD59<=2),\"\",IF(A59>=2,F59,Q59)))","v":""}]
["Plazierungszug 15./16.",null,null,null,null,null,null,null,null,null,null,null,null,null,null,null,null,null,null,null,null,null,null,null,null,null,null,null,null,null,null,null,null,null,null,16,null,{"$f":"IF(C$44=\"\",\"\",IF(OR(A61=\"\",A61+AD61>3,A61+AD61<=2),\"\",IF(A61<=1,F61,Q61)))","v":""}]
[{"$f":"IF(B61=\"\",\"\",IF(C61=\"\",B61,IF(B61+C61=2,3,IF(D61=\"\",B61+C61,B61+C61+D61))))","v":""},null,null,null,{"$f":"IF(Worktab!A8<>\"\",Worktab!A8,IF(AA50=8,A50,IF(AA51=8,A51,IF(AA52=8,A52,\"\"))))","v":""},{"$f":"IF(Worktab!B8<>\"\",Worktab!B8,IF(AA50=8,C50,IF(AA51=8,C51,IF(AA52=8,C52,\"\"))))","v":""},null,null,null,null,null,null,null,null,76,null,{"$f":"IF(Worktab!F8<>\"\",Worktab!F8,IF('9er Gr2'!AA50=8,'9er Gr2'!C50,IF('9er Gr2'!AA51=8,'9er Gr2'!C51,IF('9er Gr2'!AA52=8,'9er Gr2'!C52,\"\"))))","v":""},null,null,null,null,null,null,null,null,{"$f":"IF(Worktab!E8<>\"\",Worktab!E8,IF('9er Gr2'!AA50=8,'9er Gr2'!A50,IF('9er Gr2'!AA51=8,'9er Gr2'!A51,IF('9er Gr2'!AA52=8,'9er Gr2'!A52,\"\"))))","v":""},{"$f":"IF(B61=1,\"0\",IF(B61=\"\",\"\",\"1\"))","v":""},{"$f":"IF(C61=1,\"0\",IF(C61=\"\",\"\",\"1\"))","v":""},{"$f":"IF(D61=1,\"0\",IF(D61=\"\",\"\",\"1\"))","v":""},{"$f":"IF(AA61=\"\",\"\",IF(AB61=\"\",AA61,IF(AA61+AB61=2,3,IF(AC61=\"\",AA61+AB61,AA61+AB61+AC61))))","v":""},null,"",null,null,null,15,null,{"$f":"IF(C$44=\"\",\"\",IF(OR(A61=\"\",A61+AD61>3,A61+AD61<=2),\"\",IF(A61>=2,F61,Q61)))","v":""}]
["Plazierungszug 13./14.",null,null,null,null,null,null,null,null,null,null,null,null,null,null,null,null,null,null,null,null,null,null,null,null,null,null,null,null,null,null,null,null,null,null,14,null,{"$f":"IF(C$44=\"\",\"\",IF(OR(A63=\"\",A63+AD63>3,A63+AD63<=2),\"\",IF(A63<=1,F63,Q63)))","v":""}]
[{"$f":"IF(B63=\"\",\"\",IF(C63=\"\",B63,IF(B63+C63=2,3,IF(D63=\"\",B63+C63,B63+C63+D63))))","v":""},null,null,null,{"$f":"IF(Worktab!A7<>\"\",Worktab!A7,IF(AA50=7,A50,IF(AA51=7,A51,IF(AA52=7,A52,\"\"))))","v":""},{"$f":"IF(Worktab!B7<>\"\",Worktab!B7,IF(AA50=7,C50,IF(AA51=7,C51,IF(AA52=7,C52,\"\"))))","v":""},null,null,null,null,null,null,null,null,77,null,{"$f":"IF(Worktab!F7<>\"\",Worktab!F7,IF('9er Gr2'!AA50=7,'9er Gr2'!C50,IF('9er Gr2'!AA51=7,'9er Gr2'!C51,IF('9er Gr2'!AA52=7,'9er Gr2'!C52,\"\"))))","v":""},null,null,null,null,null,null,null,null,{"$f":"IF(Worktab!E7<>\"\",Worktab!E7,IF('9er Gr2'!AA50=7,'9er Gr2'!A50,IF('9er Gr2'!AA51=7,'9er Gr2'!A51,IF('9er Gr2'!AA52=7,'9er Gr2'!A52,\"\"))))","v":""},{"$f":"IF(B63=1,\"0\",IF(B63=\"\",\"\",\"1\"))","v":""},{"$f":"IF(C63=1,\"0\",IF(C63=\"\",\"\",\"1\"))","v":""},{"$f":"IF(D63=1,\"0\",IF(D63=\"\",\"\",\"1\"))","v":""},{"$f":"IF(AA63=\"\",\"\",IF(AB63=\"\",AA63,IF(AA63+AB63=2,3,IF(AC63=\"\",AA63+AB63,AA63+AB63+AC63))))","v":""},null,"",null,null,null,13,null,{"$f":"IF(C$44=\"\",\"\",IF(OR(A63=\"\",A63+AD63>3,A63+AD63<=2),\"\",IF(A63>=2,F63,Q63)))","v":""}]
["Plazierungszug 11./12.",null,null,null,null,null,null,null,null,null,null,null,null,null,null,null,null,null,null,null,null,null,null,null,null,null,null,null,null,null,null,null,null,null,null,12,null,{"$f":"IF(C$44=\"\",\"\",IF(OR(A65=\"\",A65+AD65>3,A65+AD65<=2),\"\",IF(A65<=1,F65,Q65)))","v":""}]
[{"$f":"IF(B65=\"\",\"\",IF(C65=\"\",B65,IF(B65+C65=2,3,IF(D65=\"\",B65+C65,B65+C65+D65))))","v":""},null,null,null,{"$f":"IF(Worktab!A6<>\"\",Worktab!A6,IF(AA50=6,A50,IF(AA51=6,A51,IF(AA52=6,A52,\"\"))))","v":""},{"$f":"IF(Worktab!B6<>\"\",Worktab!B6,IF(AA50=6,C50,IF(AA51=6,C51,IF(AA52=6,C52,\"\"))))","v":""},null,null,null,null,null,null,null,null,78,null,{"$f":"IF(Worktab!F6<>\"\",Worktab!F6,IF('9er Gr2'!AA50=6,'9er Gr2'!C50,IF('9er Gr2'!AA51=6,'9er Gr2'!C51,IF('9er Gr2'!AA52=6,'9er Gr2'!C52,\"\"))))","v":""},null,null,null,null,null,null,null,null,{"$f":"IF(Worktab!E6<>\"\",Worktab!E6,IF('9er Gr2'!AA50=6,'9er Gr2'!A50,IF('9er Gr2'!AA51=6,'9er Gr2'!A51,IF('9er Gr2'!AA52=6,'9er Gr2'!A52,\"\"))))","v":""},{"$f":"IF(B65=1,\"0\",IF(B65=\"\",\"\",\"1\"))","v":""},{"$f":"IF(C65=1,\"0\",IF(C65=\"\",\"\",\"1\"))","v":""},{"$f":"IF(D65=1,\"0\",IF(D65=\"\",\"\",\"1\"))","v":""},{"$f":"IF(AA65=\"\",\"\",IF(AB65=\"\",AA65,IF(AA65+AB65=2,3,IF(AC65=\"\",AA65+AB65,AA65+AB65+AC65))))","v":""},null,"",null,null,null,11,null,{"$f":"IF(C$44=\"\",\"\",IF(OR(A65=\"\",A65+AD65>3,A65+AD65<=2),\"\",IF(A65>=2,F65,Q65)))","v":""}]
["Plazierungszug 9./10.",null,null,null,null,null,null,null,null,null,null,null,null,null,null,null,null,null,null,null,null,null,null,null,null,null,null,null,null,null,null,null,null,null,null,10,null,{"$f":"IF(C$44=\"\",\"\",IF(OR(A67=\"\",A67+AD67>3,A67+AD67<=2),\"\",IF(A67<=1,F67,Q67)))","v":""}]
[{"$f":"IF(B67=\"\",\"\",IF(C67=\"\",B67,IF(B67+C67=2,3,IF(D67=\"\",B67+C67,B67+C67+D67))))","v":""},null,null,null,{"$f":"IF(Worktab!A5<>\"\",Worktab!A5,IF(AA50=5,A50,IF(AA51=5,A51,IF(AA52=5,A52,\"\"))))","v":""},{"$f":"IF(Worktab!B5<>\"\",Worktab!B5,IF(AA50=5,C50,IF(AA51=5,C51,IF(AA52=5,C52,\"\"))))","v":""},null,null,null,null,null,null,null,null,79,null,{"$f":"IF(Worktab!F5<>\"\",Worktab!F5,IF('9er Gr2'!AA50=5,'9er Gr2'!C50,IF('9er Gr2'!AA51=5,'9er Gr2'!C51,IF('9er Gr2'!AA52=5,'9er Gr2'!C52,\"\"))))","v":""},null,null,null,null,null,null,null,null,{"$f":"IF(Worktab!E5<>\"\",Worktab!E5,IF('9er Gr2'!AA50=5,'9er Gr2'!A50,IF('9er Gr2'!AA51=5,'9er Gr2'!A51,IF('9er Gr2'!AA52=5,'9er Gr2'!A52,\"\"))))","v":""},{"$f":"IF(B67=1,\"0\",IF(B67=\"\",\"\",\"1\"))","v":""},{"$f":"IF(C67=1,\"0\",IF(C67=\"\",\"\",\"1\"))","v":""},{"$f":"IF(D67=1,\"0\",IF(D67=\"\",\"\",\"1\"))","v":""},{"$f":"IF(AA67=\"\",\"\",IF(AB67=\"\",AA67,IF(AA67+AB67=2,3,IF(AC67=\"\",AA67+AB67,AA67+AB67+AC67))))","v":""},null,"",null,null,null,9,null,{"$f":"IF(C$44=\"\",\"\",IF(OR(A67=\"\",A67+AD67>3,A67+AD67<=2),\"\",IF(A67>=2,F67,Q67)))","v":""}]
["Plazierungszug 7./8.",null,null,null,null,null,null,null,null,null,null,null,null,null,null,null,null,null,null,null,null,null,null,null,null,null,null,null,null,null,null,null,null,null,null,8,null,{"$f":"IF(C46=\"\",\"\",IF(OR(A69=\"\",A69+AD69>3,A69+AD69<=2),\"\",IF(A69<=1,F69,Q69)))","v":""}]
[{"$f":"IF(B69=\"\",\"\",IF(C69=\"\",B69,IF(B69+C69=2,3,IF(D69=\"\",B69+C69,B69+C69+D69))))","v":""},null,null,null,{"$f":"IF(Worktab!A4<>\"\",Worktab!A4,IF(AA50=4,A50,IF(AA51=4,A51,IF(AA52=4,A52,\"\"))))","v":""},{"$f":"IF(Worktab!B4<>\"\",Worktab!B4,IF(AA50=4,C50,IF(AA51=4,C51,IF(AA52=4,C52,\"\"))))","v":""},null,null,null,null,null,null,null,null,80,null,{"$f":"IF(Worktab!F4<>\"\",Worktab!F4,IF('9er Gr2'!AA50=4,'9er Gr2'!C50,IF('9er Gr2'!AA51=4,'9er Gr2'!C51,IF('9er Gr2'!AA52=4,'9er Gr2'!C52,\"\"))))","v":""},null,null,null,null,null,null,null,null,{"$f":"IF(Worktab!E4<>\"\",Worktab!E4,IF('9er Gr2'!AA50=4,'9er Gr2'!A50,IF('9er Gr2'!AA51=4,'9er Gr2'!A51,IF('9er Gr2'!AA52=4,'9er Gr2'!A52,\"\"))))","v":""},{"$f":"IF(B69=1,\"0\",IF(B69=\"\",\"\",\"1\"))","v":""},{"$f":"IF(C69=1,\"0\",IF(C69=\"\",\"\",\"1\"))","v":""},{"$f":"IF(D69=1,\"0\",IF(D69=\"\",\"\",\"1\"))","v":""},{"$f":"IF(AA69=\"\",\"\",IF(AB69=\"\",AA69,IF(AA69+AB69=2,3,IF(AC69=\"\",AA69+AB69,AA69+AB69+AC69))))","v":""},null,"",null,null,null,7,null,{"$f":"IF(C46=\"\",\"\",IF(OR(A69=\"\",A69+AD69>3,A69+AD69<=2),\"\",IF(A69>=2,F69,Q69)))","v":""}]
["Plazierungszug 5./6.",null,null,null,null,null,null,null,null,null,null,null,null,null,null,null,null,null,null,null,null,null,null,null,null,null,null,null,null,null,null,null,null,null,null,6,null,{"$f":"IF(C46=\"\",\"\",IF(OR(A71=\"\",A71+AD71>3,A71+AD71<=2),\"\",IF(A71<=1,F71,Q71)))","v":""}]
[{"$f":"IF(B71=\"\",\"\",IF(C71=\"\",B71,IF(B71+C71=2,3,IF(D71=\"\",B71+C71,B71+C71+D71))))","v":""},null,null,null,{"$f":"IF(Worktab!A3<>\"\",Worktab!A3,IF(AA50=3,A50,IF(AA51=3,A51,IF(AA52=3,A52,\"\"))))","v":""},{"$f":"IF(Worktab!B3<>\"\",Worktab!B3,IF(AA50=3,C50,IF(AA51=3,C51,IF(AA52=3,C52,\"\"))))","v":""},null,null,null,null,null,null,null,null,81,null,{"$f":"IF(Worktab!F3<>\"\",Worktab!F3,IF('9er Gr2'!AA50=3,'9er Gr2'!C50,IF('9er Gr2'!AA51=3,'9er Gr2'!C51,IF('9er Gr2'!AA52=3,'9er Gr2'!C52,\"\"))))","v":""},null,null,null,null,null,null,null,null,{"$f":"IF(Worktab!E3<>\"\",Worktab!E3,IF('9er Gr2'!AA50=3,'9er Gr2'!A50,IF('9er Gr2'!AA51=3,'9er Gr2'!A51,IF('9er Gr2'!AA52=3,'9er Gr2'!A52,\"\"))))","v":""},{"$f":"IF(B71=1,\"0\",IF(B71=\"\",\"\",\"1\"))","v":""},{"$f":"IF(C71=1,\"0\",IF(C71=\"\",\"\",\"1\"))","v":""},{"$f":"IF(D71=1,\"0\",IF(D71=\"\",\"\",\"1\"))","v":""},{"$f":"IF(AA71=\"\",\"\",IF(AB71=\"\",AA71,IF(AA71+AB71=2,3,IF(AC71=\"\",AA71+AB71,AA71+AB71+AC71))))","v":""}," ",{"$f":"IF(A71=\"\",\"\",IF(AND(A71=1,AB71=1)+OR(C71=\"\")+AND(A71+AD71>3)+OR(A71+AD71=2),\"nicht i.o.\",\"i.o.\"))","v":""},null,null,null,5,null,{"$f":"IF(C46=\"\",\"\",IF(OR(A71=\"\",A71+AD71>3,A71+AD71<=2),\"\",IF(A71>=2,F71,Q71)))","v":""}]
["Kleiner Final",null,null,null,null,null,null,null,null,null,null,null,null,null,null,null,null,null,null,null,null,null,null,null,null,null,null,null,null,null,null,null,null,null,null,4,null,{"$f":"IF(C46=\"\",\"\",IF(OR(A73=\"\",A73+AD73>3,A73+AD73<=2),\"\",IF(A73<=1,F73,Q73)))","v":""}]
[{"$f":"IF(B73=\"\",\"\",IF(C73=\"\",B73,IF(B73+C73=2,3,IF(D73=\"\",B73+C73,B73+C73+D73))))","v":""},null,null,null,{"$f":"IF(A56=\"\",\"\",IF(A56>1,Z56,E56))","v":""},{"$f":"IF(A56=\"\",\"\",IF(A56>1,Q56,F56))","v":""},null,null,null,null,null,null,null,null,82,null,{"$f":"IF(A57=\"\",\"\",IF(A57>1,Q57,F57))","v":""},null,null,null,null,null,null,null,null,{"$f":"IF(A57=\"\",\"\",IF(A57>1,Z57,E57))","v":""},{"$f":"IF(B73=1,\"0\",IF(B73=\"\",\"\",\"1\"))","v":""},{"$f":"IF(C73=1,\"0\",IF(C73=\"\",\"\",\"1\"))","v":""},{"$f":"IF(D73=1,\"0\",IF(D73=\"\",\"\",\"1\"))","v":""},{"$f":"IF(AA73=\"\",\"\",IF(AB73=\"\",AA73,IF(AA73+AB73=2,3,IF(AC73=\"\",AA73+AB73,AA73+AB73+AC73))))","v":""},null,"",null,null,null,3,null,{"$f":"IF(C46=\"\",\"\",IF(OR(A73=\"\",A73+AD73>3,A73+AD73<=2),\"\",IF(A73>=2,F73,Q73)))","v":""}]
["Final",null,null,null,null,null,null,null,null,null,null,null,null,null,null,null,null,null,null,null,null,null,null,null,null,null,null,null,null,null,null,null,null,null,null,2,null,{"$f":"IF(C46=\"\",\"\",IF(OR(A75=\"\",A75+AD75>3,A75+AD75<=2),\"\",IF(A75<=1,F75,Q75)))","v":""}]
[{"$f":"IF(B75=\"\",\"\",IF(C75=\"\",B75,IF(B75+C75=2,3,IF(D75=\"\",B75+C75,B75+C75+D75))))","v":""},null,null,null,{"$f":"IF(A56=\"\",\"\",IF(A56<2,Z56,E56))","v":""},{"$f":"IF(A56=\"\",\"\",IF(A56<2,Q56,F56))","v":""},null,null,null,null,null,null,null,null,83,null,{"$f":"IF(A57=\"\",\"\",IF(A57<2,Q57,F57))","v":""},null,null,null,null,null,null,null,null,{"$f":"IF(A57=\"\",\"\",IF(A57<2,Z57,E57))","v":""},{"$f":"IF(B75=1,\"0\",IF(B75=\"\",\"\",\"1\"))","v":""},{"$f":"IF(C75=1,\"0\",IF(C75=\"\",\"\",\"1\"))","v":""},{"$f":"IF(D75=1,\"0\",IF(D75=\"\",\"\",\"1\"))","v":""},{"$f":"IF(AA75=\"\",\"\",IF(AB75=\"\",AA75,IF(AA75+AB75=2,3,IF(AC75=\"\",AA75+AB75,AA75+AB75+AC75))))","v":""},null,"",null,null,null,1,null,{"$f":"IF(C46=\"\",\"\",IF(OR(A75=\"\",A75+AD75>3,A75+AD75<=2),\"\",IF(A75>=2,F75,Q75)))","v":""}]

{"sheet":"9er Gr2","index":1,"n_rows":65,"n_cols":40,"rows_kept":65,"cut":false,"hidden":false,"merged":[[6,14,6,15],[6,16,6,24],[8,5,8,13],[8,16,8,24],[6,5,6,13],[9,5,9,13],[9,16,9,24],[4,5,4,13],[4,14,4,15],[45,0,45,1],[45,24,45,25],[45,26,45,27],[44,0,44,1],[44,24,44,25],[44,26,44,27],[44,2,44,14],[45,2,45,14],[42,26,42,27],[42,24,42,25],[42,0,42,1],[43,0,43,1],[43,24,43,25],[43,26,43,27],[48,0,48,1],[48,24,48,25],[48,26,48,27],[48,2,48,14],[49,2,49,14],[47,0,47,1],[47,24,47,25],[47,26,47,27],[46,0,46,1],[46,24,46,25],[46,26,46,27],[46,2,46,14],[47,2,47,14],[51,0,51,1],[51,24,51,25],[51,26,51,27],[50,0,50,1],[50,24,50,25],[50,26,50,27],[49,0,49,1],[49,24,49,25],[49,26,49,27],[50,2,50,14],[51,2,51,14],[15,5,15,13],[15,14,15,15],[15,16,15,24],[16,5,16,13],[16,14,16,15],[16,16,16,24],[4,16,4,24],[5,5,5,13],[5,14,5,15],[5,16,5,24],[13,5,13,13],[13,14,13,15],[13,16,13,24],[14,5,14,13],[14,14,14,15],[14,16,14,24],[10,5,10,13],[10,16,10,24],[11,5,11,13],[11,16,11,24],[12,5,12,13],[12,14,12,15],[12,16,12,24],[11,14,11,15],[19,5,19,13],[19,14,19,15],[19,16,19,24],[20,5,20,13],[20,14,20,15],[20,16,20,24],[17,5,17,13],[17,14,17,15],[17,16,17,24],[18,5,18,13],[18,14,18,15],[18,16,18,24],[23,5,23,13],[23,14,23,15],[23,16,23,24],[24,5,24,13],[24,14,24,15],[24,16,24,24],[21,5,21,13],[21,14,21,15],[21,16,21,24],[22,5,22,13],[22,14,22,15],[22,16,22,24],[30,16,30,24],[27,5,27,13],[27,14,27,15],[27,16,27,24],[28,5,28,13],[28,14,28,15],[28,16,28,24],[25,5,25,13],[25,14,25,15],[25,16,25,24],[26,5,26,13],[26,14,26,15],[26,16,26,24],[1,23,1,27],[2,4,2,11],[10,14,10,15],[42,2,42,14],[43,2,43,14],[39,5,39,13],[39,14,39,15],[39,16,39,24],[37,5,37,13],[37,14,37,15],[37,16,37,24],[38,5,38,13],[38,14,38,15],[38,16,38,24],[35,5,35,13],[35,14,35,15],[35,16,35,24],[36,5,36,13],[36,14,36,15],[36,16,36,24],[33,5,33,13],[33,14,33,15],[30,5,30,13],[30,14,30,15],[0,6,0,21],[7,5,7,13],[7,14,7,15],[7,16,7,24],[8,14,8,15],[9,14,9,15],[1,2,1,8],[1,12,1,16],[40,5,40,13],[40,14,40,15],[40,16,40,24],[33,16,33,24],[34,5,34,13],[34,14,34,15],[34,16,34,24],[31,5,31,13],[31,14,31,15],[31,16,31,24],[32,5,32,13],[32,14,32,15],[32,16,32,24],[29,5,29,13],[29,14,29,15],[29,16,29,24]]}
[null,null,null,null,null,null,{"$f":"'9er Gr1'!G1:V1","v":"OSM"}]
["Turnier:",null,null,null,null,null,null,null,null,null,"Datum:",null,null,null,null,null,null,null,"Gewichtsklasse:",null,null,null,null,"Gr. 2"]
["Turnierleiter:"]
[null,null,null,null,null,null,null,null,null,null,null,null,null,null,null,null,null,null,null,null,null,null,null,null,"9-Turnier"]
["P",1,2,3,null,"Teams",null,null,null,null,null,null,null,null,"Z-Nr.",null,"Teams",null,null,null,null,null,null,null,null,null,1,2,3,"P","Zeit:","Prüfung",null,null,"Z-Nr"]
[{"$f":"IF(B6=\"\",\"\",IF(C6=\"\",B6,IF(B6+C6=2,3,IF(D6=\"\",B6+C6,B6+C6+D6))))","v":""},null,null,null,"A",{"$f":"IF(C44=\"\",\"\",C44)","v":""},null,null,null,null,null,null,null,null,{"$f":"CONCATENATE(AL6,AM6,AI6,AN6)","v":"1(37)"},null,{"$f":"IF(C45=\"\",\"\",C45)","v":""},null,null,null,null,null,null,null,null,"B",{"$f":"IF(B6=1,\"0\",IF(B6=\"\",\"\",\"1\"))","v":""},{"$f":"IF(C6=1,\"0\",IF(C6=\"\",\"\",\"1\"))","v":""},{"$f":"IF(D6=1,\"0\",IF(D6=\"\",\"\",\"1\"))","v":""},{"$f":"IF(AA6=\"\",\"\",IF(AB6=\"\",AA6,IF(AA6+AB6=2,3,IF(AC6=\"\",AA6+AB6,AA6+AB6+AC6))))","v":""},null,{"$f":"IF(A6=\"\",\"\",IF(AND(A6=1,AB6=1)+OR(C6=\"\")+AND(A6+AD6>3)+OR(A6+AD6=2),\"nicht i.o.\",\"i.o.\"))","v":""},null,null,37,null,null,1,"(",")"]
[{"$f":"IF(B7=\"\",\"\",IF(C7=\"\",B7,IF(B7+C7=2,3,IF(D7=\"\",B7+C7,B7+C7+D7))))","v":""},null,null,null,"C",{"$f":"IF(C46=\"\",\"\",C46)","v":""},null,null,null,null,null,null,null,null,{"$f":"CONCATENATE(AL7,AM7,AI7,AN7)","v":"2(38)"},null,{"$f":"IF(C47=\"\",\"\",C47)","v":""},null,null,null,null,null,null,null,null,"D",{"$f":"IF(B7=1,\"0\",IF(B7=\"\",\"\",\"1\"))","v":""},{"$f":"IF(C7=1,\"0\",IF(C7=\"\",\"\",\"1\"))","v":""},{"$f":"IF(D7=1,\"0\",IF(D7=\"\",\"\",\"1\"))","v":""},{"$f":"IF(AA7=\"\",\"\",IF(AB7=\"\",AA7,IF(AA7+AB7=2,3,IF(AC7=\"\",AA7+AB7,AA7+AB7+AC7))))","v":""},null,{"$f":"IF(A7=\"\",\"\",IF(AND(A7=1,AB7=1)+OR(C7=\"\")+AND(A7+AD7>3)+OR(A7+AD7=2),\"nicht i.o.\",\"i.o.\"))","v":""},null,null,38,null,null,2,"(",")"]
["",null,null,null,"E",{"$f":"IF(C48=\"\",\"\",C48)","v":""},null,null,null,null,null,null,null,null,"3(39)",null,{"$f":"IF(C49=\"\",\"\",C49)","v":""},null,null,null,null,null,null,null,null,"F","","","","",null,"",null,null,39,null,null,3,"(",")"]
["",null,null,null,"G",{"$f":"IF(C50=\"\",\"\",C50)","v":""},null,null,null,null,null,null,null,null,"4(40)",null,{"$f":"IF(C51=\"\",\"\",C51)","v":""},null,null,null,null,null,null,null,null,"H","","","","",null,"",null,null,40,null,null,4,"(",")"]
["",null,null,null,"I",{"$f":"IF(C52=\"\",\"\",C52)","v":""},null,null,null,null,null,null,null,null,"5(41)",null,{"$f":"IF(C44=\"\",\"\",C44)","v":""},null,null,null,null,null,null,null,null,"A","","","","",null,"",null,null,41,null,null,5,"(",")"]
["",null,null,null,"B",{"$f":"IF(C45=\"\",\"\",C45)","v":""},null,null,null,null,null,null,null,null,"6(42)",null,{"$f":"IF(C46=\"\",\"\",C46)","v":""},null,null,null,null,null,null,null,null,"C","","","","",null,"",null,null,42,null,null,6,"(",")"]
["",null,null,null,"F",{"$f":"IF(C49=\"\",\"\",C49)","v":""},null,null,null,null,null,null,null,null,"7(43)",null,{"$f":"IF(C50=\"\",\"\",C50)","v":""},null,null,null,null,null,null,null,null,"G","","","","",null,"",null,null,43,null,null,7,"(",")"]
["",null,null,null,"D",{"$f":"IF(C47=\"\",\"\",C47)","v":""},null,null,null,null,null,null,null,null,"8(44)",null,{"$f":"IF(C48=\"\",\"\",C48)","v":""},null,null,null,null,null,null,null,null,"E","","","","",null,"",null,null,44,null,null,8,"(",")"]
["",null,null,null,"H",{"$f":"IF(C51=\"\",\"\",C51)","v":""},null,null,null,null,null,null,null,null,"9(45)",null,{"$f":"IF(C52=\"\",\"\",C52)","v":""},null,null,null,null,null,null,null,null,"I","","","","",null,"",null,null,45,null,null,9,"(",")"]
["",null,null,null,"A",{"$f":"IF(C44=\"\",\"\",C44)","v":""},null,null,null,null,null,null,null,null,"10(46)",null,{"$f":"IF(C46=\"\",\"\",C46)","v":""},null,null,null,null,null,null,null,null,"C","","","","",null,"",null,null,46,null,null,10,"(",")"]
["",null,null,null,"B",{"$f":"IF(C45=\"\",\"\",C45)","v":""},null,null,null,null,null,null,null,null,"11(47)",null,{"$f":"IF(C47=\"\",\"\",C47)","v":""},null,null,null,null,null,null,null,null,"D","","","","",null,"",null,null,47,null,null,11,"(",")"]
["",null,null,null,"G",{"$f":"IF(C50=\"\",\"\",C50)","v":""},null,null,null,null,null,null,null,null,"12(48)",null,{"$f":"IF(C52=\"\",\"\",C52)","v":""},null,null,null,null,null,null,null,null,"I","","","",""," ","",null,null,48,null,null,12,"(",")"]
["",null,null,null,"C",{"$f":"IF(C46=\"\",\"\",C46)","v":""},null,null,null,null,null,null,null,null,"13(49)",null,{"$f":"IF(C48=\"\",\"\",C48)","v":""},null,null,null,null,null,null,null,null,"E","","","",""," ","",null,null,49,null,null,13,"(",")"]
["",null,null,null,"D",{"$f":"IF(C47=\"\",\"\",C47)","v":""},null,null,null,null,null,null,null,null,"14(50)",null,{"$f":"IF(C49=\"\",\"\",C49)","v":""},null,null,null,null,null,null,null,null,"F","","","","",null,"",null,null,50,null,null,14,"(",")"]
["",null,null,null,"B",{"$f":"IF(C45=\"\",\"\",C45)","v":""},null,null,null,null,null,null,null,null,"15(51)",null,{"$f":"IF(C52=\"\",\"\",C52)","v":""},null,null,null,null,null,null,null,null,"I","","","","",null,"",null,null,51,null,null,15,"(",")"]
["",null,null,null,"E",{"$f":"IF(C48=\"\",\"\",C48)","v":""},null,null,null,null,null,null,null,null,"16(52)",null,{"$f":"IF(C50=\"\",\"\",C50)","v":""},null,null,null,null,null,null,null,null,"G","","","","",null,"",null,null,52,null,null,16,"(",")"]
["",null,null,null,"F",{"$f":"IF(C49=\"\",\"\",C49)","v":""},null,null,null,null,null,null,null,null,"17(53)",null,{"$f":"IF(C51=\"\",\"\",C51)","v":""},null,null,null,null,null,null,null,null,"H","","","","",null,"",null,null,53,null,null,17,"(",")"]
["",null,null,null,"A",{"$f":"IF(C44=\"\",\"\",C44)","v":""},null,null,null,null,null,null,null,null,"18(54)",null,{"$f":"IF(C47=\"\",\"\",C47)","v":""},null,null,null,null,null,null,null,null,"D","","","","",null,"",null,null,54,null,null,18,"(",")"]
["",null,null,null,"B",{"$f":"IF(C45=\"\",\"\",C45)","v":""},null,null,null,null,null,null,null,null,"19(55)",null,{"$f":"IF(C48=\"\",\"\",C48)","v":""},null,null,null,null,null,null,null,null,"E","","","","",null,"",null,null,55,null,null,19,"(",")"]
["",null,null,null,"C",{"$f":"IF(C46=\"\",\"\",C46)","v":""},null,null,null,null,null,null,null,null,"20(56)",null,{"$f":"IF(C49=\"\",\"\",C49)","v":""},null,null,null,null,null,null,null,null,"F","","","","",null,"",null,null,56,null,null,20,"(",")"]
["",null,null,null,"D",{"$f":"IF(C47=\"\",\"\",C47)","v":""},null,null,null,null,null,null,null,null,"21(57)",null,{"$f":"IF(C50=\"\",\"\",C50)","v":""},null,null,null,null,null,null,null,null,"G","","","","",null,"",null,null,57,null,null,21,"(",")"]
["",null,null,null,"E",{"$f":"IF(C48=\"\",\"\",C48)","v":""},null,null,null,null,null,null,null,null,"22(58)",null,{"$f":"IF(C51=\"\",\"\",C51)","v":""},null,null,null,null,null,null,null,null,"H","","","","",null,"",null,null,58,null,null,22,"(",")"]
["",null,null,null,"B",{"$f":"IF(C45=\"\",\"\",C45)","v":""},null,null,null,null,null,null,null,null,"23(59)",null,{"$f":"IF(C49=\"\",\"\",C49)","v":""},null,null,null,null,null,null,null,null,"F","","","","",null,"",null,null,59,null,null,23,"(",")"]
["",null,null,null,"C",{"$f":"IF(C46=\"\",\"\",C46)","v":""},null,null,null,null,null,null,null,null,"24(60)",null,{"$f":"IF(C52=\"\",\"\",C52)","v":""},null,null,null,null,null,null,null,null,"I","","","","",null,"",null,null,60,null,null,24,"(",")"]
["",null,null,null,"A",{"$f":"IF(C44=\"\",\"\",C44)","v":""},null,null,null,null,null,null,null,null,"25(61)",null,{"$f":"IF(C48=\"\",\"\",C48)","v":""},null,null,null,null,null,null,null,null,"E","","","","",null,"",null,null,61,null,null,25,"(",")"]
["",null,null,null,"D",{"$f":"IF(C47=\"\",\"\",C47)","v":""},null,null,null,null,null,null,null,null,"26(62)",null,{"$f":"IF(C51=\"\",\"\",C51)","v":""},null,null,null,null,null,null,null,null,"H","","","","",null,"",null,null,62,null,null,26,"(",")"]
["",null,null,null,"F",{"$f":"IF(C49=\"\",\"\",C49)","v":""},null,null,null,null,null,null,null,null,"27(63)",null,{"$f":"IF(C52=\"\",\"\",C52)","v":""},null,null,null,null,null,null,null,null,"I","","","","",null,"",null,null,63,null,null,27,"(",")"]
["",null,null,null,"B",{"$f":"IF(C45=\"\",\"\",C45)","v":""},null,null,null,null,null,null,null,null,"28(64)",null,{"$f":"IF(C50=\"\",\"\",C50)","v":""},null,null,null,null,null,null,null,null,"G","","","","",null,"",null,null,64,null,null,28,"(",")"]
["",null,null,null,"A",{"$f":"IF(C44=\"\",\"\",C44)","v":""},null,null,null,null,null,null,null,null,"29(65)",null,{"$f":"IF(C51=\"\",\"\",C51)","v":""},null,null,null,null,null,null,null,null,"H","","","","",null,"",null,null,65,null,null,29,"(",")"]
["",null,null,null,"D",{"$f":"IF(C47=\"\",\"\",C47)","v":""},null,null,null,null,null,null,null,null,"30(66)",null,{"$f":"IF(C52=\"\",\"\",C52)","v":""},null,null,null,null,null,null,null,null,"I","","","","",null,"",null,null,66,null,null,30,"(",")"]
["",null,null,null,"C",{"$f":"IF(C46=\"\",\"\",C46)","v":""},null,null,null,null,null,null,null,null,"31(67)",null,{"$f":"IF(C50=\"\",\"\",C50)","v":""},null,null,null,null,null,null,null,null,"G","","","","",null,"",null,null,67,null,null,31,"(",")"]
["",null,null,null,"B",{"$f":"IF(C45=\"\",\"\",C45)","v":""},null,null,null,null,null,null,null,null,"32(68)",null,{"$f":"IF(C51=\"\",\"\",C51)","v":""},null,null,null,null,null,null,null,null,"H","","","","",null,"",null,null,68,null,null,32,"(",")"]
["",null,null,null,"A",{"$f":"IF(C44=\"\",\"\",C44)","v":""},null,null,null,null,null,null,null,null,"33(69)",null,{"$f":"IF(C49=\"\",\"\",C49)","v":""},null,null,null,null,null,null,null,null,"F","","","","",null,"",null,null,69,null,null,33,"(",")"]
["",null,null,null,"E",{"$f":"IF(C48=\"\",\"\",C48)","v":""},null,null,null,null,null,null,null,null,"34(70)",null,{"$f":"IF(C52=\"\",\"\",C52)","v":""},null,null,null,null,null,null,null,null,"I","","","","",null,"",null,null,70,null,null,34,"(",")"]
["",null,null,null,"C",{"$f":"IF(C46=\"\",\"\",C46)","v":""},null,null,null,null,null,null,null,null,"35(71)",null,{"$f":"IF(C51=\"\",\"\",C51)","v":""},null,null,null,null,null,null,null,null,"H","","","","",null,"",null,null,71,null,null,35,"(",")"]
["",null,null,null,"A",{"$f":"IF(C44=\"\",\"\",C44)","v":""},null,null,null,null,null,null,null,null,"36(72)",null,{"$f":"IF(C50=\"\",\"\",C50)","v":""},null,null,null,null,null,null,null,null,"G","","","","",null,"",null,null,72,null,null,36,"(",")"]
[]
[null,null,"Teams",null,null,null,null,null,null,null,null,null,null,null,null,"A","B","C","D","E","F","G","H","I","Pt.",null,"Rang"]
["A",null,null,null,null,null,null,null,null,null,null,null,null,null,null,null,{"$f":"A6","v":""},{"$f":"A15","v":""},{"$f":"A23","v":""},{"$f":"A30","v":""},{"$f":"A38","v":""},{"$f":"A41","v":""},{"$f":"A34","v":""},{"$f":"AD10","v":""},{"$f":"IF(A6=\"\",\"\",(IF(P44<>\"\",P44,0))+(IF(Q44<>\"\",Q44,0))+(IF(R44<>\"\",R44,0))+(IF(S44<>\"\",S44,0))+(IF(T44<>\"\",T44,0))+(IF(U44<>\"\",U44,0))+(IF(V44<>\"\",V44,0))+(IF(W44<>\"\",W44,0))+(IF(X44<>\"\",X44,0)))","v":""}]
["B",null,null,null,null,null,null,null,null,null,null,null,null,null,null,{"$f":"AD6","v":""},null,{"$f":"A11","v":""},{"$f":"A16","v":""},{"$f":"A24","v":""},{"$f":"A28","v":""},{"$f":"A33","v":""},{"$f":"A37","v":""},{"$f":"A20","v":""},{"$f":"IF(A6=\"\",\"\",(IF(P45<>\"\",P45,0))+(IF(Q45<>\"\",Q45,0))+(IF(R45<>\"\",R45,0))+(IF(S45<>\"\",S45,0))+(IF(T45<>\"\",T45,0))+(IF(U45<>\"\",U45,0))+(IF(V45<>\"\",V45,0))+(IF(W45<>\"\",W45,0))+(IF(X45<>\"\",X45,0)))","v":""}]
["C",null,null,null,null,null,null,null,null,null,null,null,null,null,null,{"$f":"AD15","v":""},{"$f":"AD11","v":""},null,{"$f":"A7","v":""},{"$f":"A18","v":""},{"$f":"A25","v":""},{"$f":"A36","v":""},{"$f":"A40","v":""},{"$f":"A29","v":""},{"$f":"IF(A7=\"\",\"\",(IF(P46<>\"\",P46,0))+(IF(Q46<>\"\",Q46,0))+(IF(R46<>\"\",R46,0))+(IF(S46<>\"\",S46,0))+(IF(T46<>\"\",T46,0))+(IF(U46<>\"\",U46,0))+(IF(V46<>\"\",V46,0))+(IF(W46<>\"\",W46,0))+(IF(X46<>\"\",X46,0)))","v":""}]
["D",null,null,null,null,null,null,null,null,null,null,null,null,null,null,{"$f":"AD23","v":""},{"$f":"AD16","v":""},{"$f":"AD7","v":""},null,{"$f":"A13","v":""},{"$f":"A19","v":""},{"$f":"A26","v":""},{"$f":"A31","v":""},{"$f":"A35","v":""},{"$f":"IF(A7=\"\",\"\",(IF(P47<>\"\",P47,0))+(IF(Q47<>\"\",Q47,0))+(IF(R47<>\"\",R47,0))+(IF(S47<>\"\",S47,0))+(IF(T47<>\"\",T47,0))+(IF(U47<>\"\",U47,0))+(IF(V47<>\"\",V47,0))+(IF(W47<>\"\",W47,0))+(IF(X47<>\"\",X47,0)))","v":""}]
["E",null,null,null,null,null,null,null,null,null,null,null,null,null,null,{"$f":"AD30","v":""},{"$f":"AD24","v":""},{"$f":"AD18","v":""},{"$f":"AD13","v":""},null,{"$f":"A8","v":""},{"$f":"A21","v":""},{"$f":"A27","v":""},{"$f":"A39","v":""},{"$f":"IF(A8=\"\",\"\",(IF(P48<>\"\",P48,0))+(IF(Q48<>\"\",Q48,0))+(IF(R48<>\"\",R48,0))+(IF(S48<>\"\",S48,0))+(IF(T48<>\"\",T48,0))+(IF(U48<>\"\",U48,0))+(IF(V48<>\"\",V48,0))+(IF(W48<>\"\",W48,0))+(IF(X48<>\"\",X48,0)))","v":""}]
["F",null,null,null,null,null,null,null,null,null,null,null,null,null,null,{"$f":"AD38","v":""},{"$f":"AD28","v":""},{"$f":"AD25","v":""},{"$f":"AD19","v":""},{"$f":"AD8","v":""},null,{"$f":"A12","v":""},{"$f":"A22","v":""},{"$f":"A32","v":""},{"$f":"IF(A8=\"\",\"\",(IF(P49<>\"\",P49,0))+(IF(Q49<>\"\",Q49,0))+(IF(R49<>\"\",R49,0))+(IF(S49<>\"\",S49,0))+(IF(T49<>\"\",T49,0))+(IF(U49<>\"\",U49,0))+(IF(V49<>\"\",V49,0))+(IF(W49<>\"\",W49,0))+(IF(X49<>\"\",X49,0)))","v":""}]
["G",null,null,null,null,null,null,null,null,null,null,null,null,null,null,{"$f":"AD41","v":""},{"$f":"AD33","v":""},{"$f":"AD36","v":""},{"$f":"AD26","v":""},{"$f":"AD21","v":""},{"$f":"AD12","v":""},null,{"$f":"A9","v":""},{"$f":"A17","v":""},{"$f":"IF(A9=\"\",\"\",(IF(P50<>\"\",P50,0))+(IF(Q50<>\"\",Q50,0))+(IF(R50<>\"\",R50,0))+(IF(S50<>\"\",S50,0))+(IF(T50<>\"\",T50,0))+(IF(U50<>\"\",U50,0))+(IF(V50<>\"\",V50,0))+(IF(W50<>\"\",W50,0))+(IF(X50<>\"\",X50,0)))","v":""}]
["H",null,null,null,null,null,null,null,null,null,null,null,null,null,null,{"$f":"AD34","v":""},{"$f":"AD37","v":""},{"$f":"AD40","v":""},{"$f":"AD31","v":""},{"$f":"AD27","v":""},{"$f":"AD22","v":""},{"$f":"AD9","v":""},null,{"$f":"A14","v":""},{"$f":"IF(A9=\"\",\"\",(IF(P51<>\"\",P51,0))+(IF(Q51<>\"\",Q51,0))+(IF(R51<>\"\",R51,0))+(IF(S51<>\"\",S51,0))+(IF(T51<>\"\",T51,0))+(IF(U51<>\"\",U51,0))+(IF(V51<>\"\",V51,0))+(IF(W51<>\"\",W51,0))+(IF(X51<>\"\",X51,0)))","v":""}]
["I",null,null,null,null,null,null,null,null,null,null,null,null,null,null,{"$f":"A10","v":""},{"$f":"AD20","v":""},{"$f":"AD29","v":""},{"$f":"AD35","v":""},{"$f":"AD39","v":""},{"$f":"AD32","v":""},{"$f":"AD17","v":""},{"$f":"AD14","v":""},null,{"$f":"IF(A10=\"\",\"\",(IF(P52<>\"\",P52,0))+(IF(Q52<>\"\",Q52,0))+(IF(R52<>\"\",R52,0))+(IF(S52<>\"\",S52,0))+(IF(T52<>\"\",T52,0))+(IF(U52<>\"\",U52,0))+(IF(V52<>\"\",V52,0))+(IF(W52<>\"\",W52,0))+(IF(X52<>\"\",X52,0)))","v":""}]
[]
[]
[]
[null,null,null,null,null,null,null,null,null,null,null,null,null,null,null,null,null,null,null,null,null,null,null,null,null,null,null,null,null,null,{"$f":"IF(A56=\"\",\"\",IF(AND(A56=1,AB56=1)+OR(C56=\"\")+AND(A56+AB56>3)+OR(A56+AB56=2),\"nicht i.o.\",\"i.o.\"))","v":""}]
[null,null,null,null,null,null,null,null,null,null,null,null,null,null,null,null,null,null,null,null,null,null,null,null,null,null,null,null,null,null,{"$f":"IF(A57=\"\",\"\",IF(AND(A57=1,AB57=1)+OR(C57=\"\")+AND(A57+AB57>3)+OR(A57+AB57=2),\"nicht i.o.\",\"i.o.\"))","v":""}]
[]
[null,null,null,null,null,null,null,null,null,null,null,null,null,null,null,null,null,null,null,null,null,null,null,null,null,null,null,null,null,null,""]
[]
[null,null,null,null,null,null,null,null,null,null,null,null,null,null,null,null,null,null,null,null,null,null,null,null,null,null,null,null,null,null,""]
[]
[null,null,null,null,null,null,null,null,null,null,null,null,null,null,null,null,null,null,null,null,null,null,null,null,null,null,null,null,null,null,""]
[]
[null,null,null,null,null,null,null,null,null,null,null,null,null,null,null,null,null,null,null,null,null,null,null,null,null,null,null,null,null,null,""]

{"sheet":"Rangliste Final","index":2,"n_rows":31,"n_cols":7,"rows_kept":31,"cut":false,"hidden":false,"merged":[[5,0,5,6],[9,0,9,6],[0,0,0,6]]}
["OSM"]
[]
[null,null,null,null,null,null,"Datum:"]
[]
[]
["Turnier Sevelen"]
[]
[null,"Pokal-Sponsor: "]
[]
["Besten Dank fürs mitmachen."]
[]
[null,"Rangliste"]
[]
[null,"1.",{"$f":"'9er Gr1'!AL75","v":""}]
[null,"2.",{"$f":"'9er Gr1'!AL74","v":""}]
[null,"3.",{"$f":"'9er Gr1'!AL73","v":""}]
[null,"4.",{"$f":"'9er Gr1'!AL72","v":""}]
[null,"5.",{"$f":"'9er Gr1'!AL71","v":""}]
[null,"6.",{"$f":"'9er Gr1'!AL70","v":""}]
[null,"7.",{"$f":"'9er Gr1'!AL69","v":""}]
[null,"8.",{"$f":"'9er Gr1'!AL68","v":""}]
[null,"9.",{"$f":"'9er Gr1'!AL67","v":""}]
[null,"10.",{"$f":"'9er Gr1'!AL66","v":""}]
[null,"11.",{"$f":"'9er Gr1'!AL65","v":""}]
[null,"12.",{"$f":"'9er Gr1'!AL64","v":""}]
[null,"13.",{"$f":"'9er Gr1'!AL63","v":""}]
[null,"14.",{"$f":"'9er Gr1'!AL62","v":""}]
[null,"15.",{"$f":"'9er Gr1'!AL61","v":""}]
[null,"16.",{"$f":"'9er Gr1'!AL60","v":""}]
[null,"17.",{"$f":"'9er Gr1'!AL59","v":""}]
[null,"18.",{"$f":"'9er Gr1'!AL58","v":""}]

{"sheet":"Worktab","index":3,"n_rows":9,"n_cols":7,"rows_kept":9,"cut":false,"hidden":false,"merged":[]}
[{"$f":"IF('9er Gr1'!AA44=\"\",\"\",IF('9er Gr1'!AA44=1,'9er Gr1'!A44,IF('9er Gr1'!AA45=1,'9er Gr1'!A45,IF('9er Gr1'!AA46=1,'9er Gr1'!A46,IF('9er Gr1'!AA47=1,'9er Gr1'!A47,IF('9er Gr1'!AA48=1,'9er Gr1'!A48,IF('9er Gr1'!AA49=1,'9er Gr1'!A49,\"\")))))))","v":""},{"$f":"IF('9er Gr1'!AA44=\"\",\"\",IF('9er Gr1'!AA44=1,'9er Gr1'!C44,IF('9er Gr1'!AA45=1,'9er Gr1'!C45,IF('9er Gr1'!AA46=1,'9er Gr1'!C46,IF('9er Gr1'!AA47=1,'9er Gr1'!C47,IF('9er Gr1'!AA48=1,'9er Gr1'!C48,IF('9er Gr1'!AA49=1,'9er Gr1'!C49,\"\")))))))","v":""},{"$f":"IF('9er Gr1'!AA44=\"\",\"\",IF('9er Gr1'!AA44=1,'9er Gr1'!Y44,IF('9er Gr1'!AA45=1,'9er Gr1'!Y45,IF('9er Gr1'!AA46=1,'9er Gr1'!Y46,IF('9er Gr1'!AA47=1,'9er Gr1'!Y47,IF('9er Gr1'!AA48=1,'9er Gr1'!Y48,IF('9er Gr1'!AA49=1,'9er Gr1'!Y49,\"\")))))))","v":""},null,{"$f":"IF('9er Gr2'!AA44=\"\",\"\",IF('9er Gr2'!AA44=1,'9er Gr2'!A44,IF('9er Gr2'!AA45=1,'9er Gr2'!A45,IF('9er Gr2'!AA46=1,'9er Gr2'!A46,IF('9er Gr2'!AA47=1,'9er Gr2'!A47,IF('9er Gr2'!AA48=1,'9er Gr2'!A48,IF('9er Gr2'!AA49=1,'9er Gr2'!A49,\"\")))))))","v":""},{"$f":"IF('9er Gr2'!AA44=\"\",\"\",IF('9er Gr2'!AA44=1,'9er Gr2'!C44,IF('9er Gr2'!AA45=1,'9er Gr2'!C45,IF('9er Gr2'!AA46=1,'9er Gr2'!C46,IF('9er Gr2'!AA47=1,'9er Gr2'!C47,IF('9er Gr2'!AA48=1,'9er Gr2'!C48,IF('9er Gr2'!AA49=1,'9er Gr2'!C49,\"\")))))))","v":""},{"$f":"IF('9er Gr2'!AA44=\"\",\"\",IF('9er Gr2'!AA44=1,'9er Gr2'!Y44,IF('9er Gr2'!AA45=1,'9er Gr2'!Y45,IF('9er Gr2'!AA46=1,'9er Gr2'!Y46,IF('9er Gr2'!AA47=1,'9er Gr2'!Y47,IF('9er Gr2'!AA48=1,'9er Gr2'!Y48,IF('9er Gr2'!AA49=1,'9er Gr2'!Y49,\"\")))))))","v":""}]
[{"$f":"IF('9er Gr1'!AA44=\"\",\"\",IF('9er Gr1'!AA44=2,'9er Gr1'!A44,IF('9er Gr1'!AA45=2,'9er Gr1'!A45,IF('9er Gr1'!AA46=2,'9er Gr1'!A46,IF('9er Gr1'!AA47=2,'9er Gr1'!A47,IF('9er Gr1'!AA48=2,'9er Gr1'!A48,IF('9er Gr1'!AA49=2,'9er Gr1'!A49,\"\")))))))","v":""},{"$f":"IF('9er Gr1'!AA44=\"\",\"\",IF('9er Gr1'!AA44=2,'9er Gr1'!C44,IF('9er Gr1'!AA45=2,'9er Gr1'!C45,IF('9er Gr1'!AA46=2,'9er Gr1'!C46,IF('9er Gr1'!AA47=2,'9er Gr1'!C47,IF('9er Gr1'!AA48=2,'9er Gr1'!C48,IF('9er Gr1'!AA49=2,'9er Gr1'!C49,\"\")))))))","v":""},{"$f":"IF('9er Gr1'!AA44=\"\",\"\",IF('9er Gr1'!AA44=2,'9er Gr1'!Y44,IF('9er Gr1'!AA45=2,'9er Gr1'!Y45,IF('9er Gr1'!AA46=2,'9er Gr1'!Y46,IF('9er Gr1'!AA47=2,'9er Gr1'!Y47,IF('9er Gr1'!AA48=2,'9er Gr1'!Y48,IF('9er Gr1'!AA49=2,'9er Gr1'!Y49,\"\")))))))","v":""},null,{"$f":"IF('9er Gr2'!AA44=\"\",\"\",IF('9er Gr2'!AA44=2,'9er Gr2'!A44,IF('9er Gr2'!AA45=2,'9er Gr2'!A45,IF('9er Gr2'!AA46=2,'9er Gr2'!A46,IF('9er Gr2'!AA47=2,'9er Gr2'!A47,IF('9er Gr2'!AA48=2,'9er Gr2'!A48,IF('9er Gr2'!AA49=2,'9er Gr2'!A49,\"\")))))))","v":""},{"$f":"IF('9er Gr2'!AA44=\"\",\"\",IF('9er Gr2'!AA44=2,'9er Gr2'!C44,IF('9er Gr2'!AA45=2,'9er Gr2'!C45,IF('9er Gr2'!AA46=2,'9er Gr2'!C46,IF('9er Gr2'!AA47=2,'9er Gr2'!C47,IF('9er Gr2'!AA48=2,'9er Gr2'!C48,IF('9er Gr2'!AA49=2,'9er Gr2'!C49,\"\")))))))","v":""},{"$f":"IF('9er Gr2'!AA44=\"\",\"\",IF('9er Gr2'!AA44=2,'9er Gr2'!Y44,IF('9er Gr2'!AA45=2,'9er Gr2'!Y45,IF('9er Gr2'!AA46=2,'9er Gr2'!Y46,IF('9er Gr2'!AA47=2,'9er Gr2'!Y47,IF('9er Gr2'!AA48=2,'9er Gr2'!Y48,IF('9er Gr2'!AA49=2,'9er Gr2'!Y49,\"\")))))))","v":""}]
[{"$f":"IF('9er Gr1'!AA44=\"\",\"\",IF('9er Gr1'!AA44=3,'9er Gr1'!A44,IF('9er Gr1'!AA45=3,'9er Gr1'!A45,IF('9er Gr1'!AA46=3,'9er Gr1'!A46,IF('9er Gr1'!AA47=3,'9er Gr1'!A47,IF('9er Gr1'!AA48=3,'9er Gr1'!A48,IF('9er Gr1'!AA49=3,'9er Gr1'!A49,\"\")))))))","v":""},{"$f":"IF('9er Gr1'!AA44=\"\",\"\",IF('9er Gr1'!AA44=3,'9er Gr1'!C44,IF('9er Gr1'!AA45=3,'9er Gr1'!C45,IF('9er Gr1'!AA46=3,'9er Gr1'!C46,IF('9er Gr1'!AA47=3,'9er Gr1'!C47,IF('9er Gr1'!AA48=3,'9er Gr1'!C48,IF('9er Gr1'!AA49=3,'9er Gr1'!C49,\"\")))))))","v":""},{"$f":"IF('9er Gr1'!AA44=\"\",\"\",IF('9er Gr1'!AA44=3,'9er Gr1'!Y44,IF('9er Gr1'!AA45=3,'9er Gr1'!Y45,IF('9er Gr1'!AA46=3,'9er Gr1'!Y46,IF('9er Gr1'!AA47=3,'9er Gr1'!Y47,IF('9er Gr1'!AA48=3,'9er Gr1'!Y48,IF('9er Gr1'!AA49=3,'9er Gr1'!Y49,\"\")))))))","v":""},null,{"$f":"IF('9er Gr2'!AA44=\"\",\"\",IF('9er Gr2'!AA44=3,'9er Gr2'!A44,IF('9er Gr2'!AA45=3,'9er Gr2'!A45,IF('9er Gr2'!AA46=3,'9er Gr2'!A46,IF('9er Gr2'!AA47=3,'9er Gr2'!A47,IF('9er Gr2'!AA48=3,'9er Gr2'!A48,IF('9er Gr2'!AA49=3,'9er Gr2'!A49,\"\")))))))","v":""},{"$f":"IF('9er Gr2'!AA44=\"\",\"\",IF('9er Gr2'!AA44=3,'9er Gr2'!C44,IF('9er Gr2'!AA45=3,'9er Gr2'!C45,IF('9er Gr2'!AA46=3,'9er Gr2'!C46,IF('9er Gr2'!AA47=3,'9er Gr2'!C47,IF('9er Gr2'!AA48=3,'9er Gr2'!C48,IF('9er Gr2'!AA49=3,'9er Gr2'!C49,\"\")))))))","v":""},{"$f":"IF('9er Gr2'!AA44=\"\",\"\",IF('9er Gr2'!AA44=3,'9er Gr2'!Y44,IF('9er Gr2'!AA45=3,'9er Gr2'!Y45,IF('9er Gr2'!AA46=3,'9er Gr2'!Y46,IF('9er Gr2'!AA47=3,'9er Gr2'!Y47,IF('9er Gr2'!AA48=3,'9er Gr2'!Y48,IF('9er Gr2'!AA49=3,'9er Gr2'!Y49,\"\")))))))","v":""}]
[{"$f":"IF('9er Gr1'!AA44=\"\",\"\",IF('9er Gr1'!AA44=4,'9er Gr1'!A44,IF('9er Gr1'!AA45=4,'9er Gr1'!A45,IF('9er Gr1'!AA46=4,'9er Gr1'!A46,IF('9er Gr1'!AA47=4,'9er Gr1'!A47,IF('9er Gr1'!AA48=4,'9er Gr1'!A48,IF('9er Gr1'!AA49=4,'9er Gr1'!A49,\"\")))))))","v":""},{"$f":"IF('9er Gr1'!AA44=\"\",\"\",IF('9er Gr1'!AA44=4,'9er Gr1'!C44,IF('9er Gr1'!AA45=4,'9er Gr1'!C45,IF('9er Gr1'!AA46=4,'9er Gr1'!C46,IF('9er Gr1'!AA47=4,'9er Gr1'!C47,IF('9er Gr1'!AA48=4,'9er Gr1'!C48,IF('9er Gr1'!AA49=4,'9er Gr1'!C49,\"\")))))))","v":""},{"$f":"IF('9er Gr1'!AA44=\"\",\"\",IF('9er Gr1'!AA44=4,'9er Gr1'!Y44,IF('9er Gr1'!AA45=4,'9er Gr1'!Y45,IF('9er Gr1'!AA46=4,'9er Gr1'!Y46,IF('9er Gr1'!AA47=4,'9er Gr1'!Y47,IF('9er Gr1'!AA48=4,'9er Gr1'!Y48,IF('9er Gr1'!AA49=4,'9er Gr1'!Y49,\"\")))))))","v":""},null,{"$f":"IF('9er Gr2'!AA44=\"\",\"\",IF('9er Gr2'!AA44=4,'9er Gr2'!A44,IF('9er Gr2'!AA45=4,'9er Gr2'!A45,IF('9er Gr2'!AA46=4,'9er Gr2'!A46,IF('9er Gr2'!AA47=4,'9er Gr2'!A47,IF('9er Gr2'!AA48=4,'9er Gr2'!A48,IF('9er Gr2'!AA49=4,'9er Gr2'!A49,\"\")))))))","v":""},{"$f":"IF('9er Gr2'!AA44=\"\",\"\",IF('9er Gr2'!AA44=4,'9er Gr2'!C44,IF('9er Gr2'!AA45=4,'9er Gr2'!C45,IF('9er Gr2'!AA46=4,'9er Gr2'!C46,IF('9er Gr2'!AA47=4,'9er Gr2'!C47,IF('9er Gr2'!AA48=4,'9er Gr2'!C48,IF('9er Gr2'!AA49=4,'9er Gr2'!C49,\"\")))))))","v":""},{"$f":"IF('9er Gr2'!AA44=\"\",\"\",IF('9er Gr2'!AA44=4,'9er Gr2'!Y44,IF('9er Gr2'!AA45=4,'9er Gr2'!Y45,IF('9er Gr2'!AA46=4,'9er Gr2'!Y46,IF('9er Gr2'!AA47=4,'9er Gr2'!Y47,IF('9er Gr2'!AA48=4,'9er Gr2'!Y48,IF('9er Gr2'!AA49=4,'9er Gr2'!Y49,\"\")))))))","v":""}]
[{"$f":"IF('9er Gr1'!AA44=\"\",\"\",IF('9er Gr1'!AA44=5,'9er Gr1'!A44,IF('9er Gr1'!AA45=5,'9er Gr1'!A45,IF('9er Gr1'!AA46=5,'9er Gr1'!A46,IF('9er Gr1'!AA47=5,'9er Gr1'!A47,IF('9er Gr1'!AA48=5,'9er Gr1'!A48,IF('9er Gr1'!AA49=5,'9er Gr1'!A49,\"\")))))))","v":""},{"$f":"IF('9er Gr1'!AA44=\"\",\"\",IF('9er Gr1'!AA44=5,'9er Gr1'!C44,IF('9er Gr1'!AA45=5,'9er Gr1'!C45,IF('9er Gr1'!AA46=5,'9er Gr1'!C46,IF('9er Gr1'!AA47=5,'9er Gr1'!C47,IF('9er Gr1'!AA48=5,'9er Gr1'!C48,IF('9er Gr1'!AA49=5,'9er Gr1'!C49,\"\")))))))","v":""},{"$f":"IF('9er Gr1'!AA44=\"\",\"\",IF('9er Gr1'!AA44=5,'9er Gr1'!Y44,IF('9er Gr1'!AA45=5,'9er Gr1'!Y45,IF('9er Gr1'!AA46=5,'9er Gr1'!Y46,IF('9er Gr1'!AA47=5,'9er Gr1'!Y47,IF('9er Gr1'!AA48=5,'9er Gr1'!Y48,IF('9er Gr1'!AA49=5,'9er Gr1'!Y49,\"\")))))))","v":""},null,{"$f":"IF('9er Gr2'!AA44=\"\",\"\",IF('9er Gr2'!AA44=5,'9er Gr2'!A44,IF('9er Gr2'!AA45=5,'9er Gr2'!A45,IF('9er Gr2'!AA46=5,'9er Gr2'!A46,IF('9er Gr2'!AA47=5,'9er Gr2'!A47,IF('9er Gr2'!AA48=5,'9er Gr2'!A48,IF('9er Gr2'!AA49=5,'9er Gr2'!A49,\"\")))))))","v":""},{"$f":"IF('9er Gr2'!AA44=\"\",\"\",IF('9er Gr2'!AA44=5,'9er Gr2'!C44,IF('9er Gr2'!AA45=5,'9er Gr2'!C45,IF('9er Gr2'!AA46=5,'9er Gr2'!C46,IF('9er Gr2'!AA47=5,'9er Gr2'!C47,IF('9er Gr2'!AA48=5,'9er Gr2'!C48,IF('9er Gr2'!AA49=5,'9er Gr2'!C49,\"\")))))))","v":""},{"$f":"IF('9er Gr2'!AA44=\"\",\"\",IF('9er Gr2'!AA44=5,'9er Gr2'!Y44,IF('9er Gr2'!AA45=5,'9er Gr2'!Y45,IF('9er Gr2'!AA46=5,'9er Gr2'!Y46,IF('9er Gr2'!AA47=5,'9er Gr2'!Y47,IF('9er Gr2'!AA48=5,'9er Gr2'!Y48,IF('9er Gr2'!AA49=5,'9er Gr2'!Y49,\"\")))))))","v":""}]
[{"$f":"IF('9er Gr1'!AA44=\"\",\"\",IF('9er Gr1'!AA44=6,'9er Gr1'!A44,IF('9er Gr1'!AA45=6,'9er Gr1'!A45,IF('9er Gr1'!AA46=6,'9er Gr1'!A46,IF('9er Gr1'!AA47=6,'9er Gr1'!A47,IF('9er Gr1'!AA48=6,'9er Gr1'!A48,IF('9er Gr1'!AA49=6,'9er Gr1'!A49,\"\")))))))","v":""},{"$f":"IF('9er Gr1'!AA44=\"\",\"\",IF('9er Gr1'!AA44=6,'9er Gr1'!C44,IF('9er Gr1'!AA45=6,'9er Gr1'!C45,IF('9er Gr1'!AA46=6,'9er Gr1'!C46,IF('9er Gr1'!AA47=6,'9er Gr1'!C47,IF('9er Gr1'!AA48=6,'9er Gr1'!C48,IF('9er Gr1'!AA49=6,'9er Gr1'!C49,\"\")))))))","v":""},{"$f":"IF('9er Gr1'!AA44=\"\",\"\",IF('9er Gr1'!AA44=6,'9er Gr1'!Y44,IF('9er Gr1'!AA45=6,'9er Gr1'!Y45,IF('9er Gr1'!AA46=6,'9er Gr1'!Y46,IF('9er Gr1'!AA47=6,'9er Gr1'!Y47,IF('9er Gr1'!AA48=6,'9er Gr1'!Y48,IF('9er Gr1'!AA49=6,'9er Gr1'!Y49,\"\")))))))","v":""},null,{"$f":"IF('9er Gr2'!AA44=\"\",\"\",IF('9er Gr2'!AA44=6,'9er Gr2'!A44,IF('9er Gr2'!AA45=6,'9er Gr2'!A45,IF('9er Gr2'!AA46=6,'9er Gr2'!A46,IF('9er Gr2'!AA47=6,'9er Gr2'!A47,IF('9er Gr2'!AA48=6,'9er Gr2'!A48,IF('9er Gr2'!AA49=6,'9er Gr2'!A49,\"\")))))))","v":""},{"$f":"IF('9er Gr2'!AA44=\"\",\"\",IF('9er Gr2'!AA44=6,'9er Gr2'!C44,IF('9er Gr2'!AA45=6,'9er Gr2'!C45,IF('9er Gr2'!AA46=6,'9er Gr2'!C46,IF('9er Gr2'!AA47=6,'9er Gr2'!C47,IF('9er Gr2'!AA48=6,'9er Gr2'!C48,IF('9er Gr2'!AA49=6,'9er Gr2'!C49,\"\")))))))","v":""},{"$f":"IF('9er Gr2'!AA44=\"\",\"\",IF('9er Gr2'!AA44=6,'9er Gr2'!Y44,IF('9er Gr2'!AA45=6,'9er Gr2'!Y45,IF('9er Gr2'!AA46=6,'9er Gr2'!Y46,IF('9er Gr2'!AA47=6,'9er Gr2'!Y47,IF('9er Gr2'!AA48=6,'9er Gr2'!Y48,IF('9er Gr2'!AA49=6,'9er Gr2'!Y49,\"\")))))))","v":""}]
[{"$f":"IF('9er Gr1'!AA44=\"\",\"\",IF('9er Gr1'!AA44=7,'9er Gr1'!A44,IF('9er Gr1'!AA45=7,'9er Gr1'!A45,IF('9er Gr1'!AA46=7,'9er Gr1'!A46,IF('9er Gr1'!AA47=7,'9er Gr1'!A47,IF('9er Gr1'!AA48=7,'9er Gr1'!A48,IF('9er Gr1'!AA49=7,'9er Gr1'!A49,\"\")))))))","v":""},{"$f":"IF('9er Gr1'!AA44=\"\",\"\",IF('9er Gr1'!AA44=7,'9er Gr1'!C44,IF('9er Gr1'!AA45=7,'9er Gr1'!C45,IF('9er Gr1'!AA46=7,'9er Gr1'!C46,IF('9er Gr1'!AA47=7,'9er Gr1'!C47,IF('9er Gr1'!AA48=7,'9er Gr1'!C48,IF('9er Gr1'!AA49=7,'9er Gr1'!C49,\"\")))))))","v":""},{"$f":"IF('9er Gr1'!AA44=\"\",\"\",IF('9er Gr1'!AA44=7,'9er Gr1'!Y44,IF('9er Gr1'!AA45=7,'9er Gr1'!Y45,IF('9er Gr1'!AA46=7,'9er Gr1'!Y46,IF('9er Gr1'!AA47=7,'9er Gr1'!Y47,IF('9er Gr1'!AA48=7,'9er Gr1'!Y48,IF('9er Gr1'!AA49=7,'9er Gr1'!Y49,\"\")))))))","v":""},null,{"$f":"IF('9er Gr2'!AA44=\"\",\"\",IF('9er Gr2'!AA44=7,'9er Gr2'!A44,IF('9er Gr2'!AA45=7,'9er Gr2'!A45,IF('9er Gr2'!AA46=7,'9er Gr2'!A46,IF('9er Gr2'!AA47=7,'9er Gr2'!A47,IF('9er Gr2'!AA48=7,'9er Gr2'!A48,IF('9er Gr2'!AA49=7,'9er Gr2'!A49,\"\")))))))","v":""},{"$f":"IF('9er Gr2'!AA44=\"\",\"\",IF('9er Gr2'!AA44=7,'9er Gr2'!C44,IF('9er Gr2'!AA45=7,'9er Gr2'!C45,IF('9er Gr2'!AA46=7,'9er Gr2'!C46,IF('9er Gr2'!AA47=7,'9er Gr2'!C47,IF('9er Gr2'!AA48=7,'9er Gr2'!C48,IF('9er Gr2'!AA49=7,'9er Gr2'!C49,\"\")))))))","v":""},{"$f":"IF('9er Gr2'!AA44=\"\",\"\",IF('9er Gr2'!AA44=7,'9er Gr2'!Y44,IF('9er Gr2'!AA45=7,'9er Gr2'!Y45,IF('9er Gr2'!AA46=7,'9er Gr2'!Y46,IF('9er Gr2'!AA47=7,'9er Gr2'!Y47,IF('9er Gr2'!AA48=7,'9er Gr2'!Y48,IF('9er Gr2'!AA49=7,'9er Gr2'!Y49,\"\")))))))","v":""}]
[{"$f":"IF('9er Gr1'!AA44=\"\",\"\",IF('9er Gr1'!AA44=8,'9er Gr1'!A44,IF('9er Gr1'!AA45=8,'9er Gr1'!A45,IF('9er Gr1'!AA46=8,'9er Gr1'!A46,IF('9er Gr1'!AA47=8,'9er Gr1'!A47,IF('9er Gr1'!AA48=8,'9er Gr1'!A48,IF('9er Gr1'!AA49=8,'9er Gr1'!A49,\"\")))))))","v":""},{"$f":"IF('9er Gr1'!AA44=\"\",\"\",IF('9er Gr1'!AA44=8,'9er Gr1'!C44,IF('9er Gr1'!AA45=8,'9er Gr1'!C45,IF('9er Gr1'!AA46=8,'9er Gr1'!C46,IF('9er Gr1'!AA47=8,'9er Gr1'!C47,IF('9er Gr1'!AA48=8,'9er Gr1'!C48,IF('9er Gr1'!AA49=8,'9er Gr1'!C49,\"\")))))))","v":""},{"$f":"IF('9er Gr1'!AA44=\"\",\"\",IF('9er Gr1'!AA44=8,'9er Gr1'!Y44,IF('9er Gr1'!AA45=8,'9er Gr1'!Y45,IF('9er Gr1'!AA46=8,'9er Gr1'!Y46,IF('9er Gr1'!AA47=8,'9er Gr1'!Y47,IF('9er Gr1'!AA48=8,'9er Gr1'!Y48,IF('9er Gr1'!AA49=8,'9er Gr1'!Y49,\"\")))))))","v":""},null,{"$f":"IF('9er Gr2'!AA44=\"\",\"\",IF('9er Gr2'!AA44=8,'9er Gr2'!A44,IF('9er Gr2'!AA45=8,'9er Gr2'!A45,IF('9er Gr2'!AA46=8,'9er Gr2'!A46,IF('9er Gr2'!AA47=8,'9er Gr2'!A47,IF('9er Gr2'!AA48=8,'9er Gr2'!A48,IF('9er Gr2'!AA49=8,'9er Gr2'!A49,\"\")))))))","v":""},{"$f":"IF('9er Gr2'!AA44=\"\",\"\",IF('9er Gr2'!AA44=8,'9er Gr2'!C44,IF('9er Gr2'!AA45=8,'9er Gr2'!C45,IF('9er Gr2'!AA46=8,'9er Gr2'!C46,IF('9er Gr2'!AA47=8,'9er Gr2'!C47,IF('9er Gr2'!AA48=8,'9er Gr2'!C48,IF('9er Gr2'!AA49=8,'9er Gr2'!C49,\"\")))))))","v":""},{"$f":"IF('9er Gr2'!AA44=\"\",\"\",IF('9er Gr2'!AA44=8,'9er Gr2'!Y44,IF('9er Gr2'!AA45=8,'9er Gr2'!Y45,IF('9er Gr2'!AA46=8,'9er Gr2'!Y46,IF('9er Gr2'!AA47=8,'9er Gr2'!Y47,IF('9er Gr2'!AA48=8,'9er Gr2'!Y48,IF('9er Gr2'!AA49=8,'9er Gr2'!Y49,\"\")))))))","v":""}]
[{"$f":"IF('9er Gr1'!AA44=\"\",\"\",IF('9er Gr1'!AA44=9,'9er Gr1'!A44,IF('9er Gr1'!AA45=9,'9er Gr1'!A45,IF('9er Gr1'!AA46=9,'9er Gr1'!A46,IF('9er Gr1'!AA47=9,'9er Gr1'!A47,IF('9er Gr1'!AA48=9,'9er Gr1'!A48,IF('9er Gr1'!AA49=9,'9er Gr1'!A49,\"\")))))))","v":""},{"$f":"IF('9er Gr1'!AA45=\"\",\"\",IF('9er Gr1'!AA45=9,'9er Gr1'!C45,IF('9er Gr1'!AA46=9,'9er Gr1'!C46,IF('9er Gr1'!AA47=9,'9er Gr1'!C47,IF('9er Gr1'!AA48=9,'9er Gr1'!C48,IF('9er Gr1'!AA49=9,'9er Gr1'!C49,IF('9er Gr1'!AA50=9,'9er Gr1'!C50,\"\")))))))","v":""},{"$f":"IF('9er Gr1'!AA44=\"\",\"\",IF('9er Gr1'!AA44=9,'9er Gr1'!Y44,IF('9er Gr1'!AA45=9,'9er Gr1'!Y45,IF('9er Gr1'!AA46=9,'9er Gr1'!Y46,IF('9er Gr1'!AA47=9,'9er Gr1'!Y47,IF('9er Gr1'!AA48=9,'9er Gr1'!Y48,IF('9er Gr1'!AA49=9,'9er Gr1'!Y49,\"\")))))))","v":""},null,{"$f":"IF('9er Gr2'!AA44=\"\",\"\",IF('9er Gr2'!AA44=9,'9er Gr2'!A44,IF('9er Gr2'!AA45=9,'9er Gr2'!A45,IF('9er Gr2'!AA46=9,'9er Gr2'!A46,IF('9er Gr2'!AA47=9,'9er Gr2'!A47,IF('9er Gr2'!AA48=9,'9er Gr2'!A48,IF('9er Gr2'!AA49=9,'9er Gr2'!A49,\"\")))))))","v":""},{"$f":"IF('9er Gr2'!AA45=\"\",\"\",IF('9er Gr2'!AA45=9,'9er Gr2'!C45,IF('9er Gr2'!AA46=9,'9er Gr2'!C46,IF('9er Gr2'!AA47=9,'9er Gr2'!C47,IF('9er Gr2'!AA48=9,'9er Gr2'!C48,IF('9er Gr2'!AA49=9,'9er Gr2'!C49,IF('9er Gr2'!AA50=9,'9er Gr2'!C50,\"\")))))))","v":""},{"$f":"IF('9er Gr2'!AA44=\"\",\"\",IF('9er Gr2'!AA44=9,'9er Gr2'!Y44,IF('9er Gr2'!AA45=9,'9er Gr2'!Y45,IF('9er Gr2'!AA46=9,'9er Gr2'!Y46,IF('9er Gr2'!AA47=9,'9er Gr2'!Y47,IF('9er Gr2'!AA48=9,'9er Gr2'!Y48,IF('9er Gr2'!AA49=9,'9er Gr2'!Y49,\"\")))))))","v":""}]