{"text_format":"1","workbook":"xlsx","n_sheets":3,"sheets":["8er Gr1","8er Gr2","Rangliste Final"],"not_rendered":{"charts":0,"images":0,"macros":1,"external_links":0,"defined_names":3,"comments":0,"pivot_tables":0},"unopened":[],"bounds":{"document_bytes":16777216,"sheet_cells":100000,"rows_first":2000,"rows_last":500,"rows_between":2000,"halvings":0,"cell_chars":16384,"cell_head_chars":4096},"cells_cut":0,"cells_raw":0,"read":"whole","date_system":"1900"}

{"sheet":"8er Gr1","index":0,"n_rows":66,"n_cols":42,"rows_kept":66,"cut":false,"hidden":false,"merged":[[23,5,23,13],[29,5,29,13],[30,5,30,13],[31,5,31,13],[32,17,32,28],[26,17,26,28],[27,17,27,28],[28,17,28,28],[24,5,24,13],[25,5,25,13],[26,5,26,13],[27,5,27,13],[32,5,32,13],[28,5,28,13],[24,17,24,28],[25,17,25,28],[28,14,28,16],[27,14,27,16],[59,14,59,16],[63,14,63,16],[65,14,65,16],[48,14,48,16],[57,14,57,16],[55,14,55,16],[59,5,59,13],[61,5,61,13],[63,5,63,13],[61,14,61,16],[21,17,21,28],[21,5,21,13],[22,5,22,13],[16,14,16,16],[15,14,15,16],[18,14,18,16],[17,14,17,16],[20,14,20,16],[65,5,65,13],[47,17,47,28],[48,17,48,28],[49,17,49,28],[51,17,51,28],[53,17,53,28],[55,17,55,28],[57,17,57,28],[59,17,59,28],[61,17,61,28],[63,17,63,28],[65,17,65,28],[48,5,48,13],[49,5,49,13],[51,5,51,13],[53,5,53,13],[14,17,14,28],[15,17,15,28],[16,17,16,28],[17,17,17,28],[18,17,18,28],[19,17,19,28],[18,5,18,13],[19,5,19,13],[20,5,20,13],[14,5,14,13],[15,5,15,13],[16,5,16,13],[17,5,17,13],[20,17,20,28],[19,14,19,16],[10,14,10,16],[9,14,9,16],[12,14,12,16],[11,14,11,16],[14,14,14,16],[24,14,24,16],[23,14,23,16],[26,14,26,16],[25,14,25,16],[13,14,13,16],[22,14,22,16],[21,14,21,16],[37,2,37,11],[36,2,36,11],[35,2,35,11],[43,0,43,1],[43,28,43,29],[43,30,43,31],[43,26,43,27],[43,24,43,25],[43,22,43,23],[43,18,43,19],[43,20,43,21],[42,0,42,1],[42,28,42,29],[42,30,42,31],[42,26,42,27],[42,24,42,25],[42,22,42,23],[42,20,42,21],[42,18,42,19],[42,12,42,13],[43,16,43,17],[42,14,42,15],[42,16,42,17],[41,0,41,1],[41,28,41,29],[41,30,41,31],[40,0,40,1],[40,28,40,29],[40,30,40,31],[41,26,41,27],[40,24,40,25],[41,24,41,25],[41,22,41,23],[40,26,40,27],[41,18,41,19],[40,16,40,17],[40,18,40,19],[40,12,40,13],[41,12,41,13],[40,14,40,15],[41,14,41,15],[41,16,41,17],[35,0,35,1],[36,0,36,1],[36,28,36,29],[36,30,36,31],[36,26,36,27],[39,0,39,1],[39,28,39,29],[39,30,39,31],[38,0,38,1],[38,28,38,29],[37,0,37,1],[37,28,37,29],[38,2,38,11],[38,22,38,23],[39,22,39,23],[38,20,38,21],[35,26,35,27],[35,24,35,25],[37,26,37,27],[38,26,38,27],[39,26,39,27],[38,16,38,17],[39,16,39,17],[38,18,38,19],[4,17,4,28],[4,14,4,16],[5,17,5,28],[8,5,8,13],[6,5,6,13],[8,14,8,16],[7,14,7,16],[6,14,6,16],[7,5,7,13],[6,17,6,28],[7,17,7,28],[8,17,8,28],[10,17,10,28],[11,17,11,28],[12,17,12,28],[13,17,13,28],[9,5,9,13],[10,5,10,13],[11,5,11,13],[12,5,12,13],[13,5,13,13],[1,26,1,31],[37,30,37,31],[35,30,35,31],[35,28,35,29],[38,30,38,31],[40,22,40,23],[39,20,39,21],[40,20,40,21],[41,20,41,21],[36,24,36,25],[37,24,37,25],[38,24,38,25],[39,24,39,25],[35,22,35,23],[35,20,35,21],[23,17,23,28],[39,18,39,19],[22,17,22,28],[29,17,29,28],[30,17,30,28],[31,17,31,28],[36,18,36,19],[37,18,37,19],[9,17,9,28],[51,14,51,16],[53,14,53,16],[47,14,47,16],[32,14,32,16],[31,14,31,16],[43,12,43,13],[35,12,35,13],[36,12,36,13],[37,12,37,13],[38,12,38,13],[39,12,39,13],[35,14,35,15],[37,16,37,17],[36,14,36,15],[37,14,37,15],[47,5,47,13],[49,14,49,16],[38,14,38,15],[39,14,39,15],[55,5,55,13],[57,5,57,13],[42,2,42,11],[41,2,41,11],[40,2,40,11],[39,2,39,11],[43,2,43,11],[43,14,43,15],[0,6,0,23],[36,20,36,21],[37,20,37,21],[35,16,35,17],[36,16,36,17],[1,2,1,8],[1,12,1,18],[36,22,36,23],[37,22,37,23],[30,14,30,16],[29,14,29,16],[2,4,2,11],[4,5,4,13],[5,5,5,13],[5,14,5,16],[35,18,35,19]]}
[null,null,null,null,null,null,"OSM",null,null,null,null,null,null,null,null,null,null,null,null,null,null,null,null,null,null,null,null,null,null,null,null,null,null,null," "]
["Turnier:",null,null,null,null,null,null,null,null,null,"Datum:",null,null,null,null,null,null,null,null,null,"Gewichtsklasse:"]
["Turnierleiter:"]
[null,null,null,null,null,null,null,null,null,null,null,null,null,null,null,null,null,null,null,null,null,null,null,null,null,null,null,null,"8-Turnier"]
["P",1,2,3,null,"Teams",null,null,null,null,null,null,null,null,"Z-Nr.",null,null,"Teams",null,null,null,null,null,null,null,null,null,null,null,null,1,2,3,"P","Zeit:","Prüfung"]
[{"$f":"IF(B6=\"\",\"\",IF(C6=\"\",B6,IF(B6+C6=2,3,IF(D6=\"\",B6+C6,B6+C6+D6))))","v":""},null,null,null,"A",{"$f":"IF(C37=\"\",\"\",C37)","v":""},null,null,null,null,null,null,null,null,1,null,null,{"$f":"IF(C38=\"\",\"\",C38)","v":""},null,null,null,null,null,null,null,null,null,null,null,"B",{"$f":"IF(B6=1,\"0\",IF(B6=\"\",\"\",\"1\"))","v":""},{"$f":"IF(C6=1,\"0\",IF(C6=\"\",\"\",\"1\"))","v":""},"",{"$f":"IF(AE6=\"\",\"\",IF(AF6=\"\",AE6,IF(AE6+AF6=2,3,IF(AG6=\"\",AE6+AF6,AE6+AF6+AG6))))","v":""},null,{"$f":"IF(A6=\"\",\"\",IF(AND(A6=1,AF6=1)+OR(C6=\"\")+AND(A6+AH6>3)+OR(A6+AH6=2),\"nicht i.o.\",\"i.o.\"))","v":""}]
[{"$f":"IF(B7=\"\",\"\",IF(C7=\"\",B7,IF(B7+C7=2,3,IF(D7=\"\",B7+C7,B7+C7+D7))))","v":""},null,null,null,"C",{"$f":"IF(C39=\"\",\"\",C39)","v":""},null,null,null,null,null,null,null,null,2,null,null,{"$f":"IF(C40=\"\",\"\",C40)","v":""},null,null,null,null,null,null,null,null,null,null,null,"D",{"$f":"IF(B7=1,\"0\",IF(B7=\"\",\"\",\"1\"))","v":""},{"$f":"IF(C7=1,\"0\",IF(C7=\"\",\"\",\"1\"))","v":""},{"$f":"IF(D7=1,\"0\",IF(D7=\"\",\"\",\"1\"))","v":""},{"$f":"IF(AE7=\"\",\"\",IF(AF7=\"\",AE7,IF(AE7+AF7=2,3,IF(AG7=\"\",AE7+AF7,AE7+AF7+AG7))))","v":""},null,{"$f":"IF(A7=\"\",\"\",IF(AND(A7=1,AF7=1)+OR(C7=\"\")+AND(A7+AH7>3)+OR(A7+AH7=2),\"nicht i.o.\",\"i.o.\"))","v":""}]
["",null,null,null,"E",{"$f":"IF(C41=\"\",\"\",C41)","v":""},null,null,null,null,null,null,null,null,3,null,null,{"$f":"IF(C42=\"\",\"\",C42)","v":""},null,null,null,null,null,null,null,null,null,null,null,"F","","","","",null,""]
["",null,null,null,"G",{"$f":"IF(C43=\"\",\"\",C43)","v":""},null,null,null,null,null,null,null,null,4,null,null,{"$f":"IF(C44=\"\",\"\",C44)","v":""},null,null,null,null,null,null,null,null,null,null,null,"H","","","","",null,""]
["",null,null,null,"A",{"$f":"IF(C37=\"\",\"\",C37)","v":""},null,null,null,null,null,null,null,null,5,null,null,{"$f":"IF(C39=\"\",\"\",C39)","v":""},null,null,null,null,null,null,null,null,null,null,null,"C","","","","",null,""]
["",null,null,null,"B",{"$f":"IF(C38=\"\",\"\",C38)","v":""},null,null,null,null,null,null,null,null,6,null,null,{"$f":"IF(C40=\"\",\"\",C40)","v":""},null,null,null,null,null,null,null,null,null,null,null,"D","","","","",null,""]
["",null,null,null,"E",{"$f":"IF(C41=\"\",\"\",C41)","v":""},null,null,null,null,null,null,null,null,7,null,null,{"$f":"IF(C43=\"\",\"\",C43)","v":""},null,null,null,null,null,null,null,null,null,null,null,"G","","","","",null,""]
["",null,null,null,"H",{"$f":"IF(C44=\"\",\"\",C44)","v":""},null,null,null,null,null,null,null,null,8,null,null,{"$f":"IF(C42=\"\",\"\",C42)","v":""},null,null,null,null,null,null,null,null,null,null,null,"F","","","","",null,""]
["",null,null,null,"A",{"$f":"IF(C37=\"\",\"\",C37)","v":""},null,null,null,null,null,null,null,null,9,null,null,{"$f":"IF(C40=\"\",\"\",C40)","v":""},null,null,null,null,null,null,null,null,null,null,null,"D","","","","",null,""]
["",null,null,null,"B",{"$f":"IF(C38=\"\",\"\",C38)","v":""},null,null,null,null,null,null,null,null,10,null,null,{"$f":"IF(C39=\"\",\"\",C39)","v":""},null,null,null,null,null,null,null,null,null,null,null,"C","","","","",null,""]
["",null,null,null,"H",{"$f":"IF(C44=\"\",\"\",C44)","v":""},null,null,null,null,null,null,null,null,11,null,null,{"$f":"IF(C41=\"\",\"\",C41)","v":""},null,null,null,null,null,null,null,null,null,null,null,"E","","","","",null,""]
["",null,null,null,"F",{"$f":"IF(C42=\"\",\"\",C42)","v":""},null,null,null,null,null,null,null,null,12,null,null,{"$f":"IF(C43=\"\",\"\",C43)","v":""},null,null,null,null,null,null,null,null,null,null,null,"G","","","","",null,""]
["",null,null,null,"A",{"$f":"IF(C37=\"\",\"\",C37)","v":""},null,null,null,null,null,null,null,null,13,null,null,{"$f":"IF(C41=\"\",\"\",C41)","v":""},null,null,null,null,null,null,null,null,null,null,null,"E","","","","",null,""]
["",null,null,null,"B",{"$f":"IF(C38=\"\",\"\",C38)","v":""},null,null,null,null,null,null,null,null,14,null,null,{"$f":"IF(C42=\"\",\"\",C42)","v":""},null,null,null,null,null,null,null,null,null,null,null,"F","","","","",null,""]
["",null,null,null,"C",{"$f":"IF(C39=\"\",\"\",C39)","v":""},null,null,null,null,null,null,null,null,15,null,null,{"$f":"IF(C43=\"\",\"\",C43)","v":""},null,null,null,null,null,null,null,null,null,null,null,"G","","","","",null,""]
["",null,null,null,"H",{"$f":"IF(C44=\"\",\"\",C44)","v":""},null,null,null,null,null,null,null,null,16,null,null,{"$f":"IF(C40=\"\",\"\",C40)","v":""},null,null,null,null,null,null,null,null,null,null,null,"D","","","","",null,""]
["",null,null,null,"A",{"$f":"IF(C37=\"\",\"\",C37)","v":""},null,null,null,null,null,null,null,null,17,null,null,{"$f":"IF(C42=\"\",\"\",C42)","v":""},null,null,null,null,null,null,null,null,null,null,null,"F","","","","",null,""]
["",null,null,null,"B",{"$f":"IF(C38=\"\",\"\",C38)","v":""},null,null,null,null,null,null,null,null,18,null,null,{"$f":"IF(C41=\"\",\"\",C41)","v":""},null,null,null,null,null,null,null,null,null,null,null,"E","","","","",null,""]
["",null,null,null,"H",{"$f":"IF(C44=\"\",\"\",C44)","v":""},null,null,null,null,null,null,null,null,19,null,null,{"$f":"IF(C39=\"\",\"\",C39)","v":""},null,null,null,null,null,null,null,null,null,null,null,"C","","","","",null,""]
["",null,null,null,"D",{"$f":"IF(C40=\"\",\"\",C40)","v":""},null,null,null,null,null,null,null,null,20,null,null,{"$f":"IF(C43=\"\",\"\",C43)","v":""},null,null,null,null,null,null,null,null,null,null,null,"G","","","","",null,""]
["",null,null,null,"A",{"$f":"IF(C37=\"\",\"\",C37)","v":""},null,null,null,null,null,null,null,null,21,null,null,{"$f":"IF(C44=\"\",\"\",C44)","v":""},null,null,null,null,null,null,null,null,null,null,null,"H","","","","",null,""]
["",null,null,null,"B",{"$f":"IF(C38=\"\",\"\",C38)","v":""},null,null,null,null,null,null,null,null,22,null,null,{"$f":"IF(C43=\"\",\"\",C43)","v":""},null,null,null,null,null,null,null,null,null,null,null,"G","","","","",null,""]
["",null,null,null,"C",{"$f":"IF(C39=\"\",\"\",C39)","v":""},null,null,null,null,null,null,null,null,23,null,null,{"$f":"IF(C41=\"\",\"\",C41)","v":""},null,null,null,null,null,null,null,null,null,null,null,"E","","","","",null,""]
["",null,null,null,"D",{"$f":"IF(C40=\"\",\"\",C40)","v":""},null,null,null,null,null,null,null,null,24,null,null,{"$f":"IF(C42=\"\",\"\",C42)","v":""},null,null,null,null,null,null,null,null,null,null,null,"F","","","","",null,""]
["",null,null,null,"A",{"$f":"IF(C37=\"\",\"\",C37)","v":""},null,null,null,null,null,null,null,null,25,null,null,{"$f":"IF(C43=\"\",\"\",C43)","v":""},null,null,null,null,null,null,null,null,null,null,null,"G","","","","",null,""]
["",null,null,null,"B",{"$f":"IF(C38=\"\",\"\",C38)","v":""},null,null,null,null,null,null,null,null,26,null,null,{"$f":"IF(C44=\"\",\"\",C44)","v":""},null,null,null,null,null,null,null,null,null,null,null,"H","","","","",null,""]
["",null,null,null,"C",{"$f":"IF(C39=\"\",\"\",C39)","v":""},null,null,null,null,null,null,null,null,27,null,null,{"$f":"IF(C42=\"\",\"\",C42)","v":""},null,null,null,null,null,null,null,null,null,null,null,"F","","","","",null,""]
["",null,null,null,"D",{"$f":"IF(C40=\"\",\"\",C40)","v":""},null,null,null,null,null,null,null,null,28,null,null,{"$f":"IF(C41=\"\",\"\",C41)","v":""},null,null,null,null,null,null,null,null,null,null,null,"E","","","","",null,""]
[null,null,null,null,null,null,null,null,null,null,null,null,null,null,null,null,null,null,null,null,null,null,null,null,null,null,null,null,null,null,null,null,null,null,null,""]
[null,null,null,null,null,null,null,null,null,null,null,null,null,null,null,null,null,null,null,null,null,null,null,null,null,null,null,null,null,null,null,null,null,null,null,""]
[null,null,"Teams",null,null,null,null,null,null,null,null,null,"A",null,"B",null,"C",null,"D",null,"E",null,"F",null,"G",null,"H",null,"Pt.",null,"Rang",null,null,null,null,""]
["A",null,null,null,null,null,null,null,null,null,null,null,null,null,{"$f":"A6","v":""},null,{"$f":"A10","v":""},null,{"$f":"A14","v":""},null,{"$f":"A18","v":""},null,{"$f":"A22","v":""},null,{"$f":"A30","v":""},null,{"$f":"A26","v":""},null,{"$f":"IF(A6=\"\",\"\",(IF(M37<>\"\",M37,0))+(IF(O37<>\"\",O37,0))+(IF(Q37<>\"\",Q37,0))+(IF(S37<>\"\",S37,0))+(IF(U37<>\"\",U37,0))+(IF(W37<>\"\",W37,0))+(IF(Y37<>\"\",Y37,0))+(IF(AA37<>\"\",AA37,0)))","v":""}]
["B",null,null,null,null,null,null,null,null,null,null,null,{"$f":"AH6","v":""},null,null,null,{"$f":"A15","v":""},null,{"$f":"A11","v":""},null,{"$f":"A23","v":""},null,{"$f":"A19","v":""},null,{"$f":"A27","v":""},null,{"$f":"A31","v":""},null,{"$f":"IF(A6=\"\",\"\",(IF(M38<>\"\",M38,0))+(IF(O38<>\"\",O38,0))+(IF(Q38<>\"\",Q38,0))+(IF(S38<>\"\",S38,0))+(IF(U38<>\"\",U38,0))+(IF(W38<>\"\",W38,0))+(IF(Y38<>\"\",Y38,0))+(IF(AA38<>\"\",AA38,0)))","v":""}]
["C",null,null,null,null,null,null,null,null,null,null,null,{"$f":"AH10","v":""},null,{"$f":"AH15","v":""},null,null,null,{"$f":"A7","v":""},null,{"$f":"A28","v":""},null,{"$f":"A32","v":""},null,{"$f":"A20","v":""},null,{"$f":"AH24","v":""},null,{"$f":"IF(A7=\"\",\"\",(IF(M39<>\"\",M39,0))+(IF(O39<>\"\",O39,0))+(IF(Q39<>\"\",Q39,0))+(IF(S39<>\"\",S39,0))+(IF(U39<>\"\",U39,0))+(IF(W39<>\"\",W39,0))+(IF(Y39<>\"\",Y39,0))+(IF(AA39<>\"\",AA39,0)))","v":""}]
["D",null,null,null,null,null,null,null,null,null,null,null,{"$f":"AH14","v":""},null,{"$f":"AH11","v":""},null,{"$f":"AH7","v":""},null,null,null,{"$f":"A33","v":""},null,{"$f":"A29","v":""},null,{"$f":"A25","v":""},null,{"$f":"AH21","v":""},null,{"$f":"IF(A7=\"\",\"\",(IF(M40<>\"\",M40,0))+(IF(O40<>\"\",O40,0))+(IF(Q40<>\"\",Q40,0))+(IF(S40<>\"\",S40,0))+(IF(U40<>\"\",U40,0))+(IF(W40<>\"\",W40,0))+(IF(Y40<>\"\",Y40,0))+(IF(AA40<>\"\",AA40,0)))","v":""}]
["E",null,null,null,null,null,null,null,null,null,null,null,{"$f":"AH18","v":""},null,{"$f":"AH23","v":""},null,{"$f":"AH28","v":""},null,{"$f":"AH33","v":""},null,null,null,{"$f":"A8","v":""},null,{"$f":"A12","v":""},null,{"$f":"AH16","v":""},null,{"$f":"IF(A8=\"\",\"\",(IF(M41<>\"\",M41,0))+(IF(O41<>\"\",O41,0))+(IF(Q41<>\"\",Q41,0))+(IF(S41<>\"\",S41,0))+(IF(U41<>\"\",U41,0))+(IF(W41<>\"\",W41,0))+(IF(Y41<>\"\",Y41,0))+(IF(AA41<>\"\",AA41,0)))","v":""}]
["F",null,null,null,null,null,null,null,null,null,null,null,{"$f":"AH22","v":""},null,{"$f":"AH19","v":""},null,{"$f":"AH32","v":""},null,{"$f":"AH29","v":""},null,{"$f":"AH8","v":""},null,null,null,{"$f":"A17","v":""},null,{"$f":"AH13","v":""},null,{"$f":"IF(A8=\"\",\"\",(IF(M42<>\"\",M42,0))+(IF(O42<>\"\",O42,0))+(IF(Q42<>\"\",Q42,0))+(IF(S42<>\"\",S42,0))+(IF(U42<>\"\",U42,0))+(IF(W42<>\"\",W42,0))+(IF(Y42<>\"\",Y42,0))+(IF(AA42<>\"\",AA42,0)))","v":""}]
["G",null,null,null,null,null,null,null,null,null,null,null,{"$f":"AH30","v":""},null,{"$f":"AH27","v":""},null,{"$f":"AH20","v":""},null,{"$f":"AH25","v":""},null,{"$f":"AH12","v":""},null,{"$f":"AH17","v":""},null,null,null,{"$f":"A9","v":""},null,{"$f":"IF(A9=\"\",\"\",(IF(M43<>\"\",M43,0))+(IF(O43<>\"\",O43,0))+(IF(Q43<>\"\",Q43,0))+(IF(S43<>\"\",S43,0))+(IF(U43<>\"\",U43,0))+(IF(W43<>\"\",W43,0))+(IF(Y43<>\"\",Y43,0))+(IF(AA43<>\"\",AA43,0)))","v":""}]
["H",null,null,null,null,null,null,null,null,null,null,null,{"$f":"AH26","v":""},null,{"$f":"AH31","v":""},null,{"$f":"A24","v":""},null,{"$f":"A21","v":""},null,{"$f":"A16","v":""},null,{"$f":"A13","v":""},null,{"$f":"AH9","v":""},null,null,null,{"$f":"IF(A9=\"\",\"\",(IF(M44<>\"\",M44,0))+(IF(O44<>\"\",O44,0))+(IF(Q44<>\"\",Q44,0))+(IF(S44<>\"\",S44,0))+(IF(U44<>\"\",U44,0))+(IF(W44<>\"\",W44,0))+(IF(Y44<>\"\",Y44,0))+(IF(AA44<>\"\",AA44,0)))","v":""}]
[null,null,null,null,null,null,null,null,null,null,null,null,null,null,null,null,null,null,null,null,null,null,null,null,null,null,null,null,null,null,null,null,null,null,null,""]
[null,null,null,null,null,null,null,null,null,null,null,null,null,null,null,null,null,null,null,null,null,null,null,null,null,null,null,null,null,null,null,null,null,null,null,""]
["½ -Finals"]
["P",1,2,3,null,"Teams",null,null,null,null,null,null,null,null,"Z-Nr.",null,null,"Teams",null,null,null,null,null,null,null,null,null,null,null,null,1,2,3,"P",null,null,null,null,null,"Rangliste Final"]
[{"$f":"IF(B49=\"\",\"\",IF(C49=\"\",B49,IF(B49+C49=2,3,IF(D49=\"\",B49+C49,B49+C49+D49))))","v":""},null,null,null,{"$f":"IF(AE37=\"\",\"\",IF(AE37=1,A37,IF(AE38=1,A38,IF(AE39=1,A39,IF(AE40=1,A40,IF(AE41=1,A41,IF(AE42=1,A42,IF(AE43=1,A43,A44))))))))","v":""},{"$f":"IF(AE37=\"\",\"\",IF(AE37=1,C37,IF(AE38=1,C38,IF(AE39=1,C39,IF(AE40=1,C40,IF(AE41=1,C41,IF(AE42=1,C42,IF(AE43=1,C43,C44))))))))","v":""},null,null,null,null,null,null,null,null,57,null,null,{"$f":"IF('8er Gr2'!AE37=\"\",\"\",IF('8er Gr2'!AE37=2,'8er Gr2'!C37,IF('8er Gr2'!AE38=2,'8er Gr2'!C38,IF('8er Gr2'!AE39=2,'8er Gr2'!C39,IF('8er Gr2'!AE40=2,'8er Gr2'!C40,IF('8er Gr2'!AE41=2,'8er Gr2'!C41,IF('8er Gr2'!AE42=2,'8er Gr2'!C42,IF('8er Gr2'!AE43=2,'8er Gr2'!C43,'8er Gr2'!C44))))))))","v":""},null,null,null,null,null,null,null,null,null,null,null,{"$f":"IF('8er Gr2'!AE37=\"\",\"\",IF('8er Gr2'!AE37=2,'8er Gr2'!A37,IF('8er Gr2'!AE38=2,'8er Gr2'!A38,IF('8er Gr2'!AE39=2,'8er Gr2'!A39,IF('8er Gr2'!AE40=2,'8er Gr2'!A40,IF('8er Gr2'!AE41=2,'8er Gr2'!A41,IF('8er Gr2'!AE42=2,'8er Gr2'!A42,IF('8er Gr2'!AE43=2,'8er Gr2'!A43,'8er Gr2'!A44))))))))","v":""},{"$f":"IF(B49=1,\"0\",IF(B49=\"\",\"\",\"1\"))","v":""},"","",{"$f":"IF(AE49=\"\",\"\",IF(AF49=\"\",AE49,IF(AE49+AF49=2,3,IF(AG49=\"\",AE49+AF49,AE49+AF49+AG49))))","v":""},null,""]
[{"$f":"IF(B50=\"\",\"\",IF(C50=\"\",B50,IF(B50+C50=2,3,IF(D50=\"\",B50+C50,B50+C50+D50))))","v":""},null,null,null,{"$f":"IF('8er Gr2'!AE37=\"\",\"\",IF('8er Gr2'!AE37=1,'8er Gr2'!A37,IF('8er Gr2'!AE38=1,'8er Gr2'!A38,IF('8er Gr2'!AE39=1,'8er Gr2'!A39,IF('8er Gr2'!AE40=1,'8er Gr2'!A40,IF('8er Gr2'!AE41=1,'8er Gr2'!A41,IF('8er Gr2'!AE42=1,'8er Gr2'!A42,IF('8er Gr2'!AE43=1,'8er Gr2'!A43,'8er Gr2'!A44))))))))","v":""},{"$f":"IF('8er Gr2'!AE37=\"\",\"\",IF('8er Gr2'!AE37=1,'8er Gr2'!C37,IF('8er Gr2'!AE38=1,'8er Gr2'!C38,IF('8er Gr2'!AE39=1,'8er Gr2'!C39,IF('8er Gr2'!AE40=1,'8er Gr2'!C40,IF('8er Gr2'!AE41=1,'8er Gr2'!C41,IF('8er Gr2'!AE42=1,'8er Gr2'!C42,IF('8er Gr2'!AE43=1,'8er Gr2'!C43,'8er Gr2'!C44))))))))","v":""},null,null,null,null,null,null,null,null,58,null,null,{"$f":"IF(AE37=\"\",\"\",IF(AE37=2,C37,IF(AE38=2,C38,IF(AE39=2,C39,IF(AE40=2,C40,IF(AE41=2,C41,IF(AE42=2,C42,IF(AE43=2,C43,C44))))))))","v":""},null,null,null,null,null,null,null,null,null,null,null,{"$f":"IF(AE37=\"\",\"\",IF(AE37=2,A37,IF(AE38=2,A38,IF(AE39=2,A39,IF(AE40=2,A40,IF(AE41=2,A41,IF(AE42=2,A42,IF(AE43=2,A43,A44))))))))","v":""},"","","",{"$f":"IF(AE50=\"\",\"\",IF(AF50=\"\",AE50,IF(AE50+AF50=2,3,IF(AG50=\"\",AE50+AF50,AE50+AF50+AG50))))","v":""},null,""]
["Plazierungszug 15./16.",null,null,null,null,null,null,null,null,null,null,null,null,null,null,null,null,null,null,null,null,null,null,null,null,null,null,null,null,null,null,null,null,null,null,null,null,null,null,16,null,{"$f":"IF(C39=\"\",\"\",IF(OR(A52=\"\",A52+AH52>3,A52+AH52<=2),\"\",IF(A52<=1,F52,R52)))","v":""}]
[{"$f":"IF(B52=\"\",\"\",IF(C52=\"\",B52,IF(B52+C52=2,3,IF(D52=\"\",B52+C52,B52+C52+D52))))","v":""},null,null,null,{"$f":"IF(AE37=\"\",\"\",IF(AE37=8,A37,IF(AE38=8,A38,IF(AE39=8,A39,IF(AE40=8,A40,IF(AE41=8,A41,IF(AE42=8,A42,IF(AE43=8,A43,A44))))))))","v":""},{"$f":"IF(AE37=\"\",\"\",IF(AE37=8,C37,IF(AE38=8,C38,IF(AE39=8,C39,IF(AE40=8,C40,IF(AE41=8,C41,IF(AE42=8,C42,IF(AE43=8,C43,C44))))))))","v":""},null,null,null,null,null,null,null,null,59,null,null,{"$f":"IF('8er Gr2'!AE37=\"\",\"\",IF('8er Gr2'!AE37=8,'8er Gr2'!C37,IF('8er Gr2'!AE38=8,'8er Gr2'!C38,IF('8er Gr2'!AE39=8,'8er Gr2'!C39,IF('8er Gr2'!AE40=8,'8er Gr2'!C40,IF('8er Gr2'!AE41=8,'8er Gr2'!C41,IF('8er Gr2'!AE42=8,'8er Gr2'!C42,IF('8er Gr2'!AE43=8,'8er Gr2'!C43,'8er Gr2'!C44))))))))","v":""},null,null,null,null,null,null,null,null,null,null,null,{"$f":"IF('8er Gr2'!AE37=\"\",\"\",IF('8er Gr2'!AE37=8,'8er Gr2'!A37,IF('8er Gr2'!AE38=8,'8er Gr2'!A38,IF('8er Gr2'!AE39=8,'8er Gr2'!A39,IF('8er Gr2'!AE40=8,'8er Gr2'!A40,IF('8er Gr2'!AE41=8,'8er Gr2'!A41,IF('8er Gr2'!AE42=8,'8er Gr2'!A42,IF('8er Gr2'!AE43=8,'8er Gr2'!A43,'8er Gr2'!A44))))))))","v":""},{"$f":"IF(B52=1,\"0\",IF(B52=\"\",\"\",\"1\"))","v":""},{"$f":"IF(C52=1,\"0\",IF(C52=\"\",\"\",\"1\"))","v":""},{"$f":"IF(D52=1,\"0\",IF(D52=\"\",\"\",\"1\"))","v":""},{"$f":"IF(AE52=\"\",\"\",IF(AF52=\"\",AE52,IF(AE52+AF52=2,3,IF(AG52=\"\",AE52+AF52,AE52+AF52+AG52))))","v":""},null,"",null,null,null,15,null,{"$f":"IF(C39=\"\",\"\",IF(OR(A52=\"\",A52+AH52>3,A52+AH52<=2),\"\",IF(A52>=2,F52,R52)))","v":""}]
["Plazierungszug 13./14.",null,null,null,null,null,null,null,null,null,null,null,null,null,null,null,null,null,null,null,null,null,null,null,null,null,null,null,null,null,null,null,null,null,null,null,null,null,null,14,null,{"$f":"IF(C41=\"\",\"\",IF(OR(A54=\"\",A54+AH54>3,A54+AH54<=2),\"\",IF(A54<=1,F54,R54)))","v":""}]
[{"$f":"IF(B54=\"\",\"\",IF(C54=\"\",B54,IF(B54+C54=2,3,IF(D54=\"\",B54+C54,B54+C54+D54))))","v":""},null,null,null,{"$f":"IF(AE37=\"\",\"\",IF(AE37=7,A37,IF(AE38=7,A38,IF(AE39=7,A39,IF(AE40=7,A40,IF(AE41=7,A41,IF(AE42=7,A42,IF(AE43=7,A43,A44))))))))","v":""},{"$f":"IF(AE37=\"\",\"\",IF(AE37=7,C37,IF(AE38=7,C38,IF(AE39=7,C39,IF(AE40=7,C40,IF(AE41=7,C41,IF(AE42=7,C42,IF(AE43=7,C43,C44))))))))","v":""},null,null,null,null,null,null,null,null,60,null,null,{"$f":"IF('8er Gr2'!AE37=\"\",\"\",IF('8er Gr2'!AE37=7,'8er Gr2'!C37,IF('8er Gr2'!AE38=7,'8er Gr2'!C38,IF('8er Gr2'!AE39=7,'8er Gr2'!C39,IF('8er Gr2'!AE40=7,'8er Gr2'!C40,IF('8er Gr2'!AE41=7,'8er Gr2'!C41,IF('8er Gr2'!AE42=7,'8er Gr2'!C42,IF('8er Gr2'!AE43=7,'8er Gr2'!C43,'8er Gr2'!C44))))))))","v":""},null,null,null,null,null,null,null,null,null,null,null,{"$f":"IF('8er Gr2'!AE37=\"\",\"\",IF('8er Gr2'!AE37=7,'8er Gr2'!A37,IF('8er Gr2'!AE38=7,'8er Gr2'!A38,IF('8er Gr2'!AE39=7,'8er Gr2'!A39,IF('8er Gr2'!AE40=7,'8er Gr2'!A40,IF('8er Gr2'!AE41=7,'8er Gr2'!A41,IF('8er Gr2'!AE42=7,'8er Gr2'!A42,IF('8er Gr2'!AE43=7,'8er Gr2'!A43,'8er Gr2'!A44))))))))","v":""},{"$f":"IF(B54=1,\"0\",IF(B54=\"\",\"\",\"1\"))","v":""},{"$f":"IF(C54=1,\"0\",IF(C54=\"\",\"\",\"1\"))","v":""},{"$f":"IF(D54=1,\"0\",IF(D54=\"\",\"\",\"1\"))","v":""},{"$f":"IF(AE54=\"\",\"\",IF(AF54=\"\",AE54,IF(AE54+AF54=2,3,IF(AG54=\"\",AE54+AF54,AE54+AF54+AG54))))","v":""},null,"",null,null,null,13,null,{"$f":"IF(C41=\"\",\"\",IF(OR(A54=\"\",A54+AH54>3,A54+AH54<=2),\"\",IF(A54>=2,F54,R54)))","v":""}]
["Plazierungszug 11./12.",null,null,null,null,null,null,null,null,null,null,null,null,null,null,null,null,null,null,null,null,null,null,null,null,null,null,null,null,null,null,null,null,null,null,null,null,null,null,12,null,{"$f":"IF(C41=\"\",\"\",IF(OR(A56=\"\",A56+AH56>3,A56+AH56<=2),\"\",IF(A56<=1,F56,R56)))","v":""}]
[{"$f":"IF(B56=\"\",\"\",IF(C56=\"\",B56,IF(B56+C56=2,3,IF(D56=\"\",B56+C56,B56+C56+D56))))","v":""},null,null,null,{"$f":"IF(AE37=\"\",\"\",IF(AE37=6,A37,IF(AE38=6,A38,IF(AE39=6,A39,IF(AE40=6,A40,IF(AE41=6,A41,IF(AE42=6,A42,IF(AE43=6,A43,A44))))))))","v":""},{"$f":"IF(AE37=\"\",\"\",IF(AE37=6,C37,IF(AE38=6,C38,IF(AE39=6,C39,IF(AE40=6,C40,IF(AE41=6,C41,IF(AE42=6,C42,IF(AE43=6,C43,C44))))))))","v":""},null,null,null,null,null,null,null,null,61,null,null,{"$f":"IF('8er Gr2'!AE37=\"\",\"\",IF('8er Gr2'!AE37=6,'8er Gr2'!C37,IF('8er Gr2'!AE38=6,'8er Gr2'!C38,IF('8er Gr2'!AE39=6,'8er Gr2'!C39,IF('8er Gr2'!AE40=6,'8er Gr2'!C40,IF('8er Gr2'!AE41=6,'8er Gr2'!C41,IF('8er Gr2'!AE42=6,'8er Gr2'!C42,IF('8er Gr2'!AE43=6,'8er Gr2'!C43,'8er Gr2'!C44))))))))","v":""},null,null,null,null,null,null,null,null,null,null,null,{"$f":"IF('8er Gr2'!AE37=\"\",\"\",IF('8er Gr2'!AE37=6,'8er Gr2'!A37,IF('8er Gr2'!AE38=6,'8er Gr2'!A38,IF('8er Gr2'!AE39=6,'8er Gr2'!A39,IF('8er Gr2'!AE40=6,'8er Gr2'!A40,IF('8er Gr2'!AE41=6,'8er Gr2'!A41,IF('8er Gr2'!AE42=6,'8er Gr2'!A42,IF('8er Gr2'!AE43=6,'8er Gr2'!A43,'8er Gr2'!A44))))))))","v":""},{"$f":"IF(B56=1,\"0\",IF(B56=\"\",\"\",\"1\"))","v":""},{"$f":"IF(C56=1,\"0\",IF(C56=\"\",\"\",\"1\"))","v":""},{"$f":"IF(D56=1,\"0\",IF(D56=\"\",\"\",\"1\"))","v":""},{"$f":"IF(AE56=\"\",\"\",IF(AF56=\"\",AE56,IF(AE56+AF56=2,3,IF(AG56=\"\",AE56+AF56,AE56+AF56+AG56))))","v":""},null,"",null,null,null,11,null,{"$f":"IF(C41=\"\",\"\",IF(OR(A56=\"\",A56+AH56>3,A56+AH56<=2),\"\",IF(A56>=2,F56,R56)))","v":""}]
["Plazierungszug 9./10.",null,null,null,null,null,null,null,null,null,null,null,null,null,null,null,null,null,null,null,null,null,null,null,null,null,null,null,null,null,null,null,null,null,null,null,null,null,null,10,null,{"$f":"IF(C41=\"\",\"\",IF(OR(A58=\"\",A58+AH58>3,A58+AH58<=2),\"\",IF(A58<=1,F58,R58)))","v":""}]
[{"$f":"IF(B58=\"\",\"\",IF(C58=\"\",B58,IF(B58+C58=2,3,IF(D58=\"\",B58+C58,B58+C58+D58))))","v":""},null,null,null,{"$f":"IF(AE37=\"\",\"\",IF(AE37=5,A37,IF(AE38=5,A38,IF(AE39=5,A39,IF(AE40=5,A40,IF(AE41=5,A41,IF(AE42=5,A42,IF(AE43=5,A43,A44))))))))","v":""},{"$f":"IF(AE37=\"\",\"\",IF(AE37=5,C37,IF(AE38=5,C38,IF(AE39=5,C39,IF(AE40=5,C40,IF(AE41=5,C41,IF(AE42=5,C42,IF(AE43=5,C43,C44))))))))","v":""},null,null,null,null,null,null,null,null,62,null,null,{"$f":"IF('8er Gr2'!AE37=\"\",\"\",IF('8er Gr2'!AE37=5,'8er Gr2'!C37,IF('8er Gr2'!AE38=5,'8er Gr2'!C38,IF('8er Gr2'!AE39=5,'8er Gr2'!C39,IF('8er Gr2'!AE40=5,'8er Gr2'!C40,IF('8er Gr2'!AE41=5,'8er Gr2'!C41,IF('8er Gr2'!AE42=5,'8er Gr2'!C42,IF('8er Gr2'!AE43=5,'8er Gr2'!C43,'8er Gr2'!C44))))))))","v":""},null,null,null,null,null,null,null,null,null,null,null,{"$f":"IF('8er Gr2'!AE37=\"\",\"\",IF('8er Gr2'!AE37=5,'8er Gr2'!A37,IF('8er Gr2'!AE38=5,'8er Gr2'!A38,IF('8er Gr2'!AE39=5,'8er Gr2'!A39,IF('8er Gr2'!AE40=5,'8er Gr2'!A40,IF('8er Gr2'!AE41=5,'8er Gr2'!A41,IF('8er Gr2'!AE42=5,'8er Gr2'!A42,IF('8er Gr2'!AE43=5,'8er Gr2'!A43,'8er Gr2'!A44))))))))","v":""},{"$f":"IF(B58=1,\"0\",IF(B58=\"\",\"\",\"1\"))","v":""},{"$f":"IF(C58=1,\"0\",IF(C58=\"\",\"\",\"1\"))","v":""},{"$f":"IF(D58=1,\"0\",IF(D58=\"\",\"\",\"1\"))","v":""},{"$f":"IF(AE58=\"\",\"\",IF(AF58=\"\",AE58,IF(AE58+AF58=2,3,IF(AG58=\"\",AE58+AF58,AE58+AF58+AG58))))","v":""},null,"",null,null,null,9,null,{"$f":"IF(C41=\"\",\"\",IF(OR(A58=\"\",A58+AH58>3,A58+AH58<=2),\"\",IF(A58>=2,F58,R58)))","v":""}]
["Plazierungszug 7./8.",null,null,null,null,null,null,null,null,null,null,null,null,null,null,null,null,null,null,null,null,null,null,null,null,null,null,null,null,null,null,null,null,null,null,null,null,null,null,8,null,{"$f":"IF(C43=\"\",\"\",IF(OR(A60=\"\",A60+AH60>3,A60+AH60<=2),\"\",IF(A60<=1,F60,R60)))","v":""}]
[{"$f":"IF(B60=\"\",\"\",IF(C60=\"\",B60,IF(B60+C60=2,3,IF(D60=\"\",B60+C60,B60+C60+D60))))","v":""},null,null,null,{"$f":"IF(AE37=\"\",\"\",IF(AE37=4,A37,IF(AE38=4,A38,IF(AE39=4,A39,IF(AE40=4,A40,IF(AE41=4,A41,IF(AE42=4,A42,IF(AE43=4,A43,A44))))))))","v":""},{"$f":"IF(AE37=\"\",\"\",IF(AE37=4,C37,IF(AE38=4,C38,IF(AE39=4,C39,IF(AE40=4,C40,IF(AE41=4,C41,IF(AE42=4,C42,IF(AE43=4,C43,C44))))))))","v":""},null,null,null,null,null,null,null,null,63,null,null,{"$f":"IF('8er Gr2'!AE37=\"\",\"\",IF('8er Gr2'!AE37=4,'8er Gr2'!C37,IF('8er Gr2'!AE38=4,'8er Gr2'!C38,IF('8er Gr2'!AE39=4,'8er Gr2'!C39,IF('8er Gr2'!AE40=4,'8er Gr2'!C40,IF('8er Gr2'!AE41=4,'8er Gr2'!C41,IF('8er Gr2'!AE42=4,'8er Gr2'!C42,IF('8er Gr2'!AE43=4,'8er Gr2'!C43,'8er Gr2'!C44))))))))","v":""},null,null,null,null,null,null,null,null,null,null,null,{"$f":"IF('8er Gr2'!AE37=\"\",\"\",IF('8er Gr2'!AE37=4,'8er Gr2'!A37,IF('8er Gr2'!AE38=4,'8er Gr2'!A38,IF('8er Gr2'!AE39=4,'8er Gr2'!A39,IF('8er Gr2'!AE40=4,'8er Gr2'!A40,IF('8er Gr2'!AE41=4,'8er Gr2'!A41,IF('8er Gr2'!AE42=4,'8er Gr2'!A42,IF('8er Gr2'!AE43=4,'8er Gr2'!A43,'8er Gr2'!A44))))))))","v":""},{"$f":"IF(B60=1,\"0\",IF(B60=\"\",\"\",\"1\"))","v":""},{"$f":"IF(C60=1,\"0\",IF(C60=\"\",\"\",\"1\"))","v":""},{"$f":"IF(D60=1,\"0\",IF(D60=\"\",\"\",\"1\"))","v":""},{"$f":"IF(AE60=\"\",\"\",IF(AF60=\"\",AE60,IF(AE60+AF60=2,3,IF(AG60=\"\",AE60+AF60,AE60+AF60+AG60))))","v":""},null,"",null,null,null,7,null,{"$f":"IF(C43=\"\",\"\",IF(OR(A60=\"\",A60+AH60>3,A60+AH60<=2),\"\",IF(A60>=2,F60,R60)))","v":""}]
["Plazierungszug 5./6.",null,null,null,null,null,null,null,null,null,null,null,null,null,null,null,null,null,null,null,null,null,null,null,null,null,null,null,null,null,null,null,null,null,null,null,null,null,null,6,null,{"$f":"IF(C43=\"\",\"\",IF(OR(A62=\"\",A62+AH62>3,A62+AH62<=2),\"\",IF(A62<=1,F62,R62)))","v":""}]
[{"$f":"IF(B62=\"\",\"\",IF(C62=\"\",B62,IF(B62+C62=2,3,IF(D62=\"\",B62+C62,B62+C62+D62))))","v":""},null,null,null,{"$f":"IF(AE37=\"\",\"\",IF(AE37=3,A37,IF(AE38=3,A38,IF(AE39=3,A39,IF(AE40=3,A40,IF(AE41=3,A41,IF(AE42=3,A42,IF(AE43=3,A43,A44))))))))","v":""},{"$f":"IF(AE37=\"\",\"\",IF(AE37=3,C37,IF(AE38=3,C38,IF(AE39=3,C39,IF(AE40=3,C40,IF(AE41=3,C41,IF(AE42=3,C42,IF(AE43=3,C43,C44))))))))","v":""},null,null,null,null,null,null,null,null,64,null,null,{"$f":"IF('8er Gr2'!AE37=\"\",\"\",IF('8er Gr2'!AE37=3,'8er Gr2'!C37,IF('8er Gr2'!AE38=3,'8er Gr2'!C38,IF('8er Gr2'!AE39=3,'8er Gr2'!C39,IF('8er Gr2'!AE40=3,'8er Gr2'!C40,IF('8er Gr2'!AE41=3,'8er Gr2'!C41,IF('8er Gr2'!AE42=3,'8er Gr2'!C42,IF('8er Gr2'!AE43=3,'8er Gr2'!C43,'8er Gr2'!C44))))))))","v":""},null,null,null,null,null,null,null,null,null,null,null,{"$f":"IF('8er Gr2'!AE37=\"\",\"\",IF('8er Gr2'!AE37=3,'8er Gr2'!A37,IF('8er Gr2'!AE38=3,'8er Gr2'!A38,IF('8er Gr2'!AE39=3,'8er Gr2'!A39,IF('8er Gr2'!AE40=3,'8er Gr2'!A40,IF('8er Gr2'!AE41=3,'8er Gr2'!A41,IF('8er Gr2'!AE42=3,'8er Gr2'!A42,IF('8er Gr2'!AE43=3,'8er Gr2'!A43,'8er Gr2'!A44))))))))","v":""},{"$f":"IF(B62=1,\"0\",IF(B62=\"\",\"\",\"1\"))","v":""},{"$f":"IF(C62=1,\"0\",IF(C62=\"\",\"\",\"1\"))","v":""},{"$f":"IF(D62=1,\"0\",IF(D62=\"\",\"\",\"1\"))","v":""},{"$f":"IF(AE62=\"\",\"\",IF(AF62=\"\",AE62,IF(AE62+AF62=2,3,IF(AG62=\"\",AE62+AF62,AE62+AF62+AG62))))","v":""}," ","",null,null,null,5,null,{"$f":"IF(C41=\"\",\"\",IF(OR(A62=\"\",A62+AH62>3,A62+AH62<=2),\"\",IF(A62>=2,F62,R62)))","v":""}]
["Kleiner Final",null,null,null,null,null,null,null,null,null,null,null,null,null,null,null,null,null,null,null,null,null,null,null,null,null,null,null,null,null,null,null,null,null,null,null,null,null,null,4,null,{"$f":"IF(C41=\"\",\"\",IF(OR(A64=\"\",A64+AH64>3,A64+AH64<=2),\"\",IF(A64<=1,F64,R64)))","v":""}]
[{"$f":"IF(B64=\"\",\"\",IF(C64=\"\",B64,IF(B64+C64=2,3,IF(D64=\"\",B64+C64,B64+C64+D64))))","v":""},null,null,null,{"$f":"IF(A49=\"\",\"\",IF(A49>1,AD49,E49))","v":""},{"$f":"IF(A49=\"\",\"\",IF(A49>1,R49,F49))","v":""},null,null,null,null,null,null,null,null,65,null,null,{"$f":"IF(A50=\"\",\"\",IF(A50>1,R50,F50))","v":""},null,null,null,null,null,null,null,null,null,null,null,{"$f":"IF(A50=\"\",\"\",IF(A50>1,AD50,E50))","v":""},{"$f":"IF(B64=1,\"0\",IF(B64=\"\",\"\",\"1\"))","v":""},{"$f":"IF(C64=1,\"0\",IF(C64=\"\",\"\",\"1\"))","v":""},{"$f":"IF(D64=1,\"0\",IF(D64=\"\",\"\",\"1\"))","v":""},{"$f":"IF(AE64=\"\",\"\",IF(AF64=\"\",AE64,IF(AE64+AF64=2,3,IF(AG64=\"\",AE64+AF64,AE64+AF64+AG64))))","v":""},null,"",null,null,null,3,null,{"$f":"IF(C43=\"\",\"\",IF(OR(A64=\"\",A64+AH64>3,A64+AH64<=2),\"\",IF(A64>=2,F64,R64)))","v":""}]
["Final",null,null,null,null,null,null,null,null,null,null,null,null,null,null,null,null,null,null,null,null,null,null,null,null,null,null,null,null,null,null,null,null,null,null,null,null,null,null,2,null,{"$f":"IF(C43=\"\",\"\",IF(OR(A66=\"\",A66+AH66>3,A66+AH66<=2),\"\",IF(A66<=1,F66,R66)))","v":""}]
[{"$f":"IF(B66=\"\",\"\",IF(C66=\"\",B66,IF(B66+C66=2,3,IF(D66=\"\",B66+C66,B66+C66+D66))))","v":""},null,null,null,{"$f":"IF(A49=\"\",\"\",IF(A49>1,E49,AD49))","v":""},{"$f":"IF(A49=\"\",\"\",IF(A49>1,F49,R49))","v":""},null,null,null,null,null,null,null,null,66,null,null,{"$f":"IF(A50=\"\",\"\",IF(A50>1,F50,R50))","v":""},null,null,null,null,null,null,null,null,null,null,null,{"$f":"IF(A50=\"\",\"\",IF(A50>1,E50,AD50))","v":""},{"$f":"IF(B66=1,\"0\",IF(B66=\"\",\"\",\"1\"))","v":""},{"$f":"IF(C66=1,\"0\",IF(C66=\"\",\"\",\"1\"))","v":""},{"$f":"IF(D66=1,\"0\",IF(D66=\"\",\"\",\"1\"))","v":""},{"$f":"IF(AE66=\"\",\"\",IF(AF66=\"\",AE66,IF(AE66+AF66=2,3,IF(AG66=\"\",AE66+AF66,AE66+AF66+AG66))))","v":""},null,"",null,null,null,1,null,{"$f":"IF(C43=\"\",\"\",IF(OR(A66=\"\",A66+AH66>3,A66+AH66<=2),\"\",IF(A66>=2,F66,R66)))","v":""}]

{"sheet":"8er Gr2","index":1,"n_rows":44,"n_cols":42,"rows_kept":44,"cut":false,"hidden":false,"merged":[[42,14,42,15],[38,14,38,15],[39,14,39,15],[43,2,43,11],[43,14,43,15],[32,14,32,16],[31,14,31,16],[43,12,43,13],[35,12,35,13],[36,12,36,13],[37,12,37,13],[38,12,38,13],[39,12,39,13],[37,2,37,11],[36,2,36,11],[35,2,35,11],[42,2,42,11],[41,2,41,11],[40,2,40,11],[39,2,39,11],[40,12,40,13],[41,12,41,13],[42,12,42,13],[43,16,43,17],[12,17,12,28],[13,17,13,28],[6,17,6,28],[7,17,7,28],[36,14,36,15],[40,14,40,15],[41,20,41,21],[35,18,35,19],[36,18,36,19],[37,18,37,19],[38,18,38,19],[39,18,39,19],[40,18,40,19],[41,18,41,19],[41,14,41,15],[9,17,9,28],[18,17,18,28],[19,17,19,28],[20,17,20,28],[21,17,21,28],[14,17,14,28],[8,17,8,28],[15,17,15,28],[16,17,16,28],[1,2,1,8],[2,4,2,11],[35,26,35,27],[35,24,35,25],[35,22,35,23],[35,20,35,21],[35,14,35,15],[4,5,4,13],[28,14,28,16],[27,14,27,16],[30,14,30,16],[29,14,29,16],[35,16,35,17],[1,26,1,31],[35,30,35,31],[35,28,35,29],[10,17,10,28],[11,17,11,28],[15,5,15,13],[28,5,28,13],[7,5,7,13],[18,14,18,16],[17,14,17,16],[30,17,30,28],[0,6,0,23],[1,12,1,18],[20,14,20,16],[19,14,19,16],[14,14,14,16],[13,14,13,16],[16,14,16,16],[15,14,15,16],[26,14,26,16],[25,14,25,16],[22,14,22,16],[21,14,21,16],[24,14,24,16],[23,14,23,16],[5,5,5,13],[5,14,5,16],[4,17,4,28],[4,14,4,16],[5,17,5,28],[8,5,8,13],[6,5,6,13],[8,14,8,16],[7,14,7,16],[6,14,6,16],[31,17,31,28],[32,17,32,28],[37,26,37,27],[36,24,36,25],[37,24,37,25],[37,14,37,15],[36,22,36,23],[37,22,37,23],[36,20,36,21],[37,20,37,21],[36,16,36,17],[37,16,37,17],[37,28,37,29],[36,28,36,29],[36,26,36,27],[43,30,43,31],[43,26,43,27],[43,24,43,25],[43,22,43,23],[43,20,43,21],[38,0,38,1],[38,28,38,29],[38,30,38,31],[38,2,38,11],[38,22,38,23],[39,22,39,23],[38,20,38,21],[39,20,39,21],[41,28,41,29],[41,30,41,31],[40,0,40,1],[40,28,40,29],[40,30,40,31],[41,26,41,27],[40,24,40,25],[41,24,41,25],[41,22,41,23],[40,22,40,23],[38,26,38,27],[37,30,37,31],[36,30,36,31],[39,28,39,29],[39,30,39,31],[42,28,42,29],[42,30,42,31],[42,26,42,27],[42,24,42,25],[42,22,42,23],[39,26,39,27],[40,26,40,27],[38,24,38,25],[39,24,39,25],[10,14,10,16],[9,14,9,16],[12,14,12,16],[11,14,11,16],[32,5,32,13],[29,5,29,13],[30,5,30,13],[31,5,31,13],[24,5,24,13],[25,5,25,13],[26,5,26,13],[27,5,27,13],[9,5,9,13],[10,5,10,13],[11,5,11,13],[12,5,12,13],[13,5,13,13],[14,5,14,13],[20,5,20,13],[29,17,29,28],[22,17,22,28],[23,17,23,28],[24,17,24,28],[25,17,25,28],[22,5,22,13],[23,5,23,13],[43,0,43,1],[42,0,42,1],[42,18,42,19],[41,0,41,1],[39,0,39,1],[43,18,43,19],[41,16,41,17],[42,16,42,17],[38,16,38,17],[39,16,39,17],[40,16,40,17],[42,20,42,21],[43,28,43,29],[40,20,40,21],[37,0,37,1],[35,0,35,1],[36,0,36,1],[16,5,16,13],[17,5,17,13],[18,5,18,13],[19,5,19,13],[17,17,17,28],[21,5,21,13],[26,17,26,28],[27,17,27,28],[28,17,28,28]]}
[null,null,null,null,null,null,{"$f":"'8er Gr1'!G1:X1","v":"OSM"}]
["Turnier:",null,null,null,null,null,null,null,null,null,"Datum:",null,null,null,null,null,null,null,null,null,"Gewichtsklasse:"]
["Turnierleiter:"]
[null,null,null,null,null,null,null,null,null,null,null,null,null,null,null,null,null,null,null,null,null,null,null,null,null,null,null,null,"8-Turnier"]
["P",1,2,3,null,"Teams",null,null,null,null,null,null,null,null,"Z-Nr.",null,null,"Teams",null,null,null,null,null,null,null,null,null,null,null,null,1,2,3,"P","Zeit:","Prüfung","Z-Nr."]
[{"$f":"IF(B6=\"\",\"\",IF(C6=\"\",B6,IF(B6+C6=2,3,IF(D6=\"\",B6+C6,B6+C6+D6))))","v":""},null,null,null,"A",{"$f":"IF(C37=\"\",\"\",C37)","v":""},null,null,null,null,null,null,null,null,{"$f":"CONCATENATE(AN6,AO6,AK6,AP6)","v":"1(29)"},null,null,{"$f":"IF(C38=\"\",\"\",C38)","v":""},null,null,null,null,null,null,null,null,null,null,null,"B",{"$f":"IF(B6=1,\"0\",IF(B6=\"\",\"\",\"1\"))","v":""},{"$f":"IF(C6=1,\"0\",IF(C6=\"\",\"\",\"1\"))","v":""},"",{"$f":"IF(AE6=\"\",\"\",IF(AF6=\"\",AE6,IF(AE6+AF6=2,3,IF(AG6=\"\",AE6+AF6,AE6+AF6+AG6))))","v":""}," ",{"$f":"IF(A6=\"\",\"\",IF(AND(A6=1,AF6=1)+OR(C6=\"\")+AND(A6+AH6>3)+OR(A6+AH6=2),\"nicht i.o.\",\"i.o.\"))","v":""},29,null,null,1,"(",")"]
[{"$f":"IF(B7=\"\",\"\",IF(C7=\"\",B7,IF(B7+C7=2,3,IF(D7=\"\",B7+C7,B7+C7+D7))))","v":""},null,null,null,"C",{"$f":"IF(C39=\"\",\"\",C39)","v":""},null,null,null,null,null,null,null,null,{"$f":"CONCATENATE(AN7,AO7,AK7,AP7)","v":"2(30)"},null,null,{"$f":"IF(C40=\"\",\"\",C40)","v":""},null,null,null,null,null,null,null,null,null,null,null,"D",{"$f":"IF(B7=1,\"0\",IF(B7=\"\",\"\",\"1\"))","v":""},{"$f":"IF(C7=1,\"0\",IF(C7=\"\",\"\",\"1\"))","v":""},{"$f":"IF(D7=1,\"0\",IF(D7=\"\",\"\",\"1\"))","v":""},{"$f":"IF(AE7=\"\",\"\",IF(AF7=\"\",AE7,IF(AE7+AF7=2,3,IF(AG7=\"\",AE7+AF7,AE7+AF7+AG7))))","v":""},null,{"$f":"IF(A7=\"\",\"\",IF(AND(A7=1,AF7=1)+OR(C7=\"\")+AND(A7+AH7>3)+OR(A7+AH7=2),\"nicht i.o.\",\"i.o.\"))","v":""},30,null,null,2,"(",")"]
["",null,null,null,"E",{"$f":"IF(C41=\"\",\"\",C41)","v":""},null,null,null,null,null,null,null,null,"3(31)",null,null,{"$f":"IF(C42=\"\",\"\",C42)","v":""},null,null,null,null,null,null,null,null,null,null,null,"F","","","","",null,"",31,null,null,3,"(",")"]
["",null,null,null,"G",{"$f":"IF(C43=\"\",\"\",C43)","v":""},null,null,null,null,null,null,null,null,"4(32)",null,null,{"$f":"IF(C44=\"\",\"\",C44)","v":""},null,null,null,null,null,null,null,null,null,null,null,"H","","","","",null,"",32,null,null,4,"(",")"]
["",null,null,null,"A",{"$f":"IF(C37=\"\",\"\",C37)","v":""},null,null,null,null,null,null,null,null,"5(33)",null,null,{"$f":"IF(C39=\"\",\"\",C39)","v":""},null,null,null,null,null,null,null,null,null,null,null,"C","","","","",null,"",33,null,null,5,"(",")"]
["",null,null,null,"B",{"$f":"IF(C38=\"\",\"\",C38)","v":""},null,null,null,null,null,null,null,null,"6(34)",null,null,{"$f":"IF(C40=\"\",\"\",C40)","v":""},null,null,null,null,null,null,null,null,null,null,null,"D","","","","",null,"",34,null,null,6,"(",")"]
["",null,null,null,"E",{"$f":"IF(C41=\"\",\"\",C41)","v":""},null,null,null,null,null,null,null,null,"7(35)",null,null,{"$f":"IF(C43=\"\",\"\",C43)","v":""},null,null,null,null,null,null,null,null,null,null,null,"G","","","","",null,"",35,null,null,7,"(",")"]
["",null,null,null,"H",{"$f":"IF(C44=\"\",\"\",C44)","v":""},null,null,null,null,null,null,null,null,"8(36)",null,null,{"$f":"IF(C42=\"\",\"\",C42)","v":""},null,null,null,null,null,null,null,null,null,null,null,"F","","","","",null,"",36,null,null,8,"(",")"]
["",null,null,null,"A",{"$f":"IF(C37=\"\",\"\",C37)","v":""},null,null,null,null,null,null,null,null,"9(37)",null,null,{"$f":"IF(C40=\"\",\"\",C40)","v":""},null,null,null,null,null,null,null,null,null,null,null,"D","","","","",null,"",37,null,null,9,"(",")"]
["",null,null,null,"B",{"$f":"IF(C38=\"\",\"\",C38)","v":""},null,null,null,null,null,null,null,null,"10(38)",null,null,{"$f":"IF(C39=\"\",\"\",C39)","v":""},null,null,null,null,null,null,null,null,null,null,null,"C","","","","",null,"",38,null,null,10,"(",")"]
["",null,null,null,"H",{"$f":"IF(C44=\"\",\"\",C44)","v":""},null,null,null,null,null,null,null,null,"11(39)",null,null,{"$f":"IF(C41=\"\",\"\",C41)","v":""},null,null,null,null,null,null,null,null,null,null,null,"E","","","","",null,"",39,null,null,11,"(",")"]
["",null,null,null,"F",{"$f":"IF(C42=\"\",\"\",C42)","v":""},null,null,null,null,null,null,null,null,"12(40)",null,null,{"$f":"IF(C43=\"\",\"\",C43)","v":""},null,null,null,null,null,null,null,null,null,null,null,"G","","","","",null,"",40,null,null,12,"(",")"]
["",null,null,null,"A",{"$f":"IF(C37=\"\",\"\",C37)","v":""},null,null,null,null,null,null,null,null,"13(41)",null,null,{"$f":"IF(C41=\"\",\"\",C41)","v":""},null,null,null,null,null,null,null,null,null,null,null,"E","","","","",null,"",41,null,null,13,"(",")"]
["",null,null,null,"B",{"$f":"IF(C38=\"\",\"\",C38)","v":""},null,null,null,null,null,null,null,null,"14(42)",null,null,{"$f":"IF(C42=\"\",\"\",C42)","v":""},null,null,null,null,null,null,null,null,null,null,null,"F","","","","",null,"",42,null,null,14,"(",")"]
["",null,null,null,"C",{"$f":"IF(C39=\"\",\"\",C39)","v":""},null,null,null,null,null,null,null,null,"15(43)",null,null,{"$f":"IF(C43=\"\",\"\",C43)","v":""},null,null,null,null,null,null,null,null,null,null,null,"G","","","","",null,"",43,null,null,15,"(",")"]
["",null,null,null,"H",{"$f":"IF(C44=\"\",\"\",C44)","v":""},null,null,null,null,null,null,null,null,"16(44)",null,null,{"$f":"IF(C40=\"\",\"\",C40)","v":""},null,null,null,null,null,null,null,null,null,null,null,"D","","","","",null,"",44,null,null,16,"(",")"]
["",null,null,null,"A",{"$f":"IF(C37=\"\",\"\",C37)","v":""},null,null,null,null,null,null,null,null,"17(45)",null,null,{"$f":"IF(C42=\"\",\"\",C42)","v":""},null,null,null,null,null,null,null,null,null,null,null,"F","","","","",null,"",45,null,null,17,"(",")"]
["",null,null,null,"B",{"$f":"IF(C38=\"\",\"\",C38)","v":""},null,null,null,null,null,null,null,null,"18(46)",null,null,{"$f":"IF(C41=\"\",\"\",C41)","v":""},null,null,null,null,null,null,null,null,null,null,null,"E","","","","",null,"",46,null,null,18,"(",")"]
["",null,null,null,"H",{"$f":"IF(C44=\"\",\"\",C44)","v":""},null,null,null,null,null,null,null,null,"19(47)",null,null,{"$f":"IF(C39=\"\",\"\",C39)","v":""},null,null,null,null,null,null,null,null,null,null,null,"C","","","","",null,"",47,null,null,19,"(",")"]
["",null,null,null,"D",{"$f":"IF(C40=\"\",\"\",C40)","v":""},null,null,null,null,null,null,null,null,"20(48)",null,null,{"$f":"IF(C43=\"\",\"\",C43)","v":""},null,null,null,null,null,null,null,null,null,null,null,"G","","","","",null,"",48,null,null,20,"(",")"]
["",null,null,null,"A",{"$f":"IF(C37=\"\",\"\",C37)","v":""},null,null,null,null,null,null,null,null,"21(49)",null,null,{"$f":"IF(C44=\"\",\"\",C44)","v":""},null,null,null,null,null,null,null,null,null,null,null,"H","","","","",null,"",49,null,null,21,"(",")"]
["",null,null,null,"B",{"$f":"IF(C38=\"\",\"\",C38)","v":""},null,null,null,null,null,null,null,null,"22(50)",null,null,{"$f":"IF(C43=\"\",\"\",C43)","v":""},null,null,null,null,null,null,null,null,null,null,null,"G","","","","",null,"",50,null,null,22,"(",")"]
["",null,null,null,"C",{"$f":"IF(C39=\"\",\"\",C39)","v":""},null,null,null,null,null,null,null,null,"23(51)",null,null,{"$f":"IF(C41=\"\",\"\",C41)","v":""},null,null,null,null,null,null,null,null,null,null,null,"E","","","","",null,"",51,null,null,23,"(",")"]
["",null,null,null,"D",{"$f":"IF(C40=\"\",\"\",C40)","v":""},null,null,null,null,null,null,null,null,"24(52)",null,null,{"$f":"IF(C42=\"\",\"\",C42)","v":""},null,null,null,null,null,null,null,null,null,null,null,"F","","","","",null,"",52,null,null,24,"(",")"]
["",null,null,null,"A",{"$f":"IF(C37=\"\",\"\",C37)","v":""},null,null,null,null,null,null,null,null,"25(53)",null,null,{"$f":"IF(C43=\"\",\"\",C43)","v":""},null,null,null,null,null,null,null,null,null,null,null,"G","","","","",null,"",53,null,null,25,"(",")"]
["",null,null,null,"B",{"$f":"IF(C38=\"\",\"\",C38)","v":""},null,null,null,null,null,null,null,null,"26(54)",null,null,{"$f":"IF(C44=\"\",\"\",C44)","v":""},null,null,null,null,null,null,null,null,null,null,null,"H","","","","",null,"",54,null,null,26,"(",")"]
["",null,null,null,"C",{"$f":"IF(C39=\"\",\"\",C39)","v":""},null,null,null,null,null,null,null,null,"27(55)",null,null,{"$f":"IF(C42=\"\",\"\",C42)","v":""},null,null,null,null,null,null,null,null,null,null,null,"F","","","","",null,"",55,null,null,27,"(",")"]
["",null,null,null,"D",{"$f":"IF(C40=\"\",\"\",C40)","v":""},null,null,null,null,null,null,null,null,"28(56)",null,null,{"$f":"IF(C41=\"\",\"\",C41)","v":""},null,null,null,null,null,null,null,null,null,null,null,"E","","","","",null,"",56,null,null,28,"(",")"]
[]
[]
[null,null,"Teams",null,null,null,null,null,null,null,null,null,"A",null,"B",null,"C",null,"D",null,"E",null,"F",null,"G",null,"H",null,"Pt.",null,"Rang"]
["A",null,null,null,null,null,null,null,null,null,null,null,null,null,{"$f":"A6","v":""},null,{"$f":"A10","v":""},null,{"$f":"A14","v":""},null,{"$f":"A18","v":""},null,{"$f":"A22","v":""},null,{"$f":"A30","v":""},null,{"$f":"A26","v":""},null,{"$f":"IF(A6=\"\",\"\",(IF(M37<>\"\",M37,0))+(IF(O37<>\"\",O37,0))+(IF(Q37<>\"\",Q37,0))+(IF(S37<>\"\",S37,0))+(IF(U37<>\"\",U37,0))+(IF(W37<>\"\",W37,0))+(IF(Y37<>\"\",Y37,0))+(IF(AA37<>\"\",AA37,0)))","v":""}]
["B",null,null,null,null,null,null,null,null,null,null,null,{"$f":"AH6","v":""},null,null,null,{"$f":"A15","v":""},null,{"$f":"A11","v":""},null,{"$f":"A23","v":""},null,{"$f":"A19","v":""},null,{"$f":"A27","v":""},null,{"$f":"A31","v":""},null,{"$f":"IF(A6=\"\",\"\",(IF(M38<>\"\",M38,0))+(IF(O38<>\"\",O38,0))+(IF(Q38<>\"\",Q38,0))+(IF(S38<>\"\",S38,0))+(IF(U38<>\"\",U38,0))+(IF(W38<>\"\",W38,0))+(IF(Y38<>\"\",Y38,0))+(IF(AA38<>\"\",AA38,0)))","v":""}]
["C",null,null,null,null,null,null,null,null,null,null,null,{"$f":"AH10","v":""},null,{"$f":"AH15","v":""},null,null,null,{"$f":"A7","v":""},null,{"$f":"A28","v":""},null,{"$f":"A32","v":""},null,{"$f":"A20","v":""},null,{"$f":"AH24","v":""},null,{"$f":"IF(A7=\"\",\"\",(IF(M39<>\"\",M39,0))+(IF(O39<>\"\",O39,0))+(IF(Q39<>\"\",Q39,0))+(IF(S39<>\"\",S39,0))+(IF(U39<>\"\",U39,0))+(IF(W39<>\"\",W39,0))+(IF(Y39<>\"\",Y39,0))+(IF(AA39<>\"\",AA39,0)))","v":""}]
["D",null,null,null,null,null,null,null,null,null,null,null,{"$f":"AH14","v":""},null,{"$f":"AH11","v":""},null,{"$f":"AH7","v":""},null,null,null,{"$f":"A33","v":""},null,{"$f":"A29","v":""},null,{"$f":"A25","v":""},null,{"$f":"AH21","v":""},null,{"$f":"IF(A7=\"\",\"\",(IF(M40<>\"\",M40,0))+(IF(O40<>\"\",O40,0))+(IF(Q40<>\"\",Q40,0))+(IF(S40<>\"\",S40,0))+(IF(U40<>\"\",U40,0))+(IF(W40<>\"\",W40,0))+(IF(Y40<>\"\",Y40,0))+(IF(AA40<>\"\",AA40,0)))","v":""}]
["E",null,null,null,null,null,null,null,null,null,null,null,{"$f":"AH18","v":""},null,{"$f":"AH23","v":""},null,{"$f":"AH28","v":""},null,{"$f":"AH33","v":""},null,null,null,{"$f":"A8","v":""},null,{"$f":"A12","v":""},null,{"$f":"AH16","v":""},null,{"$f":"IF(A8=\"\",\"\",(IF(M41<>\"\",M41,0))+(IF(O41<>\"\",O41,0))+(IF(Q41<>\"\",Q41,0))+(IF(S41<>\"\",S41,0))+(IF(U41<>\"\",U41,0))+(IF(W41<>\"\",W41,0))+(IF(Y41<>\"\",Y41,0))+(IF(AA41<>\"\",AA41,0)))","v":""}]
["F",null,null,null,null,null,null,null,null,null,null,null,{"$f":"AH22","v":""},null,{"$f":"AH19","v":""},null,{"$f":"AH32","v":""},null,{"$f":"AH29","v":""},null,{"$f":"AH8","v":""},null,null,null,{"$f":"A17","v":""},null,{"$f":"AH13","v":""},null,{"$f":"IF(A8=\"\",\"\",(IF(M42<>\"\",M42,0))+(IF(O42<>\"\",O42,0))+(IF(Q42<>\"\",Q42,0))+(IF(S42<>\"\",S42,0))+(IF(U42<>\"\",U42,0))+(IF(W42<>\"\",W42,0))+(IF(Y42<>\"\",Y42,0))+(IF(AA42<>\"\",AA42,0)))","v":""}]
["G",null,null,null,null,null,null,null,null,null,null,null,{"$f":"AH30","v":""},null,{"$f":"AH27","v":""},null,{"$f":"AH20","v":""},null,{"$f":"AH25","v":""},null,{"$f":"AH12","v":""},null,{"$f":"AH17","v":""},null,null,null,{"$f":"A9","v":""},null,{"$f":"IF(A9=\"\",\"\",(IF(M43<>\"\",M43,0))+(IF(O43<>\"\",O43,0))+(IF(Q43<>\"\",Q43,0))+(IF(S43<>\"\",S43,0))+(IF(U43<>\"\",U43,0))+(IF(W43<>\"\",W43,0))+(IF(Y43<>\"\",Y43,0))+(IF(AA43<>\"\",AA43,0)))","v":""}]
["H",null,null,null,null,null,null,null,null,null,null,null,{"$f":"AH26","v":""},null,{"$f":"AH31","v":""},null,{"$f":"A24","v":""},null,{"$f":"A21","v":""},null,{"$f":"A16","v":""},null,{"$f":"A13","v":""},null,{"$f":"AH9","v":""},null,null,null,{"$f":"IF(A9=\"\",\"\",(IF(M44<>\"\",M44,0))+(IF(O44<>\"\",O44,0))+(IF(Q44<>\"\",Q44,0))+(IF(S44<>\"\",S44,0))+(IF(U44<>\"\",U44,0))+(IF(W44<>\"\",W44,0))+(IF(Y44<>\"\",Y44,0))+(IF(AA44<>\"\",AA44,0)))","v":""}]

{"sheet":"Rangliste Final","index":2,"n_rows":29,"n_cols":7,"rows_kept":29,"cut":false,"hidden":false,"merged":[[5,0,5,6],[9,0,9,6],[0,0,0,6]]}
["OSM"]
[]
[null,null,null,null,null,null,"Datum:"]
[]
[]
["Turnier Sevelen"]
[]
[null,"Pokal-Sponsor: "]
[]
["Besten Dank fürs mitmachen."]
[]
[null,"Rangliste"]
[]
[null,"1.",{"$f":"'8er Gr1'!AP66","v":""}]
[null,"2.",{"$f":"'8er Gr1'!AP65","v":""}]
[null,"3.",{"$f":"'8er Gr1'!AP64","v":""}]
[null,"4.",{"$f":"'8er Gr1'!AP63","v":""}]
[null,"5.",{"$f":"'8er Gr1'!AP62","v":""}]
[null,"6.",{"$f":"'8er Gr1'!AP61","v":""}]
[null,"7.",{"$f":"'8er Gr1'!AP60","v":""}]
[null,"8.",{"$f":"'8er Gr1'!AP59","v":""}]
[null,"9.",{"$f":"'8er Gr1'!AP58","v":""}]
[null,"10.",{"$f":"'8er Gr1'!AP57","v":""}]
[null,"11.",{"$f":"'8er Gr1'!AP56","v":""}]
[null,"12.",{"$f":"'8er Gr1'!AP55","v":""}]
[null,"13.",{"$f":"'8er Gr1'!AP54","v":""}]
[null,"14.",{"$f":"'8er Gr1'!AP53","v":""}]
[null,"15.",{"$f":"'8er Gr1'!AP52","v":""}]
[null,"16.",{"$f":"'8er Gr1'!AP51","v":""}]