{"text_format":"1","workbook":"xlsx","n_sheets":3,"sheets":["8er Gr1","7er Gr2","Rangliste Final"],"not_rendered":{"charts":0,"images":0,"macros":1,"external_links":0,"defined_names":3,"comments":0,"pivot_tables":0},"unopened":[],"bounds":{"document_bytes":16777216,"sheet_cells":100000,"rows_first":2000,"rows_last":500,"rows_between":2000,"halvings":0,"cell_chars":16384,"cell_head_chars":4096},"cells_cut":0,"cells_raw":0,"read":"whole","date_system":"1900"}

{"sheet":"8er Gr1","index":0,"n_rows":64,"n_cols":39,"rows_kept":64,"cut":false,"hidden":false,"merged":[[21,5,21,13],[22,5,22,13],[23,5,23,13],[29,5,29,13],[30,5,30,13],[31,5,31,13],[32,17,32,28],[9,5,9,13],[10,5,10,13],[11,5,11,13],[12,5,12,13],[13,5,13,13],[14,5,14,13],[15,5,15,13],[16,5,16,13],[17,5,17,13],[26,17,26,28],[27,17,27,28],[28,17,28,28],[29,17,29,28],[30,17,30,28],[31,17,31,28],[20,17,20,28],[21,17,21,28],[24,5,24,13],[25,5,25,13],[26,5,26,13],[20,5,20,13],[57,5,57,12],[6,17,6,28],[7,17,7,28],[8,17,8,28],[9,17,9,28],[10,17,10,28],[11,17,11,28],[12,17,12,28],[13,17,13,28],[28,14,28,16],[27,14,27,16],[48,16,48,26],[16,14,16,16],[15,14,15,16],[18,14,18,16],[17,14,17,16],[20,14,20,16],[19,14,19,16],[10,14,10,16],[9,14,9,16],[12,14,12,16],[11,14,11,16],[14,14,14,16],[22,17,22,28],[61,5,61,12],[63,5,63,12],[59,5,59,12],[59,13,59,15],[57,16,57,26],[59,16,59,26],[48,5,48,12],[22,14,22,16],[21,14,21,16],[24,14,24,16],[23,14,23,16],[26,14,26,16],[25,14,25,16],[49,13,49,15],[57,13,57,15],[61,13,61,15],[63,13,63,15],[48,13,48,15],[38,14,38,15],[39,14,39,15],[43,18,43,19],[43,20,43,21],[42,0,42,1],[42,28,42,29],[42,30,42,31],[42,26,42,27],[42,24,42,25],[42,22,42,23],[42,20,42,21],[42,18,42,19],[42,12,42,13],[43,16,43,17],[42,14,42,15],[42,16,42,17],[43,14,43,15],[43,0,43,1],[43,28,43,29],[43,30,43,31],[43,26,43,27],[43,2,43,11],[41,0,41,1],[41,28,41,29],[41,30,41,31],[40,0,40,1],[40,28,40,29],[40,30,40,31],[41,26,41,27],[40,24,40,25],[41,24,41,25],[41,22,41,23],[40,26,40,27],[41,18,41,19],[40,16,40,17],[40,18,40,19],[40,12,40,13],[41,12,41,13],[40,14,40,15],[41,14,41,15],[41,16,41,17],[36,30,36,31],[36,26,36,27],[39,0,39,1],[39,28,39,29],[39,30,39,31],[38,0,38,1],[38,28,38,29],[37,0,37,1],[37,28,37,29],[38,2,38,11],[38,22,38,23],[39,22,39,23],[38,20,38,21],[37,26,37,27],[38,26,38,27],[39,26,39,27],[38,16,38,17],[39,16,39,17],[38,18,38,19],[39,18,39,19],[37,2,37,11],[36,2,36,11],[37,20,37,21],[55,5,55,12],[6,5,6,13],[8,14,8,16],[7,14,7,16],[6,14,6,16],[7,5,7,13],[23,17,23,28],[35,0,35,1],[36,0,36,1],[36,28,36,29],[35,26,35,27],[35,24,35,25],[27,5,27,13],[32,5,32,13],[28,5,28,13],[24,17,24,28],[25,17,25,28],[14,17,14,28],[15,17,15,28],[16,17,16,28],[17,17,17,28],[18,17,18,28],[19,17,19,28],[18,5,18,13],[61,16,61,26],[63,16,63,26],[55,16,55,26],[53,16,53,26],[51,16,51,26],[1,26,1,31],[37,30,37,31],[35,30,35,31],[35,28,35,29],[38,30,38,31],[40,22,40,23],[39,20,39,21],[40,20,40,21],[41,20,41,21],[36,24,36,25],[37,24,37,25],[38,24,38,25],[39,24,39,25],[1,12,1,18],[36,22,36,23],[37,22,37,23],[30,14,30,16],[55,13,55,15],[53,5,53,12],[2,4,2,11],[35,22,35,23],[35,20,35,21],[35,14,35,15],[4,5,4,13],[5,5,5,13],[5,14,5,16],[0,6,0,23],[36,20,36,21],[35,16,35,17],[36,16,36,17],[1,2,1,8],[13,14,13,16],[4,17,4,28],[4,14,4,16],[5,17,5,28],[8,5,8,13],[32,14,32,16],[31,14,31,16],[35,12,35,13],[36,12,36,13],[29,14,29,16],[19,5,19,13],[35,2,35,11],[53,13,53,15],[51,5,51,12],[51,13,51,15],[49,16,49,26],[49,5,49,12],[37,16,37,17],[35,18,35,19],[36,18,36,19],[37,18,37,19],[36,14,36,15],[37,14,37,15],[47,5,47,12],[47,13,47,15],[47,16,47,26],[43,12,43,13],[37,12,37,13],[38,12,38,13],[39,12,39,13],[42,2,42,11],[41,2,41,11],[40,2,40,11],[39,2,39,11],[43,24,43,25],[43,22,43,23]]}
[null,null,null,null,null,null,"OSM",null,null,null,null,null,null,null,null,null,null,null,null,null,null,null,null,null,null,null,null,null,null,null,null,null,null,"Prüfung"," "]
["Turnier:",null,null,null,null,null,null,null,null,null,"Datum:",null,null,null,null,null,null,null,null,null,"Gewichtsklasse:",null,null,null,null,null,"Gr. 1"]
["Turnierleiter:"]
[null,null,null,null,null,null,null,null,null,null,null,null,null,null,null,null,null,null,null,null,null,null,null,null,null,null,null,null,"8-Turnier"]
["P",1,2,3,null,"Teams",null,null,null,null,null,null,null,null,"Z-Nr.",null,null,"Teams",null,null,null,null,null,null,null,null,null,null,null,null,1,2,3,"P","Zeit:","Kontrolle"]
[{"$f":"IF(B6=\"\",\"\",IF(C6=\"\",B6,IF(B6+C6=2,3,IF(D6=\"\",B6+C6,B6+C6+D6))))","v":""},null,null,null,"A",{"$f":"IF(C37=\"\",\"\",C37)","v":""},null,null,null,null,null,null,null,null,1,null,null,{"$f":"IF(C38=\"\",\"\",C38)","v":""},null,null,null,null,null,null,null,null,null,null,null,"B",{"$f":"IF(B6=1,\"0\",IF(B6=\"\",\"\",\"1\"))","v":""},{"$f":"IF(C6=1,\"0\",IF(C6=\"\",\"\",\"1\"))","v":""},"",{"$f":"IF(AE6=\"\",\"\",IF(AF6=\"\",AE6,IF(AE6+AF6=2,3,IF(AG6=\"\",AE6+AF6,AE6+AF6+AG6))))","v":""}," ",{"$f":"IF(A6=\"\",\"\",IF(AND(A6=1,AF6=1)+OR(C6=\"\")+AND(A6+AH6>3)+OR(A6+AH6=2),\"nicht i.o.\",\"i.o.\"))","v":""}]
[{"$f":"IF(B7=\"\",\"\",IF(C7=\"\",B7,IF(B7+C7=2,3,IF(D7=\"\",B7+C7,B7+C7+D7))))","v":""},null,null,null,"C",{"$f":"IF(C39=\"\",\"\",C39)","v":""},null,null,null,null,null,null,null,null,2,null,null,{"$f":"IF(C40=\"\",\"\",C40)","v":""},null,null,null,null,null,null,null,null,null,null,null,"D",{"$f":"IF(B7=1,\"0\",IF(B7=\"\",\"\",\"1\"))","v":""},"","",{"$f":"IF(AE7=\"\",\"\",IF(AF7=\"\",AE7,IF(AE7+AF7=2,3,IF(AG7=\"\",AE7+AF7,AE7+AF7+AG7))))","v":""},null,{"$f":"IF(A7=\"\",\"\",IF(AND(A7=1,AF7=1)+OR(C7=\"\")+AND(A7+AH7>3)+OR(A7+AH7=2),\"nicht i.o.\",\"i.o.\"))","v":""}]
[{"$f":"IF(B8=\"\",\"\",IF(C8=\"\",B8,IF(B8+C8=2,3,IF(D8=\"\",B8+C8,B8+C8+D8))))","v":""},null,null,null,"E",{"$f":"IF(C41=\"\",\"\",C41)","v":""},null,null,null,null,null,null,null,null,3,null,null,{"$f":"IF(C42=\"\",\"\",C42)","v":""},null,null,null,null,null,null,null,null,null,null,null,"F",{"$f":"IF(B8=1,\"0\",IF(B8=\"\",\"\",\"1\"))","v":""},{"$f":"IF(C8=1,\"0\",IF(C8=\"\",\"\",\"1\"))","v":""},{"$f":"IF(D8=1,\"0\",IF(D8=\"\",\"\",\"1\"))","v":""},{"$f":"IF(AE8=\"\",\"\",IF(AF8=\"\",AE8,IF(AE8+AF8=2,3,IF(AG8=\"\",AE8+AF8,AE8+AF8+AG8))))","v":""},null,""]
[{"$f":"IF(B9=\"\",\"\",IF(C9=\"\",B9,IF(B9+C9=2,3,IF(D9=\"\",B9+C9,B9+C9+D9))))","v":""},null,null,null,"G",{"$f":"IF(C43=\"\",\"\",C43)","v":""},null,null,null,null,null,null,null,null,4,null,null,{"$f":"IF(C44=\"\",\"\",C44)","v":""},null,null,null,null,null,null,null,null,null,null,null,"H",{"$f":"IF(B9=1,\"0\",IF(B9=\"\",\"\",\"1\"))","v":""},{"$f":"IF(C9=1,\"0\",IF(C9=\"\",\"\",\"1\"))","v":""},{"$f":"IF(D9=1,\"0\",IF(D9=\"\",\"\",\"1\"))","v":""},{"$f":"IF(AE9=\"\",\"\",IF(AF9=\"\",AE9,IF(AE9+AF9=2,3,IF(AG9=\"\",AE9+AF9,AE9+AF9+AG9))))","v":""},null,""]
[{"$f":"IF(B10=\"\",\"\",IF(C10=\"\",B10,IF(B10+C10=2,3,IF(D10=\"\",B10+C10,B10+C10+D10))))","v":""},null,null,null,"A",{"$f":"IF(C37=\"\",\"\",C37)","v":""},null,null,null,null,null,null,null,null,5,null,null,{"$f":"IF(C39=\"\",\"\",C39)","v":""},null,null,null,null,null,null,null,null,null,null,null,"C",{"$f":"IF(B10=1,\"0\",IF(B10=\"\",\"\",\"1\"))","v":""},"","",{"$f":"IF(AE10=\"\",\"\",IF(AF10=\"\",AE10,IF(AE10+AF10=2,3,IF(AG10=\"\",AE10+AF10,AE10+AF10+AG10))))","v":""},null,""]
[{"$f":"IF(B11=\"\",\"\",IF(C11=\"\",B11,IF(B11+C11=2,3,IF(D11=\"\",B11+C11,B11+C11+D11))))","v":""},null,null,null,"B",{"$f":"IF(C38=\"\",\"\",C38)","v":""},null,null,null,null,null,null,null,null,6,null,null,{"$f":"IF(C40=\"\",\"\",C40)","v":""},null,null,null,null,null,null,null,null,null,null,null,"D",{"$f":"IF(B11=1,\"0\",IF(B11=\"\",\"\",\"1\"))","v":""},{"$f":"IF(C11=1,\"0\",IF(C11=\"\",\"\",\"1\"))","v":""},{"$f":"IF(D11=1,\"0\",IF(D11=\"\",\"\",\"1\"))","v":""},{"$f":"IF(AE11=\"\",\"\",IF(AF11=\"\",AE11,IF(AE11+AF11=2,3,IF(AG11=\"\",AE11+AF11,AE11+AF11+AG11))))","v":""},null,""]
[{"$f":"IF(B12=\"\",\"\",IF(C12=\"\",B12,IF(B12+C12=2,3,IF(D12=\"\",B12+C12,B12+C12+D12))))","v":""},null,null,null,"E",{"$f":"IF(C41=\"\",\"\",C41)","v":""},null,null,null,null,null,null,null,null,7,null,null,{"$f":"IF(C43=\"\",\"\",C43)","v":""},null,null,null,null,null,null,null,null,null,null,null,"G",{"$f":"IF(B12=1,\"0\",IF(B12=\"\",\"\",\"1\"))","v":""},"","",{"$f":"IF(AE12=\"\",\"\",IF(AF12=\"\",AE12,IF(AE12+AF12=2,3,IF(AG12=\"\",AE12+AF12,AE12+AF12+AG12))))","v":""},null,""]
[{"$f":"IF(B13=\"\",\"\",IF(C13=\"\",B13,IF(B13+C13=2,3,IF(D13=\"\",B13+C13,B13+C13+D13))))","v":""},null,null,null,"H",{"$f":"IF(C44=\"\",\"\",C44)","v":""},null,null,null,null,null,null,null,null,8,null,null,{"$f":"IF(C42=\"\",\"\",C42)","v":""},null,null,null,null,null,null,null,null,null,null,null,"F",{"$f":"IF(B13=1,\"0\",IF(B13=\"\",\"\",\"1\"))","v":""},{"$f":"IF(C13=1,\"0\",IF(C13=\"\",\"\",\"1\"))","v":""},{"$f":"IF(D13=1,\"0\",IF(D13=\"\",\"\",\"1\"))","v":""},{"$f":"IF(AE13=\"\",\"\",IF(AF13=\"\",AE13,IF(AE13+AF13=2,3,IF(AG13=\"\",AE13+AF13,AE13+AF13+AG13))))","v":""},null,""]
[{"$f":"IF(B14=\"\",\"\",IF(C14=\"\",B14,IF(B14+C14=2,3,IF(D14=\"\",B14+C14,B14+C14+D14))))","v":""},null,null,null,"A",{"$f":"IF(C37=\"\",\"\",C37)","v":""},null,null,null,null,null,null,null,null,9,null,null,{"$f":"IF(C40=\"\",\"\",C40)","v":""},null,null,null,null,null,null,null,null,null,null,null,"D",{"$f":"IF(B14=1,\"0\",IF(B14=\"\",\"\",\"1\"))","v":""},"","",{"$f":"IF(AE14=\"\",\"\",IF(AF14=\"\",AE14,IF(AE14+AF14=2,3,IF(AG14=\"\",AE14+AF14,AE14+AF14+AG14))))","v":""},null,""]
[{"$f":"IF(B15=\"\",\"\",IF(C15=\"\",B15,IF(B15+C15=2,3,IF(D15=\"\",B15+C15,B15+C15+D15))))","v":""},null,null,null,"B",{"$f":"IF(C38=\"\",\"\",C38)","v":""},null,null,null,null,null,null,null,null,10,null,null,{"$f":"IF(C39=\"\",\"\",C39)","v":""},null,null,null,null,null,null,null,null,null,null,null,"C",{"$f":"IF(B15=1,\"0\",IF(B15=\"\",\"\",\"1\"))","v":""},{"$f":"IF(C15=1,\"0\",IF(C15=\"\",\"\",\"1\"))","v":""},{"$f":"IF(D15=1,\"0\",IF(D15=\"\",\"\",\"1\"))","v":""},{"$f":"IF(AE15=\"\",\"\",IF(AF15=\"\",AE15,IF(AE15+AF15=2,3,IF(AG15=\"\",AE15+AF15,AE15+AF15+AG15))))","v":""},null,""]
[{"$f":"IF(B16=\"\",\"\",IF(C16=\"\",B16,IF(B16+C16=2,3,IF(D16=\"\",B16+C16,B16+C16+D16))))","v":""},null,null,null,"H",{"$f":"IF(C44=\"\",\"\",C44)","v":""},null,null,null,null,null,null,null,null,11,null,null,{"$f":"IF(C41=\"\",\"\",C41)","v":""},null,null,null,null,null,null,null,null,null,null,null,"E",{"$f":"IF(B16=1,\"0\",IF(B16=\"\",\"\",\"1\"))","v":""},"","",{"$f":"IF(AE16=\"\",\"\",IF(AF16=\"\",AE16,IF(AE16+AF16=2,3,IF(AG16=\"\",AE16+AF16,AE16+AF16+AG16))))","v":""},null,""]
[{"$f":"IF(B17=\"\",\"\",IF(C17=\"\",B17,IF(B17+C17=2,3,IF(D17=\"\",B17+C17,B17+C17+D17))))","v":""},null,null,null,"F",{"$f":"IF(C42=\"\",\"\",C42)","v":""},null,null,null,null,null,null,null,null,12,null,null,{"$f":"IF(C43=\"\",\"\",C43)","v":""},null,null,null,null,null,null,null,null,null,null,null,"G",{"$f":"IF(B17=1,\"0\",IF(B17=\"\",\"\",\"1\"))","v":""},{"$f":"IF(C17=1,\"0\",IF(C17=\"\",\"\",\"1\"))","v":""},{"$f":"IF(D17=1,\"0\",IF(D17=\"\",\"\",\"1\"))","v":""},{"$f":"IF(AE17=\"\",\"\",IF(AF17=\"\",AE17,IF(AE17+AF17=2,3,IF(AG17=\"\",AE17+AF17,AE17+AF17+AG17))))","v":""},null,""]
[{"$f":"IF(B18=\"\",\"\",IF(C18=\"\",B18,IF(B18+C18=2,3,IF(D18=\"\",B18+C18,B18+C18+D18))))","v":""},null,null,null,"A",{"$f":"IF(C37=\"\",\"\",C37)","v":""},null,null,null,null,null,null,null,null,13,null,null,{"$f":"IF(C41=\"\",\"\",C41)","v":""},null,null,null,null,null,null,null,null,null,null,null,"E",{"$f":"IF(B18=1,\"0\",IF(B18=\"\",\"\",\"1\"))","v":""},"","",{"$f":"IF(AE18=\"\",\"\",IF(AF18=\"\",AE18,IF(AE18+AF18=2,3,IF(AG18=\"\",AE18+AF18,AE18+AF18+AG18))))","v":""},null,""]
[{"$f":"IF(B19=\"\",\"\",IF(C19=\"\",B19,IF(B19+C19=2,3,IF(D19=\"\",B19+C19,B19+C19+D19))))","v":""},null,null,null,"B",{"$f":"IF(C38=\"\",\"\",C38)","v":""},null,null,null,null,null,null,null,null,14,null,null,{"$f":"IF(C42=\"\",\"\",C42)","v":""},null,null,null,null,null,null,null,null,null,null,null,"F",{"$f":"IF(B19=1,\"0\",IF(B19=\"\",\"\",\"1\"))","v":""},{"$f":"IF(C19=1,\"0\",IF(C19=\"\",\"\",\"1\"))","v":""},{"$f":"IF(D19=1,\"0\",IF(D19=\"\",\"\",\"1\"))","v":""},{"$f":"IF(AE19=\"\",\"\",IF(AF19=\"\",AE19,IF(AE19+AF19=2,3,IF(AG19=\"\",AE19+AF19,AE19+AF19+AG19))))","v":""},null,""]
[{"$f":"IF(B20=\"\",\"\",IF(C20=\"\",B20,IF(B20+C20=2,3,IF(D20=\"\",B20+C20,B20+C20+D20))))","v":""},null,null,null,"C",{"$f":"IF(C39=\"\",\"\",C39)","v":""},null,null,null,null,null,null,null,null,15,null,null,{"$f":"IF(C43=\"\",\"\",C43)","v":""},null,null,null,null,null,null,null,null,null,null,null,"G",{"$f":"IF(B20=1,\"0\",IF(B20=\"\",\"\",\"1\"))","v":""},"","",{"$f":"IF(AE20=\"\",\"\",IF(AF20=\"\",AE20,IF(AE20+AF20=2,3,IF(AG20=\"\",AE20+AF20,AE20+AF20+AG20))))","v":""},null,""]
[{"$f":"IF(B21=\"\",\"\",IF(C21=\"\",B21,IF(B21+C21=2,3,IF(D21=\"\",B21+C21,B21+C21+D21))))","v":""},null,null,null,"H",{"$f":"IF(C44=\"\",\"\",C44)","v":""},null,null,null,null,null,null,null,null,16,null,null,{"$f":"IF(C40=\"\",\"\",C40)","v":""},null,null,null,null,null,null,null,null,null,null,null,"D",{"$f":"IF(B21=1,\"0\",IF(B21=\"\",\"\",\"1\"))","v":""},{"$f":"IF(C21=1,\"0\",IF(C21=\"\",\"\",\"1\"))","v":""},{"$f":"IF(D21=1,\"0\",IF(D21=\"\",\"\",\"1\"))","v":""},{"$f":"IF(AE21=\"\",\"\",IF(AF21=\"\",AE21,IF(AE21+AF21=2,3,IF(AG21=\"\",AE21+AF21,AE21+AF21+AG21))))","v":""},null,""]
[{"$f":"IF(B22=\"\",\"\",IF(C22=\"\",B22,IF(B22+C22=2,3,IF(D22=\"\",B22+C22,B22+C22+D22))))","v":""},null,null,null,"A",{"$f":"IF(C37=\"\",\"\",C37)","v":""},null,null,null,null,null,null,null,null,17,null,null,{"$f":"IF(C42=\"\",\"\",C42)","v":""},null,null,null,null,null,null,null,null,null,null,null,"F",{"$f":"IF(B22=1,\"0\",IF(B22=\"\",\"\",\"1\"))","v":""},"","",{"$f":"IF(AE22=\"\",\"\",IF(AF22=\"\",AE22,IF(AE22+AF22=2,3,IF(AG22=\"\",AE22+AF22,AE22+AF22+AG22))))","v":""},null,""]
[{"$f":"IF(B23=\"\",\"\",IF(C23=\"\",B23,IF(B23+C23=2,3,IF(D23=\"\",B23+C23,B23+C23+D23))))","v":""},null,null,null,"B",{"$f":"IF(C38=\"\",\"\",C38)","v":""},null,null,null,null,null,null,null,null,18,null,null,{"$f":"IF(C41=\"\",\"\",C41)","v":""},null,null,null,null,null,null,null,null,null,null,null,"E",{"$f":"IF(B23=1,\"0\",IF(B23=\"\",\"\",\"1\"))","v":""},{"$f":"IF(C23=1,\"0\",IF(C23=\"\",\"\",\"1\"))","v":""},{"$f":"IF(D23=1,\"0\",IF(D23=\"\",\"\",\"1\"))","v":""},{"$f":"IF(AE23=\"\",\"\",IF(AF23=\"\",AE23,IF(AE23+AF23=2,3,IF(AG23=\"\",AE23+AF23,AE23+AF23+AG23))))","v":""},null,""]
[{"$f":"IF(B24=\"\",\"\",IF(C24=\"\",B24,IF(B24+C24=2,3,IF(D24=\"\",B24+C24,B24+C24+D24))))","v":""},null,null,null,"H",{"$f":"IF(C44=\"\",\"\",C44)","v":""},null,null,null,null,null,null,null,null,19,null,null,{"$f":"IF(C39=\"\",\"\",C39)","v":""},null,null,null,null,null,null,null,null,null,null,null,"C",{"$f":"IF(B24=1,\"0\",IF(B24=\"\",\"\",\"1\"))","v":""},"","",{"$f":"IF(AE24=\"\",\"\",IF(AF24=\"\",AE24,IF(AE24+AF24=2,3,IF(AG24=\"\",AE24+AF24,AE24+AF24+AG24))))","v":""},null,""]
[{"$f":"IF(B25=\"\",\"\",IF(C25=\"\",B25,IF(B25+C25=2,3,IF(D25=\"\",B25+C25,B25+C25+D25))))","v":""},null,null,null,"D",{"$f":"IF(C40=\"\",\"\",C40)","v":""},null,null,null,null,null,null,null,null,20,null,null,{"$f":"IF(C43=\"\",\"\",C43)","v":""},null,null,null,null,null,null,null,null,null,null,null,"G",{"$f":"IF(B25=1,\"0\",IF(B25=\"\",\"\",\"1\"))","v":""},{"$f":"IF(C25=1,\"0\",IF(C25=\"\",\"\",\"1\"))","v":""},{"$f":"IF(D25=1,\"0\",IF(D25=\"\",\"\",\"1\"))","v":""},{"$f":"IF(AE25=\"\",\"\",IF(AF25=\"\",AE25,IF(AE25+AF25=2,3,IF(AG25=\"\",AE25+AF25,AE25+AF25+AG25))))","v":""},null,""]
[{"$f":"IF(B26=\"\",\"\",IF(C26=\"\",B26,IF(B26+C26=2,3,IF(D26=\"\",B26+C26,B26+C26+D26))))","v":""},null,null,null,"A",{"$f":"IF(C37=\"\",\"\",C37)","v":""},null,null,null,null,null,null,null,null,21,null,null,{"$f":"IF(C44=\"\",\"\",C44)","v":""},null,null,null,null,null,null,null,null,null,null,null,"H",{"$f":"IF(B26=1,\"0\",IF(B26=\"\",\"\",\"1\"))","v":""},"","",{"$f":"IF(AE26=\"\",\"\",IF(AF26=\"\",AE26,IF(AE26+AF26=2,3,IF(AG26=\"\",AE26+AF26,AE26+AF26+AG26))))","v":""},null,""]
[{"$f":"IF(B27=\"\",\"\",IF(C27=\"\",B27,IF(B27+C27=2,3,IF(D27=\"\",B27+C27,B27+C27+D27))))","v":""},null,null,null,"B",{"$f":"IF(C38=\"\",\"\",C38)","v":""},null,null,null,null,null,null,null,null,22,null,null,{"$f":"IF(C43=\"\",\"\",C43)","v":""},null,null,null,null,null,null,null,null,null,null,null,"G",{"$f":"IF(B27=1,\"0\",IF(B27=\"\",\"\",\"1\"))","v":""},{"$f":"IF(C27=1,\"0\",IF(C27=\"\",\"\",\"1\"))","v":""},{"$f":"IF(D27=1,\"0\",IF(D27=\"\",\"\",\"1\"))","v":""},{"$f":"IF(AE27=\"\",\"\",IF(AF27=\"\",AE27,IF(AE27+AF27=2,3,IF(AG27=\"\",AE27+AF27,AE27+AF27+AG27))))","v":""},null,""]
[{"$f":"IF(B28=\"\",\"\",IF(C28=\"\",B28,IF(B28+C28=2,3,IF(D28=\"\",B28+C28,B28+C28+D28))))","v":""},null,null,null,"C",{"$f":"IF(C39=\"\",\"\",C39)","v":""},null,null,null,null,null,null,null,null,23,null,null,{"$f":"IF(C41=\"\",\"\",C41)","v":""},null,null,null,null,null,null,null,null,null,null,null,"E",{"$f":"IF(B28=1,\"0\",IF(B28=\"\",\"\",\"1\"))","v":""},"","",{"$f":"IF(AE28=\"\",\"\",IF(AF28=\"\",AE28,IF(AE28+AF28=2,3,IF(AG28=\"\",AE28+AF28,AE28+AF28+AG28))))","v":""},null,""]
[{"$f":"IF(B29=\"\",\"\",IF(C29=\"\",B29,IF(B29+C29=2,3,IF(D29=\"\",B29+C29,B29+C29+D29))))","v":""},null,null,null,"D",{"$f":"IF(C40=\"\",\"\",C40)","v":""},null,null,null,null,null,null,null,null,24,null,null,{"$f":"IF(C42=\"\",\"\",C42)","v":""},null,null,null,null,null,null,null,null,null,null,null,"F",{"$f":"IF(B29=1,\"0\",IF(B29=\"\",\"\",\"1\"))","v":""},{"$f":"IF(C29=1,\"0\",IF(C29=\"\",\"\",\"1\"))","v":""},{"$f":"IF(D29=1,\"0\",IF(D29=\"\",\"\",\"1\"))","v":""},{"$f":"IF(AE29=\"\",\"\",IF(AF29=\"\",AE29,IF(AE29+AF29=2,3,IF(AG29=\"\",AE29+AF29,AE29+AF29+AG29))))","v":""},null,""]
[{"$f":"IF(B30=\"\",\"\",IF(C30=\"\",B30,IF(B30+C30=2,3,IF(D30=\"\",B30+C30,B30+C30+D30))))","v":""},null,null,null,"A",{"$f":"IF(C37=\"\",\"\",C37)","v":""},null,null,null,null,null,null,null,null,25,null,null,{"$f":"IF(C43=\"\",\"\",C43)","v":""},null,null,null,null,null,null,null,null,null,null,null,"G",{"$f":"IF(B30=1,\"0\",IF(B30=\"\",\"\",\"1\"))","v":""},"","",{"$f":"IF(AE30=\"\",\"\",IF(AF30=\"\",AE30,IF(AE30+AF30=2,3,IF(AG30=\"\",AE30+AF30,AE30+AF30+AG30))))","v":""},null,""]
[{"$f":"IF(B31=\"\",\"\",IF(C31=\"\",B31,IF(B31+C31=2,3,IF(D31=\"\",B31+C31,B31+C31+D31))))","v":""},null,null,null,"B",{"$f":"IF(C38=\"\",\"\",C38)","v":""},null,null,null,null,null,null,null,null,26,null,null,{"$f":"IF(C44=\"\",\"\",C44)","v":""},null,null,null,null,null,null,null,null,null,null,null,"H",{"$f":"IF(B31=1,\"0\",IF(B31=\"\",\"\",\"1\"))","v":""},{"$f":"IF(C31=1,\"0\",IF(C31=\"\",\"\",\"1\"))","v":""},{"$f":"IF(D31=1,\"0\",IF(D31=\"\",\"\",\"1\"))","v":""},{"$f":"IF(AE31=\"\",\"\",IF(AF31=\"\",AE31,IF(AE31+AF31=2,3,IF(AG31=\"\",AE31+AF31,AE31+AF31+AG31))))","v":""},null,""]
[{"$f":"IF(B32=\"\",\"\",IF(C32=\"\",B32,IF(B32+C32=2,3,IF(D32=\"\",B32+C32,B32+C32+D32))))","v":""},null,null,null,"C",{"$f":"IF(C39=\"\",\"\",C39)","v":""},null,null,null,null,null,null,null,null,27,null,null,{"$f":"IF(C42=\"\",\"\",C42)","v":""},null,null,null,null,null,null,null,null,null,null,null,"F",{"$f":"IF(B32=1,\"0\",IF(B32=\"\",\"\",\"1\"))","v":""},"","",{"$f":"IF(AE32=\"\",\"\",IF(AF32=\"\",AE32,IF(AE32+AF32=2,3,IF(AG32=\"\",AE32+AF32,AE32+AF32+AG32))))","v":""},null,""]
[{"$f":"IF(B33=\"\",\"\",IF(C33=\"\",B33,IF(B33+C33=2,3,IF(D33=\"\",B33+C33,B33+C33+D33))))","v":""},null,null,null,"D",{"$f":"IF(C40=\"\",\"\",C40)","v":""},null,null,null,null,null,null,null,null,28,null,null,{"$f":"IF(C41=\"\",\"\",C41)","v":""},null,null,null,null,null,null,null,null,null,null,null,"E",{"$f":"IF(B33=1,\"0\",IF(B33=\"\",\"\",\"1\"))","v":""},{"$f":"IF(C33=1,\"0\",IF(C33=\"\",\"\",\"1\"))","v":""},{"$f":"IF(D33=1,\"0\",IF(D33=\"\",\"\",\"1\"))","v":""},{"$f":"IF(AE33=\"\",\"\",IF(AF33=\"\",AE33,IF(AE33+AF33=2,3,IF(AG33=\"\",AE33+AF33,AE33+AF33+AG33))))","v":""},null,""]
[null,null,null,null,null,null,null,null,null,null,null,null,null,null,null,null,null,null,null,null,null,null,null,null,null,null,null,null,null,null,null,null,null,null,null,""]
[null,null,null,null,null,null,null,null,null,null,null,null,null,null,null,null,null,null,null,null,null,null,null,null,null,null,null,null,null,null,null,null,null,null,null,""]
[null,null,"Teams",null,null,null,null,null,null,null,null,null,"A",null,"B",null,"C",null,"D",null,"E",null,"F",null,"G",null,"H",null,"Pt.",null,"Rang",null,null,null,null,""]
["A",null,null,null,null,null,null,null,null,null,null,null,null,null,{"$f":"A6","v":""},null,{"$f":"A10","v":""},null,{"$f":"A14","v":""},null,{"$f":"A18","v":""},null,{"$f":"A22","v":""},null,{"$f":"A30","v":""},null,{"$f":"A26","v":""},null,{"$f":"IF(A6=\"\",\"\",(IF(M37<>\"\",M37,0))+(IF(O37<>\"\",O37,0))+(IF(Q37<>\"\",Q37,0))+(IF(S37<>\"\",S37,0))+(IF(U37<>\"\",U37,0))+(IF(W37<>\"\",W37,0))+(IF(Y37<>\"\",Y37,0))+(IF(AA37<>\"\",AA37,0)))","v":""}]
["B",null,null,null,null,null,null,null,null,null,null,null,{"$f":"AH6","v":""},null,null,null,{"$f":"A15","v":""},null,{"$f":"A11","v":""},null,{"$f":"A23","v":""},null,{"$f":"A19","v":""},null,{"$f":"A27","v":""},null,{"$f":"A31","v":""},null,{"$f":"IF(A6=\"\",\"\",(IF(M38<>\"\",M38,0))+(IF(O38<>\"\",O38,0))+(IF(Q38<>\"\",Q38,0))+(IF(S38<>\"\",S38,0))+(IF(U38<>\"\",U38,0))+(IF(W38<>\"\",W38,0))+(IF(Y38<>\"\",Y38,0))+(IF(AA38<>\"\",AA38,0)))","v":""}]
["C",null,null,null,null,null,null,null,null,null,null,null,{"$f":"AH10","v":""},null,{"$f":"AH15","v":""},null,null,null,{"$f":"A7","v":""},null,{"$f":"A28","v":""},null,{"$f":"A32","v":""},null,{"$f":"A20","v":""},null,{"$f":"AH24","v":""},null,{"$f":"IF(A7=\"\",\"\",(IF(M39<>\"\",M39,0))+(IF(O39<>\"\",O39,0))+(IF(Q39<>\"\",Q39,0))+(IF(S39<>\"\",S39,0))+(IF(U39<>\"\",U39,0))+(IF(W39<>\"\",W39,0))+(IF(Y39<>\"\",Y39,0))+(IF(AA39<>\"\",AA39,0)))","v":""}]
["D",null,null,null,null,null,null,null,null,null,null,null,{"$f":"AH14","v":""},null,{"$f":"AH11","v":""},null,{"$f":"AH7","v":""},null,null,null,{"$f":"A33","v":""},null,{"$f":"A29","v":""},null,{"$f":"A25","v":""},null,{"$f":"AH21","v":""},null,{"$f":"IF(A7=\"\",\"\",(IF(M40<>\"\",M40,0))+(IF(O40<>\"\",O40,0))+(IF(Q40<>\"\",Q40,0))+(IF(S40<>\"\",S40,0))+(IF(U40<>\"\",U40,0))+(IF(W40<>\"\",W40,0))+(IF(Y40<>\"\",Y40,0))+(IF(AA40<>\"\",AA40,0)))","v":""}]
["E",null,null,null,null,null,null,null,null,null,null,null,{"$f":"AH18","v":""},null,{"$f":"AH23","v":""},null,{"$f":"AH28","v":""},null,{"$f":"AH33","v":""},null,null,null,{"$f":"A8","v":""},null,{"$f":"A12","v":""},null,{"$f":"AH16","v":""},null,{"$f":"IF(A8=\"\",\"\",(IF(M41<>\"\",M41,0))+(IF(O41<>\"\",O41,0))+(IF(Q41<>\"\",Q41,0))+(IF(S41<>\"\",S41,0))+(IF(U41<>\"\",U41,0))+(IF(W41<>\"\",W41,0))+(IF(Y41<>\"\",Y41,0))+(IF(AA41<>\"\",AA41,0)))","v":""}]
["F",null,null,null,null,null,null,null,null,null,null,null,{"$f":"AH22","v":""},null,{"$f":"AH19","v":""},null,{"$f":"AH32","v":""},null,{"$f":"AH29","v":""},null,{"$f":"AH8","v":""},null,null,null,{"$f":"A17","v":""},null,{"$f":"AH13","v":""},null,{"$f":"IF(A8=\"\",\"\",(IF(M42<>\"\",M42,0))+(IF(O42<>\"\",O42,0))+(IF(Q42<>\"\",Q42,0))+(IF(S42<>\"\",S42,0))+(IF(U42<>\"\",U42,0))+(IF(W42<>\"\",W42,0))+(IF(Y42<>\"\",Y42,0))+(IF(AA42<>\"\",AA42,0)))","v":""}]
["G",null,null,null,null,null,null,null,null,null,null,null,{"$f":"AH30","v":""},null,{"$f":"AH27","v":""},null,{"$f":"AH20","v":""},null,{"$f":"AH25","v":""},null,{"$f":"AH12","v":""},null,{"$f":"AH17","v":""},null,null,null,{"$f":"A9","v":""},null,{"$f":"IF(A9=\"\",\"\",(IF(M43<>\"\",M43,0))+(IF(O43<>\"\",O43,0))+(IF(Q43<>\"\",Q43,0))+(IF(S43<>\"\",S43,0))+(IF(U43<>\"\",U43,0))+(IF(W43<>\"\",W43,0))+(IF(Y43<>\"\",Y43,0))+(IF(AA43<>\"\",AA43,0)))","v":""}]
["H",null,null,null,null,null,null,null,null,null,null,null,{"$f":"AH26","v":""},null,{"$f":"AH31","v":""},null,{"$f":"A24","v":""},null,{"$f":"A21","v":""},null,{"$f":"A16","v":""},null,{"$f":"A13","v":""},null,{"$f":"AH9","v":""},null,null,null,{"$f":"IF(A9=\"\",\"\",(IF(M44<>\"\",M44,0))+(IF(O44<>\"\",O44,0))+(IF(Q44<>\"\",Q44,0))+(IF(S44<>\"\",S44,0))+(IF(U44<>\"\",U44,0))+(IF(W44<>\"\",W44,0))+(IF(Y44<>\"\",Y44,0))+(IF(AA44<>\"\",AA44,0)))","v":""}]
[null,null,null,null,null,null,null,null,null,null,null,null,null,null,null,null,null,null,null,null,null,null,null,null,null,null,null,null,null,null,null,null,null,null,null,""]
[null,null,null,null,null,null,null,null,null,null,null,null,null,null,null,null,null,null,null,null,null,null,null,null,null,null,null,null,null,null,null,null,null,null,null,""]
["½ -Finals"]
["P",1,2,3,null,"Teams",null,null,null,null,null,null,null,"Z-Nr.",null,null,"Teams",null,null,null,null,null,null,null,null,null,null,null,1,2,3,"P",null,null,null,null,"Rangliste Final"]
[{"$f":"IF(B49=\"\",\"\",IF(C49=\"\",B49,IF(B49+C49=2,3,IF(D49=\"\",B49+C49,B49+C49+D49))))","v":""},null,null,null,{"$f":"IF(AE37=\"\",\"\",IF(AE37=1,A37,IF(AE38=1,A38,IF(AE39=1,A39,IF(AE40=1,A40,IF(AE41=1,A41,IF(AE42=1,A42,IF(AE43=1,A43,A44))))))))","v":""},{"$f":"IF(AE37=\"\",\"\",IF(AE37=1,C37,IF(AE38=1,C38,IF(AE39=1,C39,IF(AE40=1,C40,IF(AE41=1,C41,IF(AE42=1,C42,IF(AE43=1,C43,C44))))))))","v":""},null,null,null,null,null,null,null,50,null,null,{"$f":"IF('7er Gr2'!AE30=\"\",\"\",IF('7er Gr2'!AE30=2,'7er Gr2'!C30,IF('7er Gr2'!AE31=2,'7er Gr2'!C31,IF('7er Gr2'!AE32=2,'7er Gr2'!C32,IF('7er Gr2'!AE33=2,'7er Gr2'!C33,IF('7er Gr2'!AE34=2,'7er Gr2'!C34,IF('7er Gr2'!AE35=2,'7er Gr2'!C35,IF('7er Gr2'!AE36=2,'7er Gr2'!C36))))))))","v":""},null,null,null,null,null,null,null,null,null,null,{"$f":"IF('7er Gr2'!AE30=\"\",\"\",IF('7er Gr2'!AE30=2,'7er Gr2'!A30,IF('7er Gr2'!AE31=2,'7er Gr2'!A31,IF('7er Gr2'!AE32=2,'7er Gr2'!A32,IF('7er Gr2'!AE33=2,'7er Gr2'!A33,IF('7er Gr2'!AE34=2,'7er Gr2'!A34,IF('7er Gr2'!AE35=2,'7er Gr2'!A35,IF('7er Gr2'!AE36=2,'7er Gr2'!C36))))))))","v":""},{"$f":"IF(B49=1,\"0\",IF(B49=\"\",\"\",\"1\"))","v":""},"","",{"$f":"IF(AC49=\"\",\"\",IF(AD49=\"\",AC49,IF(AC49+AD49=2,3,IF(AE49=\"\",AC49+AD49,AC49+AD49+AE49))))","v":""},null,null,null,{"$f":"IF(A49=\"\",\"\",IF(AND(A49=1,AF49=1)+OR(C49=\"\")+AND(A49+AF49>3)+OR(A49+AF49=2),\"nicht i.o.\",\"i.o.\"))","v":""}]
[{"$f":"IF(B50=\"\",\"\",IF(C50=\"\",B50,IF(B50+C50=2,3,IF(D50=\"\",B50+C50,B50+C50+D50))))","v":""},null,null,null,{"$f":"IF('7er Gr2'!AE30=\"\",\"\",IF('7er Gr2'!AE30=1,'7er Gr2'!A30,IF('7er Gr2'!AE31=1,'7er Gr2'!A31,IF('7er Gr2'!AE32=1,'7er Gr2'!A32,IF('7er Gr2'!AE33=1,'7er Gr2'!A33,IF('7er Gr2'!AE34=1,'7er Gr2'!A34,IF('7er Gr2'!AE35=1,'7er Gr2'!A35,IF('7er Gr2'!AE36=1,'7er Gr2'!A36))))))))","v":""},{"$f":"IF('7er Gr2'!AE30=\"\",\"\",IF('7er Gr2'!AE30=1,'7er Gr2'!C30,IF('7er Gr2'!AE31=1,'7er Gr2'!C31,IF('7er Gr2'!AE32=1,'7er Gr2'!C32,IF('7er Gr2'!AE33=1,'7er Gr2'!C33,IF('7er Gr2'!AE34=1,'7er Gr2'!C34,IF('7er Gr2'!AE35=1,'7er Gr2'!C35,IF('7er Gr2'!AE36=1,'7er Gr2'!C36))))))))","v":""},null,null,null,null,null,null,null,51,null,null,{"$f":"IF(AE37=\"\",\"\",IF(AE37=2,C37,IF(AE38=2,C38,IF(AE39=2,C39,IF(AE40=2,C40,IF(AE41=2,C41,IF(AE42=2,C42,IF(AE43=2,C43,C44))))))))","v":""},null,null,null,null,null,null,null,null,null,null,{"$f":"IF(AE37=\"\",\"\",IF(AE37=2,A37,IF(AE38=2,A38,IF(AE39=2,A39,IF(AE40=2,A40,IF(AE41=2,A41,IF(AE42=2,A42,IF(AE43=2,A43,A44))))))))","v":""},"","","",{"$f":"IF(AC50=\"\",\"\",IF(AD50=\"\",AC50,IF(AC50+AD50=2,3,IF(AE50=\"\",AC50+AD50,AC50+AD50+AE50))))","v":""},null,null," ","",15,null,{"$f":"IF(AE37=\"\",\"\",IF(AE37=8,C37,IF(AE38=8,C38,IF(AE39=8,C39,IF(AE40=8,C40,IF(AE41=8,C41,IF(AE42=8,C42,IF(AE43=8,C43,C44))))))))","v":""}]
["Plazierungszug 13./14.",null,null,null,null,null,null,null,null,null,null,null,null,null,null,null,null,null,null,null,null,null,null,null,null,null,null,null,null,null,null,null,null,null,null,null,14,null,{"$f":"IF(C37=\"\",\"\",IF(OR(A52=\"\",A52+AF52>3,A52+AF52<=2),\"\",IF(A52<=1,F52,Q52)))","v":""}]
[{"$f":"IF(B52=\"\",\"\",IF(C52=\"\",B52,IF(B52+C52=2,3,IF(D52=\"\",B52+C52,B52+C52+D52))))","v":""},null,null,null,{"$f":"IF(AE37=\"\",\"\",IF(AE37=7,A37,IF(AE38=7,A38,IF(AE39=7,A39,IF(AE40=7,A40,IF(AE41=7,A41,IF(AE42=7,A42,IF(AE43=7,A43,A44))))))))","v":""},{"$f":"IF(AE37=\"\",\"\",IF(AE37=7,C37,IF(AE38=7,C38,IF(AE39=7,C39,IF(AE40=7,C40,IF(AE41=7,C41,IF(AE42=7,C42,IF(AE43=7,C43,C44))))))))","v":""},null,null,null,null,null,null,null,52,null,null,{"$f":"IF('7er Gr2'!AE30=\"\",\"\",IF('7er Gr2'!AE30=7,'7er Gr2'!C30,IF('7er Gr2'!AE31=7,'7er Gr2'!C31,IF('7er Gr2'!AE32=7,'7er Gr2'!C32,IF('7er Gr2'!AE33=7,'7er Gr2'!C33,IF('7er Gr2'!AE34=7,'7er Gr2'!C34,IF('7er Gr2'!AE35=7,'7er Gr2'!C35,IF('7er Gr2'!AE36=7,'7er Gr2'!C36))))))))","v":""},null,null,null,null,null,null,null,null,null,null,{"$f":"IF('7er Gr2'!AE30=\"\",\"\",IF('7er Gr2'!AE30=7,'7er Gr2'!A30,IF('7er Gr2'!AE31=7,'7er Gr2'!A31,IF('7er Gr2'!AE32=7,'7er Gr2'!A32,IF('7er Gr2'!AE33=7,'7er Gr2'!A33,IF('7er Gr2'!AE34=7,'7er Gr2'!A34,IF('7er Gr2'!AE35=7,'7er Gr2'!A35,IF('7er Gr2'!AE36=7,'7er Gr2'!A36))))))))","v":""},{"$f":"IF(B52=1,\"0\",IF(B52=\"\",\"\",\"1\"))","v":""},{"$f":"IF(C52=1,\"0\",IF(C52=\"\",\"\",\"1\"))","v":""},{"$f":"IF(D52=1,\"0\",IF(D52=\"\",\"\",\"1\"))","v":""},{"$f":"IF(AC52=\"\",\"\",IF(AD52=\"\",AC52,IF(AC52+AD52=2,3,IF(AE52=\"\",AC52+AD52,AC52+AD52+AE52))))","v":""},null,null,null,"",13,null,{"$f":"IF(C41=\"\",\"\",IF(OR(A52=\"\",A52+AF52>3,A52+AF52<=2),\"\",IF(A52>=2,F52,Q52)))","v":""}]
["Plazierungszug 11./12.",null,null,null,null,null,null,null,null,null,null,null,null,null,null,null,null,null,null,null,null,null,null,null,null,null,null,null,null,null,null,null,null,null,null,null,12,null,{"$f":"IF(C37=\"\",\"\",IF(OR(A54=\"\",A54+AF54>3,A54+AF54<=2),\"\",IF(A54<=1,F54,Q54)))","v":""}]
[{"$f":"IF(B54=\"\",\"\",IF(C54=\"\",B54,IF(B54+C54=2,3,IF(D54=\"\",B54+C54,B54+C54+D54))))","v":""},null,null,null,{"$f":"IF(AE37=\"\",\"\",IF(AE37=6,A37,IF(AE38=6,A38,IF(AE39=6,A39,IF(AE40=6,A40,IF(AE41=6,A41,IF(AE42=6,A42,IF(AE43=6,A43,A44))))))))","v":""},{"$f":"IF(AE37=\"\",\"\",IF(AE37=6,C37,IF(AE38=6,C38,IF(AE39=6,C39,IF(AE40=6,C40,IF(AE41=6,C41,IF(AE42=6,C42,IF(AE43=6,C43,C44))))))))","v":""},null,null,null,null,null,null,null,53,null,null,{"$f":"IF('7er Gr2'!AE30=\"\",\"\",IF('7er Gr2'!AE30=6,'7er Gr2'!C30,IF('7er Gr2'!AE31=6,'7er Gr2'!C31,IF('7er Gr2'!AE32=6,'7er Gr2'!C32,IF('7er Gr2'!AE33=6,'7er Gr2'!C33,IF('7er Gr2'!AE34=6,'7er Gr2'!C34,IF('7er Gr2'!AE35=6,'7er Gr2'!C35,IF('7er Gr2'!AE36=6,'7er Gr2'!C36))))))))","v":""},null,null,null,null,null,null,null,null,null,null,{"$f":"IF('7er Gr2'!AE30=\"\",\"\",IF('7er Gr2'!AE30=6,'7er Gr2'!A30,IF('7er Gr2'!AE31=6,'7er Gr2'!A31,IF('7er Gr2'!AE32=6,'7er Gr2'!A32,IF('7er Gr2'!AE33=6,'7er Gr2'!A33,IF('7er Gr2'!AE34=6,'7er Gr2'!A34,IF('7er Gr2'!AE35=6,'7er Gr2'!A35,IF('7er Gr2'!AE36=6,'7er Gr2'!A36))))))))","v":""},{"$f":"IF(B54=1,\"0\",IF(B54=\"\",\"\",\"1\"))","v":""},{"$f":"IF(C54=1,\"0\",IF(C54=\"\",\"\",\"1\"))","v":""},{"$f":"IF(D54=1,\"0\",IF(D54=\"\",\"\",\"1\"))","v":""},{"$f":"IF(AC54=\"\",\"\",IF(AD54=\"\",AC54,IF(AC54+AD54=2,3,IF(AE54=\"\",AC54+AD54,AC54+AD54+AE54))))","v":""},null,null,null,"",11,null,{"$f":"IF(C43=\"\",\"\",IF(OR(A54=\"\",A54+AF54>3,A54+AF54<=2),\"\",IF(A54>=2,F54,Q54)))","v":""}]
["Plazierungszug 9./10.",null,null,null,null,null,null,null,null,null,null,null,null,null,null,null,null,null,null,null,null,null,null,null,null,null,null,null,null,null,null,null,null,null,null,null,10,null,{"$f":"IF(C37=\"\",\"\",IF(OR(A56=\"\",A56+AF56>3,A56+AF56<=2),\"\",IF(A56<=1,F56,Q56)))","v":""}]
[{"$f":"IF(B56=\"\",\"\",IF(C56=\"\",B56,IF(B56+C56=2,3,IF(D56=\"\",B56+C56,B56+C56+D56))))","v":""},null,null,null,{"$f":"IF(AE37=\"\",\"\",IF(AE37=5,A37,IF(AE38=5,A38,IF(AE39=5,A39,IF(AE40=5,A40,IF(AE41=5,A41,IF(AE42=5,A42,IF(AE43=5,A43,A44))))))))","v":""},{"$f":"IF(AE37=\"\",\"\",IF(AE37=5,C37,IF(AE38=5,C38,IF(AE39=5,C39,IF(AE40=5,C40,IF(AE41=5,C41,IF(AE42=5,C42,IF(AE43=5,C43,C44))))))))","v":""},null,null,null,null,null,null,null,54,null,null,{"$f":"IF('7er Gr2'!AE30=\"\",\"\",IF('7er Gr2'!AE30=5,'7er Gr2'!C30,IF('7er Gr2'!AE31=5,'7er Gr2'!C31,IF('7er Gr2'!AE32=5,'7er Gr2'!C32,IF('7er Gr2'!AE33=5,'7er Gr2'!C33,IF('7er Gr2'!AE34=5,'7er Gr2'!C34,IF('7er Gr2'!AE35=5,'7er Gr2'!C35,IF('7er Gr2'!AE36=5,'7er Gr2'!C36))))))))","v":""},null,null,null,null,null,null,null,null,null,null,{"$f":"IF('7er Gr2'!AE30=\"\",\"\",IF('7er Gr2'!AE30=5,'7er Gr2'!A30,IF('7er Gr2'!AE31=5,'7er Gr2'!A31,IF('7er Gr2'!AE32=5,'7er Gr2'!A32,IF('7er Gr2'!AE33=5,'7er Gr2'!A33,IF('7er Gr2'!AE34=5,'7er Gr2'!A34,IF('7er Gr2'!AE35=5,'7er Gr2'!A35,IF('7er Gr2'!AE36=5,'7er Gr2'!A36))))))))","v":""},{"$f":"IF(B56=1,\"0\",IF(B56=\"\",\"\",\"1\"))","v":""},{"$f":"IF(C56=1,\"0\",IF(C56=\"\",\"\",\"1\"))","v":""},{"$f":"IF(D56=1,\"0\",IF(D56=\"\",\"\",\"1\"))","v":""},{"$f":"IF(AC56=\"\",\"\",IF(AD56=\"\",AC56,IF(AC56+AD56=2,3,IF(AE56=\"\",AC56+AD56,AC56+AD56+AE56))))","v":""},null,null,null,"",9,null,{"$f":"IF(C37=\"\",\"\",IF(OR(A56=\"\",A56+AF56>3,A56+AF56<=2),\"\",IF(A56>=2,F56,Q56)))","v":""}]
["Plazierungszug 7./8.",null,null,null,null,null,null,null,null,null,null,null,null,null,null,null,null,null,null,null,null,null,null,null,null,null,null,null,null,null,null,null,null,null,null,null,8,null,{"$f":"IF(C41=\"\",\"\",IF(OR(A58=\"\",A58+AF58>3,A58+AF58<=2),\"\",IF(A58<=1,F58,Q58)))","v":""}]
[{"$f":"IF(B58=\"\",\"\",IF(C58=\"\",B58,IF(B58+C58=2,3,IF(D58=\"\",B58+C58,B58+C58+D58))))","v":""},null,null,null,{"$f":"IF(AE37=\"\",\"\",IF(AE37=4,A37,IF(AE38=4,A38,IF(AE39=4,A39,IF(AE40=4,A40,IF(AE41=4,A41,IF(AE42=4,A42,IF(AE43=4,A43,A44))))))))","v":""},{"$f":"IF(AE37=\"\",\"\",IF(AE37=4,C37,IF(AE38=4,C38,IF(AE39=4,C39,IF(AE40=4,C40,IF(AE41=4,C41,IF(AE42=4,C42,IF(AE43=4,C43,C44))))))))","v":""},null,null,null,null,null,null,null,55,null,null,{"$f":"IF('7er Gr2'!AE30=\"\",\"\",IF('7er Gr2'!AE30=4,'7er Gr2'!C30,IF('7er Gr2'!AE31=4,'7er Gr2'!C31,IF('7er Gr2'!AE32=4,'7er Gr2'!C32,IF('7er Gr2'!AE33=4,'7er Gr2'!C33,IF('7er Gr2'!AE34=4,'7er Gr2'!C34,IF('7er Gr2'!AE35=4,'7er Gr2'!C35,IF('7er Gr2'!AE36=4,'7er Gr2'!C36))))))))","v":""},null,null,null,null,null,null,null,null,null,null,{"$f":"IF('7er Gr2'!AE30=\"\",\"\",IF('7er Gr2'!AE30=4,'7er Gr2'!A30,IF('7er Gr2'!AE31=4,'7er Gr2'!A31,IF('7er Gr2'!AE32=4,'7er Gr2'!A32,IF('7er Gr2'!AE33=4,'7er Gr2'!A33,IF('7er Gr2'!AE34=4,'7er Gr2'!A34,IF('7er Gr2'!AE35=4,'7er Gr2'!A35,IF('7er Gr2'!AE36=4,'7er Gr2'!A36))))))))","v":""},{"$f":"IF(B58=1,\"0\",IF(B58=\"\",\"\",\"1\"))","v":""},{"$f":"IF(C58=1,\"0\",IF(C58=\"\",\"\",\"1\"))","v":""},{"$f":"IF(D58=1,\"0\",IF(D58=\"\",\"\",\"1\"))","v":""},{"$f":"IF(AC58=\"\",\"\",IF(AD58=\"\",AC58,IF(AC58+AD58=2,3,IF(AE58=\"\",AC58+AD58,AC58+AD58+AE58))))","v":""},null,null,null,"",7,null,{"$f":"IF(C41=\"\",\"\",IF(OR(A58=\"\",A58+AF58>3,A58+AF58<=2),\"\",IF(A58>=2,F58,Q58)))","v":""}]
["Plazierungszug 5./6.",null,null,null,null,null,null,null,null,null,null,null,null,null,null,null,null,null,null,null,null,null,null,null,null,null,null,null,null,null,null,null,null,null,null,null,6,null,{"$f":"IF(C41=\"\",\"\",IF(OR(A60=\"\",A60+AF60>3,A60+AF60<=2),\"\",IF(A60<=1,F60,Q60)))","v":""}]
[{"$f":"IF(B60=\"\",\"\",IF(C60=\"\",B60,IF(B60+C60=2,3,IF(D60=\"\",B60+C60,B60+C60+D60))))","v":""},null,null,null,{"$f":"IF(AE37=\"\",\"\",IF(AE37=3,A37,IF(AE38=3,A38,IF(AE39=3,A39,IF(AE40=3,A40,IF(AE41=3,A41,IF(AE42=3,A42,IF(AE43=3,A43,A44))))))))","v":""},{"$f":"IF(AE37=\"\",\"\",IF(AE37=3,C37,IF(AE38=3,C38,IF(AE39=3,C39,IF(AE40=3,C40,IF(AE41=3,C41,IF(AE42=3,C42,IF(AE43=3,C43,C44))))))))","v":""},null,null,null,null,null,null,null,56,null,null,{"$f":"IF('7er Gr2'!AE30=\"\",\"\",IF('7er Gr2'!AE30=3,'7er Gr2'!C30,IF('7er Gr2'!AE31=3,'7er Gr2'!C31,IF('7er Gr2'!AE32=3,'7er Gr2'!C32,IF('7er Gr2'!AE33=3,'7er Gr2'!C33,IF('7er Gr2'!AE34=3,'7er Gr2'!C34,IF('7er Gr2'!AE35=3,'7er Gr2'!C35,IF('7er Gr2'!AE36=3,'7er Gr2'!C36))))))))","v":""},null,null,null,null,null,null,null,null,null,null,{"$f":"IF('7er Gr2'!AE30=\"\",\"\",IF('7er Gr2'!AE30=3,'7er Gr2'!A30,IF('7er Gr2'!AE31=3,'7er Gr2'!A31,IF('7er Gr2'!AE32=3,'7er Gr2'!A32,IF('7er Gr2'!AE33=3,'7er Gr2'!A33,IF('7er Gr2'!AE34=3,'7er Gr2'!A34,IF('7er Gr2'!AE35=3,'7er Gr2'!A35,IF('7er Gr2'!AE36=3,'7er Gr2'!A36))))))))","v":""},{"$f":"IF(B60=1,\"0\",IF(B60=\"\",\"\",\"1\"))","v":""},{"$f":"IF(C60=1,\"0\",IF(C60=\"\",\"\",\"1\"))","v":""},{"$f":"IF(D60=1,\"0\",IF(D60=\"\",\"\",\"1\"))","v":""},{"$f":"IF(AC60=\"\",\"\",IF(AD60=\"\",AC60,IF(AC60+AD60=2,3,IF(AE60=\"\",AC60+AD60,AC60+AD60+AE60))))","v":""},null,null,null,"",5,null,{"$f":"IF(C41=\"\",\"\",IF(OR(A60=\"\",A60+AF60>3,A60+AF60<=2),\"\",IF(A60>=2,F60,Q60)))","v":""}]
["Kleiner Final",null,null,null,null,null,null,null,null,null,null,null,null,null,null,null,null,null,null,null,null,null,null,null,null,null,null,null,null,null,null,null,null,null,null,null,4,null,{"$f":"IF(C37=\"\",\"\",IF(OR(A62=\"\",A62+AF62>3,A62+AF62<=2),\"\",IF(A62<=1,F62,Q62)))","v":""}]
[{"$f":"IF(B62=\"\",\"\",IF(C62=\"\",B62,IF(B62+C62=2,3,IF(D62=\"\",B62+C62,B62+C62+D62))))","v":""},null,null,null,{"$f":"IF(A49=\"\",\"\",IF(A49>1,AB49,E49))","v":""},{"$f":"IF(A49=\"\",\"\",IF(A49>1,Q49,F49))","v":""},null,null,null,null,null,null,null,57,null,null,{"$f":"IF(A50=\"\",\"\",IF(A50>1,Q50,F50))","v":""},null,null,null,null,null,null,null,null,null,null,{"$f":"IF(A50=\"\",\"\",IF(A50>1,AB50,E50))","v":""},{"$f":"IF(B62=1,\"0\",IF(B62=\"\",\"\",\"1\"))","v":""},{"$f":"IF(C62=1,\"0\",IF(C62=\"\",\"\",\"1\"))","v":""},{"$f":"IF(D62=1,\"0\",IF(D62=\"\",\"\",\"1\"))","v":""},{"$f":"IF(AC62=\"\",\"\",IF(AD62=\"\",AC62,IF(AC62+AD62=2,3,IF(AE62=\"\",AC62+AD62,AC62+AD62+AE62))))","v":""},null,null,null,"",3,null,{"$f":"IF(C41=\"\",\"\",IF(OR(A62=\"\",A62+AF62>3,A62+AF62<=2),\"\",IF(A62>=2,F62,Q62)))","v":""}]
["Final",null,null,null,null,null,null,null,null,null,null,null,null,null,null,null,null,null,null,null,null,null,null,null,null,null,null,null,null,null,null,null,null,null,null,null,2,null,{"$f":"IF(C41=\"\",\"\",IF(OR(A64=\"\",A64+AF64>3,A64+AF64<=2),\"\",IF(A64<=1,F64,Q64)))","v":""}]
[{"$f":"IF(B64=\"\",\"\",IF(C64=\"\",B64,IF(B64+C64=2,3,IF(D64=\"\",B64+C64,B64+C64+D64))))","v":""},null,null,null,{"$f":"IF(A49=\"\",\"\",IF(A49>1,E49,AB49))","v":""},{"$f":"IF(A49=\"\",\"\",IF(A49>1,F49,Q49))","v":""},null,null,null,null,null,null,null,58,null,null,{"$f":"IF(A50=\"\",\"\",IF(A50>1,F50,Q50))","v":""},null,null,null,null,null,null,null,null,null,null,{"$f":"IF(A50=\"\",\"\",IF(A50>1,E50,AB50))","v":""},{"$f":"IF(B64=1,\"0\",IF(B64=\"\",\"\",\"1\"))","v":""},{"$f":"IF(C64=1,\"0\",IF(C64=\"\",\"\",\"1\"))","v":""},{"$f":"IF(D64=1,\"0\",IF(D64=\"\",\"\",\"1\"))","v":""},{"$f":"IF(AC64=\"\",\"\",IF(AD64=\"\",AC64,IF(AC64+AD64=2,3,IF(AE64=\"\",AC64+AD64,AC64+AD64+AE64))))","v":""},null,null,null,{"$f":"IF(A64=\"\",\"\",IF(AND(A64=1,AF64=1)+OR(C64=\"\")+AND(A64+AF64>3)+OR(A64+AF64=2),\"nicht i.o.\",\"i.o.\"))","v":""},1,null,{"$f":"IF(C41=\"\",\"\",IF(OR(A64=\"\",A64+AF64>3,A64+AF64<=2),\"\",IF(A64>=2,F64,Q64)))","v":""}]

{"sheet":"7er Gr2","index":1,"n_rows":36,"n_cols":42,"rows_kept":36,"cut":false,"hidden":false,"merged":[[34,16,34,17],[29,16,29,17],[31,14,31,15],[35,16,35,17],[31,28,31,29],[34,28,34,29],[35,22,35,23],[35,24,35,25],[35,26,35,27],[35,28,35,29],[35,20,35,21],[31,22,31,23],[31,20,31,21],[31,26,31,27],[31,24,31,25],[30,16,30,17],[31,16,31,17],[30,28,30,29],[35,30,35,31],[25,5,25,13],[25,17,25,28],[28,2,28,13],[29,2,29,13],[30,2,30,13],[31,2,31,13],[32,2,32,13],[33,2,33,13],[34,2,34,13],[35,14,35,15],[28,14,28,15],[35,2,35,13],[32,14,32,15],[33,14,33,15],[34,14,34,15],[33,16,33,17],[31,30,31,31],[34,30,34,31],[34,26,34,27],[34,24,34,25],[34,22,34,23],[34,20,34,21],[35,18,35,19],[31,18,31,19],[4,14,4,16],[1,26,1,31],[29,28,29,29],[29,30,29,31],[28,28,28,29],[28,30,28,31],[28,26,28,27],[29,14,29,15],[25,14,25,16],[22,14,22,16],[21,14,21,16],[24,14,24,16],[14,14,14,16],[23,14,23,16],[10,17,10,28],[11,17,11,28],[12,17,12,28],[13,17,13,28],[6,17,6,28],[7,17,7,28],[13,14,13,16],[16,14,16,16],[15,14,15,16],[29,0,29,1],[28,0,28,1],[29,26,29,27],[28,24,28,25],[29,24,29,25],[30,0,30,1],[28,16,28,17],[30,14,30,15],[24,5,24,13],[28,18,28,19],[29,18,29,19],[30,18,30,19],[30,30,30,31],[30,22,30,23],[30,20,30,21],[30,26,30,27],[30,24,30,25],[28,22,28,23],[29,22,29,23],[28,20,28,21],[29,20,29,21],[32,30,32,31],[33,26,33,27],[32,24,32,25],[33,24,33,25],[33,22,33,23],[32,22,32,23],[32,26,32,27],[32,20,32,21],[32,16,32,17],[33,20,33,21],[32,18,32,19],[33,18,33,19],[33,28,33,29],[33,30,33,31],[34,18,34,19],[33,0,33,1],[31,0,31,1],[10,14,10,16],[9,14,9,16],[12,14,12,16],[11,14,11,16],[18,14,18,16],[17,14,17,16],[9,17,9,28],[18,17,18,28],[19,17,19,28],[20,17,20,28],[21,17,21,28],[14,17,14,28],[15,17,15,28],[16,17,16,28],[17,17,17,28],[21,5,21,13],[22,17,22,28],[23,17,23,28],[24,17,24,28],[32,0,32,1],[32,28,32,29],[12,5,12,13],[13,5,13,13],[14,5,14,13],[15,5,15,13],[20,5,20,13],[1,2,1,8],[2,4,2,11],[4,5,4,13],[35,0,35,1],[34,0,34,1],[0,6,0,23],[1,12,1,18],[20,14,20,16],[19,14,19,16],[22,5,22,13],[23,5,23,13],[16,5,16,13],[17,5,17,13],[18,5,18,13],[19,5,19,13],[5,5,5,13],[5,14,5,16],[5,17,5,28],[8,5,8,13],[6,5,6,13],[8,14,8,16],[7,14,7,16],[6,14,6,16],[7,5,7,13],[8,17,8,28],[4,17,4,28],[9,5,9,13],[10,5,10,13],[11,5,11,13]]}
[null,null,null,null,null,null,"OSM",null,null,null,null,null,null,null,null,null,null,null,null,null,null,null,null,null,null,null,null,null,null,null,null,null,null,null," "]
["Turnier:",null,null,null,null,null,null,null,null,null,"Datum:",null,null,null,null,null,null,null,null,null,"Gewichtsklasse:",null,null,null,null,null,"Gr. 2"]
["Turnierleiter:"]
[null,null,null,null,null,null,null,null,null,null,null,null,null,null,null,null,null,null,null,null,null,null,null,null,null,null,null,null,"7-Turnier"]
["P",1,2,3,null,"Teams",null,null,null,null,null,null,null,null,"Z-Nr.",null,null,"Teams",null,null,null,null,null,null,null,null,null,null,null,null,1,2,3,"P","Zeit:","Prüfung"]
[{"$f":"IF(B6=\"\",\"\",IF(C6=\"\",B6,IF(B6+C6=2,3,IF(D6=\"\",B6+C6,B6+C6+D6))))","v":""},null,null,null,"A",{"$f":"IF(C30=\"\",\"\",C30)","v":""},null,null,null,null,null,null,null,null,{"$f":"CONCATENATE(AN6,AO6,AL6,AP6)","v":"1(29)"},null,null,{"$f":"IF(C31=\"\",\"\",C31)","v":""},null,null,null,null,null,null,null,null,null,null,null,"B",{"$f":"IF(B6=1,\"0\",IF(B6=\"\",\"\",\"1\"))","v":""},{"$f":"IF(C6=1,\"0\",IF(C6=\"\",\"\",\"1\"))","v":""},"",{"$f":"IF(AE6=\"\",\"\",IF(AF6=\"\",AE6,IF(AE6+AF6=2,3,IF(AG6=\"\",AE6+AF6,AE6+AF6+AG6))))","v":""},null,{"$f":"IF(A6=\"\",\"\",IF(AND(A6=1,AF6=1)+OR(C6=\"\")+AND(A6+AH6>3)+OR(A6+AH6=2),\"nicht i.o.\",\"i.o.\"))","v":""},null,29,null,1,"(",")"]
[{"$f":"IF(B7=\"\",\"\",IF(C7=\"\",B7,IF(B7+C7=2,3,IF(D7=\"\",B7+C7,B7+C7+D7))))","v":""},null,null,null,"C",{"$f":"IF(C32=\"\",\"\",C32)","v":""},null,null,null,null,null,null,null,null,{"$f":"CONCATENATE(AN7,AO7,AL7,AP7)","v":"2(30)"},null,null,{"$f":"IF(C33=\"\",\"\",C33)","v":""},null,null,null,null,null,null,null,null,null,null,null,"D",{"$f":"IF(B7=1,\"0\",IF(B7=\"\",\"\",\"1\"))","v":""},"","",{"$f":"IF(AE7=\"\",\"\",IF(AF7=\"\",AE7,IF(AE7+AF7=2,3,IF(AG7=\"\",AE7+AF7,AE7+AF7+AG7))))","v":""},null,{"$f":"IF(A7=\"\",\"\",IF(AND(A7=1,AF7=1)+OR(C7=\"\")+AND(A7+AH7>3)+OR(A7+AH7=2),\"nicht i.o.\",\"i.o.\"))","v":""},null,30,null,2,"(",")"]
[{"$f":"IF(B8=\"\",\"\",IF(C8=\"\",B8,IF(B8+C8=2,3,IF(D8=\"\",B8+C8,B8+C8+D8))))","v":""},null,null,null,"E",{"$f":"IF(C34=\"\",\"\",C34)","v":""},null,null,null,null,null,null,null,null,"3(31)",null,null,{"$f":"IF(C35=\"\",\"\",C35)","v":""},null,null,null,null,null,null,null,null,null,null,null,"F",{"$f":"IF(B8=1,\"0\",IF(B8=\"\",\"\",\"1\"))","v":""},{"$f":"IF(C8=1,\"0\",IF(C8=\"\",\"\",\"1\"))","v":""},{"$f":"IF(D8=1,\"0\",IF(D8=\"\",\"\",\"1\"))","v":""},{"$f":"IF(AE8=\"\",\"\",IF(AF8=\"\",AE8,IF(AE8+AF8=2,3,IF(AG8=\"\",AE8+AF8,AE8+AF8+AG8))))","v":""},null,"",null,31,null,3,"(",")"]
[{"$f":"IF(B9=\"\",\"\",IF(C9=\"\",B9,IF(B9+C9=2,3,IF(D9=\"\",B9+C9,B9+C9+D9))))","v":""},null,null,null,"G",{"$f":"IF(C36=\"\",\"\",C36)","v":""},null,null,null,null,null,null,null,null,"4(32)",null,null,{"$f":"IF(C30=\"\",\"\",C30)","v":""},null,null,null,null,null,null,null,null,null,null,null,"A",{"$f":"IF(B9=1,\"0\",IF(B9=\"\",\"\",\"1\"))","v":""},"","",{"$f":"IF(AE9=\"\",\"\",IF(AF9=\"\",AE9,IF(AE9+AF9=2,3,IF(AG9=\"\",AE9+AF9,AE9+AF9+AG9))))","v":""},null,"",null,32,null,4,"(",")"]
[{"$f":"IF(B10=\"\",\"\",IF(C10=\"\",B10,IF(B10+C10=2,3,IF(D10=\"\",B10+C10,B10+C10+D10))))","v":""},null,null,null,"B",{"$f":"IF(C31=\"\",\"\",C31)","v":""},null,null,null,null,null,null,null,null,"5(33)",null,null,{"$f":"IF(C32=\"\",\"\",C32)","v":""},null,null,null,null,null,null,null,null,null,null,null,"C",{"$f":"IF(B10=1,\"0\",IF(B10=\"\",\"\",\"1\"))","v":""},{"$f":"IF(C10=1,\"0\",IF(C10=\"\",\"\",\"1\"))","v":""},{"$f":"IF(D10=1,\"0\",IF(D10=\"\",\"\",\"1\"))","v":""},{"$f":"IF(AE10=\"\",\"\",IF(AF10=\"\",AE10,IF(AE10+AF10=2,3,IF(AG10=\"\",AE10+AF10,AE10+AF10+AG10))))","v":""},null,"",null,33,null,5,"(",")"]
[{"$f":"IF(B11=\"\",\"\",IF(C11=\"\",B11,IF(B11+C11=2,3,IF(D11=\"\",B11+C11,B11+C11+D11))))","v":""},null,null,null,"D",{"$f":"IF(C33=\"\",\"\",C33)","v":""},null,null,null,null,null,null,null,null,"6(34)",null,null,{"$f":"IF(C34=\"\",\"\",C34)","v":""},null,null,null,null,null,null,null,null,null,null,null,"E",{"$f":"IF(B11=1,\"0\",IF(B11=\"\",\"\",\"1\"))","v":""},"","",{"$f":"IF(AE11=\"\",\"\",IF(AF11=\"\",AE11,IF(AE11+AF11=2,3,IF(AG11=\"\",AE11+AF11,AE11+AF11+AG11))))","v":""},null,"",null,34,null,6,"(",")"]
[{"$f":"IF(B12=\"\",\"\",IF(C12=\"\",B12,IF(B12+C12=2,3,IF(D12=\"\",B12+C12,B12+C12+D12))))","v":""},null,null,null,"F",{"$f":"IF(C35=\"\",\"\",C35)","v":""},null,null,null,null,null,null,null,null,"7(35)",null,null,{"$f":"IF(C36=\"\",\"\",C36)","v":""},null,null,null,null,null,null,null,null,null,null,null,"G",{"$f":"IF(B12=1,\"0\",IF(B12=\"\",\"\",\"1\"))","v":""},{"$f":"IF(C12=1,\"0\",IF(C12=\"\",\"\",\"1\"))","v":""},{"$f":"IF(D12=1,\"0\",IF(D12=\"\",\"\",\"1\"))","v":""},{"$f":"IF(AE12=\"\",\"\",IF(AF12=\"\",AE12,IF(AE12+AF12=2,3,IF(AG12=\"\",AE12+AF12,AE12+AF12+AG12))))","v":""},null,"",null,35,null,7,"(",")"]
[{"$f":"IF(B13=\"\",\"\",IF(C13=\"\",B13,IF(B13+C13=2,3,IF(D13=\"\",B13+C13,B13+C13+D13))))","v":""},null,null,null,"A",{"$f":"IF(C30=\"\",\"\",C30)","v":""},null,null,null,null,null,null,null,null,"8(36)",null,null,{"$f":"IF(C33=\"\",\"\",C33)","v":""},null,null,null,null,null,null,null,null,null,null,null,"D",{"$f":"IF(B13=1,\"0\",IF(B13=\"\",\"\",\"1\"))","v":""},"","",{"$f":"IF(AE13=\"\",\"\",IF(AF13=\"\",AE13,IF(AE13+AF13=2,3,IF(AG13=\"\",AE13+AF13,AE13+AF13+AG13))))","v":""},null,"",null,36,null,8,"(",")"]
[{"$f":"IF(B14=\"\",\"\",IF(C14=\"\",B14,IF(B14+C14=2,3,IF(D14=\"\",B14+C14,B14+C14+D14))))","v":""},null,null,null,"B",{"$f":"IF(C31=\"\",\"\",C31)","v":""},null,null,null,null,null,null,null,null,"9(37)",null,null,{"$f":"IF(C34=\"\",\"\",C34)","v":""},null,null,null,null,null,null,null,null,null,null,null,"E",{"$f":"IF(B14=1,\"0\",IF(B14=\"\",\"\",\"1\"))","v":""},{"$f":"IF(C14=1,\"0\",IF(C14=\"\",\"\",\"1\"))","v":""},{"$f":"IF(D14=1,\"0\",IF(D14=\"\",\"\",\"1\"))","v":""},{"$f":"IF(AE14=\"\",\"\",IF(AF14=\"\",AE14,IF(AE14+AF14=2,3,IF(AG14=\"\",AE14+AF14,AE14+AF14+AG14))))","v":""},null,"",null,37,null,9,"(",")"]
[{"$f":"IF(B15=\"\",\"\",IF(C15=\"\",B15,IF(B15+C15=2,3,IF(D15=\"\",B15+C15,B15+C15+D15))))","v":""},null,null,null,"C",{"$f":"IF(C32=\"\",\"\",C32)","v":""},null,null,null,null,null,null,null,null,"10(38)",null,null,{"$f":"IF(C35=\"\",\"\",C35)","v":""},null,null,null,null,null,null,null,null,null,null,null,"F",{"$f":"IF(B15=1,\"0\",IF(B15=\"\",\"\",\"1\"))","v":""},"","",{"$f":"IF(AE15=\"\",\"\",IF(AF15=\"\",AE15,IF(AE15+AF15=2,3,IF(AG15=\"\",AE15+AF15,AE15+AF15+AG15))))","v":""},null,"",null,38,null,10,"(",")"]
[{"$f":"IF(B16=\"\",\"\",IF(C16=\"\",B16,IF(B16+C16=2,3,IF(D16=\"\",B16+C16,B16+C16+D16))))","v":""},null,null,null,"D",{"$f":"IF(C33=\"\",\"\",C33)","v":""},null,null,null,null,null,null,null,null,"11(39)",null,null,{"$f":"IF(C36=\"\",\"\",C36)","v":""},null,null,null,null,null,null,null,null,null,null,null,"G",{"$f":"IF(B16=1,\"0\",IF(B16=\"\",\"\",\"1\"))","v":""},{"$f":"IF(C16=1,\"0\",IF(C16=\"\",\"\",\"1\"))","v":""},{"$f":"IF(D16=1,\"0\",IF(D16=\"\",\"\",\"1\"))","v":""},{"$f":"IF(AE16=\"\",\"\",IF(AF16=\"\",AE16,IF(AE16+AF16=2,3,IF(AG16=\"\",AE16+AF16,AE16+AF16+AG16))))","v":""},null,"",null,39,null,11,"(",")"]
[{"$f":"IF(B17=\"\",\"\",IF(C17=\"\",B17,IF(B17+C17=2,3,IF(D17=\"\",B17+C17,B17+C17+D17))))","v":""},null,null,null,"A",{"$f":"IF(C30=\"\",\"\",C30)","v":""},null,null,null,null,null,null,null,null,"12(40)",null,null,{"$f":"IF(C34=\"\",\"\",C34)","v":""},null,null,null,null,null,null,null,null,null,null,null,"E",{"$f":"IF(B17=1,\"0\",IF(B17=\"\",\"\",\"1\"))","v":""},"","",{"$f":"IF(AE17=\"\",\"\",IF(AF17=\"\",AE17,IF(AE17+AF17=2,3,IF(AG17=\"\",AE17+AF17,AE17+AF17+AG17))))","v":""},null,"",null,40,null,12,"(",")"]
[{"$f":"IF(B18=\"\",\"\",IF(C18=\"\",B18,IF(B18+C18=2,3,IF(D18=\"\",B18+C18,B18+C18+D18))))","v":""},null,null,null,"B",{"$f":"IF(C31=\"\",\"\",C31)","v":""},null,null,null,null,null,null,null,null,"13(41)",null,null,{"$f":"IF(C35=\"\",\"\",C35)","v":""},null,null,null,null,null,null,null,null,null,null,null,"F",{"$f":"IF(B18=1,\"0\",IF(B18=\"\",\"\",\"1\"))","v":""},{"$f":"IF(C18=1,\"0\",IF(C18=\"\",\"\",\"1\"))","v":""},{"$f":"IF(D18=1,\"0\",IF(D18=\"\",\"\",\"1\"))","v":""},{"$f":"IF(AE18=\"\",\"\",IF(AF18=\"\",AE18,IF(AE18+AF18=2,3,IF(AG18=\"\",AE18+AF18,AE18+AF18+AG18))))","v":""},null,"",null,41,null,13,"(",")"]
[{"$f":"IF(B19=\"\",\"\",IF(C19=\"\",B19,IF(B19+C19=2,3,IF(D19=\"\",B19+C19,B19+C19+D19))))","v":""},null,null,null,"C",{"$f":"IF(C32=\"\",\"\",C32)","v":""},null,null,null,null,null,null,null,null,"14(42)",null,null,{"$f":"IF(C36=\"\",\"\",C36)","v":""},null,null,null,null,null,null,null,null,null,null,null,"G",{"$f":"IF(B19=1,\"0\",IF(B19=\"\",\"\",\"1\"))","v":""},"","",{"$f":"IF(AE19=\"\",\"\",IF(AF19=\"\",AE19,IF(AE19+AF19=2,3,IF(AG19=\"\",AE19+AF19,AE19+AF19+AG19))))","v":""}," ","",null,42,null,14,"(",")"]
[{"$f":"IF(B20=\"\",\"\",IF(C20=\"\",B20,IF(B20+C20=2,3,IF(D20=\"\",B20+C20,B20+C20+D20))))","v":""},null,null,null,"B",{"$f":"IF(C31=\"\",\"\",C31)","v":""},null,null,null,null,null,null,null,null,"15(43)",null,null,{"$f":"IF(C33=\"\",\"\",C33)","v":""},null,null,null,null,null,null,null,null,null,null,null,"D",{"$f":"IF(B20=1,\"0\",IF(B20=\"\",\"\",\"1\"))","v":""},{"$f":"IF(C20=1,\"0\",IF(C20=\"\",\"\",\"1\"))","v":""},{"$f":"IF(D20=1,\"0\",IF(D20=\"\",\"\",\"1\"))","v":""},{"$f":"IF(AE20=\"\",\"\",IF(AF20=\"\",AE20,IF(AE20+AF20=2,3,IF(AG20=\"\",AE20+AF20,AE20+AF20+AG20))))","v":""},null,"",null,43,null,15,"(",")"]
[{"$f":"IF(B21=\"\",\"\",IF(C21=\"\",B21,IF(B21+C21=2,3,IF(D21=\"\",B21+C21,B21+C21+D21))))","v":""},null,null,null,"F",{"$f":"IF(C35=\"\",\"\",C35)","v":""},null,null,null,null,null,null,null,null,"16(44)",null,null,{"$f":"IF(C30=\"\",\"\",C30)","v":""},null,null,null,null,null,null,null,null,null,null,null,"A",{"$f":"IF(B21=1,\"0\",IF(B21=\"\",\"\",\"1\"))","v":""},"","",{"$f":"IF(AE21=\"\",\"\",IF(AF21=\"\",AE21,IF(AE21+AF21=2,3,IF(AG21=\"\",AE21+AF21,AE21+AF21+AG21))))","v":""},null,"",null,44,null,16,"(",")"]
[{"$f":"IF(B22=\"\",\"\",IF(C22=\"\",B22,IF(B22+C22=2,3,IF(D22=\"\",B22+C22,B22+C22+D22))))","v":""},null,null,null,"C",{"$f":"IF(C32=\"\",\"\",C32)","v":""},null,null,null,null,null,null,null,null,"17(45)",null,null,{"$f":"IF(C34=\"\",\"\",C34)","v":""},null,null,null,null,null,null,null,null,null,null,null,"E",{"$f":"IF(B22=1,\"0\",IF(B22=\"\",\"\",\"1\"))","v":""},{"$f":"IF(C22=1,\"0\",IF(C22=\"\",\"\",\"1\"))","v":""},{"$f":"IF(D22=1,\"0\",IF(D22=\"\",\"\",\"1\"))","v":""},{"$f":"IF(AE22=\"\",\"\",IF(AF22=\"\",AE22,IF(AE22+AF22=2,3,IF(AG22=\"\",AE22+AF22,AE22+AF22+AG22))))","v":""},null,"",null,45,null,17,"(",")"]
[{"$f":"IF(B23=\"\",\"\",IF(C23=\"\",B23,IF(B23+C23=2,3,IF(D23=\"\",B23+C23,B23+C23+D23))))","v":""},null,null,null,"G",{"$f":"IF(C36=\"\",\"\",C36)","v":""},null,null,null,null,null,null,null,null,"18(46)",null,null,{"$f":"IF(C31=\"\",\"\",C31)","v":""},null,null,null,null,null,null,null,null,null,null,null,"B",{"$f":"IF(B23=1,\"0\",IF(B23=\"\",\"\",\"1\"))","v":""},"","",{"$f":"IF(AE23=\"\",\"\",IF(AF23=\"\",AE23,IF(AE23+AF23=2,3,IF(AG23=\"\",AE23+AF23,AE23+AF23+AG23))))","v":""},null,"",null,46,null,18,"(",")"]
[{"$f":"IF(B24=\"\",\"\",IF(C24=\"\",B24,IF(B24+C24=2,3,IF(D24=\"\",B24+C24,B24+C24+D24))))","v":""},null,null,null,"D",{"$f":"IF(C33=\"\",\"\",C33)","v":""},null,null,null,null,null,null,null,null,"19(47)",null,null,{"$f":"IF(C35=\"\",\"\",C35)","v":""},null,null,null,null,null,null,null,null,null,null,null,"F",{"$f":"IF(B24=1,\"0\",IF(B24=\"\",\"\",\"1\"))","v":""},{"$f":"IF(C24=1,\"0\",IF(C24=\"\",\"\",\"1\"))","v":""},{"$f":"IF(D24=1,\"0\",IF(D24=\"\",\"\",\"1\"))","v":""},{"$f":"IF(AE24=\"\",\"\",IF(AF24=\"\",AE24,IF(AE24+AF24=2,3,IF(AG24=\"\",AE24+AF24,AE24+AF24+AG24))))","v":""},null,"",null,47,null,19,"(",")"]
[{"$f":"IF(B25=\"\",\"\",IF(C25=\"\",B25,IF(B25+C25=2,3,IF(D25=\"\",B25+C25,B25+C25+D25))))","v":""},null,null,null,"A",{"$f":"IF(C30=\"\",\"\",C30)","v":""},null,null,null,null,null,null,null,null,"20(48)",null,null,{"$f":"IF(C32=\"\",\"\",C32)","v":""},null,null,null,null,null,null,null,null,null,null,null,"C",{"$f":"IF(B25=1,\"0\",IF(B25=\"\",\"\",\"1\"))","v":""},"","",{"$f":"IF(AE25=\"\",\"\",IF(AF25=\"\",AE25,IF(AE25+AF25=2,3,IF(AG25=\"\",AE25+AF25,AE25+AF25+AG25))))","v":""},null,"",null,48,null,20,"(",")"]
[{"$f":"IF(B26=\"\",\"\",IF(C26=\"\",B26,IF(B26+C26=2,3,IF(D26=\"\",B26+C26,B26+C26+D26))))","v":""},null,null,null,"E",{"$f":"IF(C34=\"\",\"\",C34)","v":""},null,null,null,null,null,null,null,null,"21(49)",null,null,{"$f":"IF(C36=\"\",\"\",C36)","v":""},null,null,null,null,null,null,null,null,null,null,null,"G",{"$f":"IF(B26=1,\"0\",IF(B26=\"\",\"\",\"1\"))","v":""},{"$f":"IF(C26=1,\"0\",IF(C26=\"\",\"\",\"1\"))","v":""},{"$f":"IF(D26=1,\"0\",IF(D26=\"\",\"\",\"1\"))","v":""},{"$f":"IF(AE26=\"\",\"\",IF(AF26=\"\",AE26,IF(AE26+AF26=2,3,IF(AG26=\"\",AE26+AF26,AE26+AF26+AG26))))","v":""},null,"",null,49,null,21,"(",")"]
[]
[]
[null,null,"Teams",null,null,null,null,null,null,null,null,null,null,null,"A",null,"B",null,"C",null,"D",null,"E",null,"F",null,"G",null,"Pt.",null,"Rang"]
["A",null,null,null,null,null,null,null,null,null,null,null,null,null,null,null,{"$f":"A6","v":""},null,{"$f":"A25","v":""},null,{"$f":"A13","v":""},null,{"$f":"A17","v":""},null,{"$f":"AH21","v":""},null,{"$f":"AH9","v":""},null,{"$f":"IF(A6=\"\",\"\",(IF(O30<>\"\",O30,0))+(IF(Q30<>\"\",Q30,0))+(IF(S30<>\"\",S30,0))+(IF(U30<>\"\",U30,0))+(IF(W30<>\"\",W30,0))+(IF(Y30<>\"\",Y30,0))+(IF(AA30<>\"\",AA30,0)))","v":""}]
["B",null,null,null,null,null,null,null,null,null,null,null,null,null,{"$f":"AH6","v":""},null,null,null,{"$f":"A10","v":""},null,{"$f":"A20","v":""},null,{"$f":"A14","v":""},null,{"$f":"A18","v":""},null,{"$f":"AH23","v":""},null,{"$f":"IF(AH6=\"\",\"\",(IF(O31<>\"\",O31,0))+(IF(Q31<>\"\",Q31,0))+(IF(S31<>\"\",S31,0))+(IF(U31<>\"\",U31,0))+(IF(W31<>\"\",W31,0))+(IF(Y31<>\"\",Y31,0))+(IF(AA31<>\"\",AA31,0)))","v":""}]
["C",null,null,null,null,null,null,null,null,null,null,null,null,null,{"$f":"AH25","v":""},null,{"$f":"AH10","v":""},null,null,null,{"$f":"A7","v":""},null,{"$f":"A22","v":""},null,{"$f":"A15","v":""},null,{"$f":"A19","v":""},null,{"$f":"IF(A7=\"\",\"\",(IF(O32<>\"\",O32,0))+(IF(Q32<>\"\",Q32,0))+(IF(S32<>\"\",S32,0))+(IF(U32<>\"\",U32,0))+(IF(W32<>\"\",W32,0))+(IF(Y32<>\"\",Y32,0))+(IF(AA32<>\"\",AA32,0)))","v":""}]
["D",null,null,null,null,null,null,null,null,null,null,null,null,null,{"$f":"AH13","v":""},null,{"$f":"AH20","v":""},null,{"$f":"AH7","v":""},null,null,null,{"$f":"A11","v":""},null,{"$f":"A24","v":""},null,{"$f":"A16","v":""},null,{"$f":"IF(AH7=\"\",\"\",(IF(O33<>\"\",O33,0))+(IF(Q33<>\"\",Q33,0))+(IF(S33<>\"\",S33,0))+(IF(U33<>\"\",U33,0))+(IF(W33<>\"\",W33,0))+(IF(Y33<>\"\",Y33,0))+(IF(AA33<>\"\",AA33,0)))","v":""}]
["E",null,null,null,null,null,null,null,null,null,null,null,null,null,{"$f":"AH17","v":""},null,{"$f":"AH14","v":""},null,{"$f":"AH22","v":""},null,{"$f":"AH11","v":""},null,null,null,{"$f":"A8","v":""},null,{"$f":"A26","v":""},null,{"$f":"IF(A8=\"\",\"\",(IF(O34<>\"\",O34,0))+(IF(Q34<>\"\",Q34,0))+(IF(S34<>\"\",S34,0))+(IF(U34<>\"\",U34,0))+(IF(W34<>\"\",W34,0))+(IF(Y34<>\"\",Y34,0))+(IF(AA34<>\"\",AA34,0)))","v":""}]
["F",null,null,null,null,null,null,null,null,null,null,null,null,null,{"$f":"A21","v":""},null,{"$f":"AH18","v":""},null,{"$f":"AH15","v":""},null,{"$f":"AH24","v":""},null,{"$f":"AH8","v":""},null,null,null,{"$f":"A12","v":""},null,{"$f":"IF(AH8=\"\",\"\",(IF(O35<>\"\",O35,0))+(IF(Q35<>\"\",Q35,0))+(IF(S35<>\"\",S35,0))+(IF(U35<>\"\",U35,0))+(IF(W35<>\"\",W35,0))+(IF(Y35<>\"\",Y35,0))+(IF(AA35<>\"\",AA35,0)))","v":""}]
["G",null,null,null,null,null,null,null,null,null,null,null,null,null,{"$f":"A9","v":""},null,{"$f":"A23","v":""},null,{"$f":"AH19","v":""},null,{"$f":"AH16","v":""},null,{"$f":"AH26","v":""},null,{"$f":"AH12","v":""},null,null,null,{"$f":"IF(A9=\"\",\"\",(IF(O36<>\"\",O36,0))+(IF(Q36<>\"\",Q36,0))+(IF(S36<>\"\",S36,0))+(IF(U36<>\"\",U36,0))+(IF(W36<>\"\",W36,0))+(IF(Y36<>\"\",Y36,0))+(IF(AA36<>\"\",AA36,0)))","v":""}]

{"sheet":"Rangliste Final","index":2,"n_rows":27,"n_cols":7,"rows_kept":27,"cut":false,"hidden":false,"merged":[[4,0,4,6],[8,0,8,6],[0,0,0,6]]}
["OSM"]
[]
[null,null,null,null,null,null,"Datum:"]
[]
["Turnier Sevelen"]
[]
[null,"Pokal-Sponsor: "]
[]
["Besten Dank fürs mitmachen."]
[]
[null,"Rangliste"]
[]
[null,"1.",{"$f":"'8er Gr1'!AM64","v":""}]
[null,"2.",{"$f":"'8er Gr1'!AM63","v":""}]
[null,"3.",{"$f":"'8er Gr1'!AM62","v":""}]
[null,"4.",{"$f":"'8er Gr1'!AM61","v":""}]
[null,"5.",{"$f":"'8er Gr1'!AM60","v":""}]
[null,"6.",{"$f":"'8er Gr1'!AM59","v":""}]
[null,"7.",{"$f":"'8er Gr1'!AM58","v":""}]
[null,"8.",{"$f":"'8er Gr1'!AM57","v":""}]
[null,"9.",{"$f":"'8er Gr1'!AM56","v":""}]
[null,"10.",{"$f":"'8er Gr1'!AM55","v":""}]
[null,"11.",{"$f":"'8er Gr1'!AM54","v":""}]
[null,"12.",{"$f":"'8er Gr1'!AM53","v":""}]
[null,"13.",{"$f":"'8er Gr1'!AM52","v":""}]
[null,"14.",{"$f":"'8er Gr1'!AM51","v":""}]
[null,"15.",{"$f":"'8er Gr1'!AM50","v":""}]