{"text_format":"1","workbook":"xlsx","n_sheets":3,"sheets":["7er Gr1","7er Gr2","Rangliste Final"],"not_rendered":{"charts":0,"images":0,"macros":1,"external_links":0,"defined_names":3,"comments":0,"pivot_tables":0},"unopened":[],"bounds":{"document_bytes":16777216,"sheet_cells":100000,"rows_first":2000,"rows_last":500,"rows_between":2000,"halvings":0,"cell_chars":16384,"cell_head_chars":4096},"cells_cut":0,"cells_raw":0,"read":"whole","date_system":"1900"}

{"sheet":"7er Gr1","index":0,"n_rows":65,"n_cols":42,"rows_kept":65,"cut":false,"hidden":false,"merged":[[47,5,47,13],[49,5,49,13],[51,5,51,13],[53,5,53,13],[37,17,37,28],[38,17,38,28],[39,17,39,28],[41,17,41,28],[43,17,43,28],[45,17,45,28],[47,17,47,28],[49,17,49,28],[51,17,51,28],[53,17,53,28],[38,14,38,16],[45,14,45,16],[43,14,43,16],[39,14,39,16],[37,5,37,13],[38,5,38,13],[39,5,39,13],[41,5,41,13],[43,5,43,13],[45,5,45,13],[10,14,10,16],[9,14,9,16],[6,5,6,13],[8,14,8,16],[24,17,24,28],[25,17,25,28],[9,5,9,13],[10,5,10,13],[11,5,11,13],[12,5,12,13],[13,5,13,13],[14,5,14,13],[15,5,15,13],[16,5,16,13],[18,17,18,28],[19,17,19,28],[20,17,20,28],[21,17,21,28],[22,17,22,28],[23,17,23,28],[12,17,12,28],[13,17,13,28],[14,17,14,28],[15,17,15,28],[20,14,20,16],[19,14,19,16],[22,14,22,16],[21,14,21,16],[14,14,14,16],[13,14,13,16],[16,14,16,16],[15,14,15,16],[18,14,18,16],[17,14,17,16],[31,22,31,23],[29,24,29,25],[27,30,27,31],[27,28,27,29],[6,17,6,28],[7,17,7,28],[8,17,8,28],[9,17,9,28],[10,17,10,28],[11,17,11,28],[16,17,16,28],[17,17,17,28],[19,5,19,13],[20,5,20,13],[25,5,25,13],[21,5,21,13],[22,5,22,13],[23,5,23,13],[24,5,24,13],[34,28,34,29],[34,30,34,31],[34,26,34,27],[34,24,34,25],[34,20,34,21],[24,14,24,16],[23,14,23,16],[32,28,32,29],[32,30,32,31],[33,26,33,27],[32,24,32,25],[33,24,33,25],[33,22,33,23],[29,28,29,29],[29,26,29,27],[31,28,31,29],[31,30,31,31],[34,2,34,13],[31,2,31,13],[5,14,5,16],[4,17,4,28],[4,14,4,16],[5,17,5,28],[12,14,12,16],[11,14,11,16],[30,26,30,27],[33,28,33,29],[28,24,28,25],[31,20,31,21],[32,20,32,21],[30,16,30,17],[31,16,31,17],[32,16,32,17],[32,18,32,19],[30,14,30,15],[31,14,31,15],[32,14,32,15],[33,14,33,15],[27,26,27,27],[31,26,31,27],[32,26,32,27],[0,6,0,23],[1,12,1,18],[28,22,28,23],[29,22,29,23],[28,20,28,21],[29,20,29,21],[27,16,27,17],[28,16,28,17],[29,2,29,13],[4,5,4,13],[1,2,1,8],[2,4,2,11],[27,22,27,23],[27,20,27,21],[27,14,27,15],[27,18,27,19],[5,5,5,13],[8,5,8,13],[28,2,28,13],[7,14,7,16],[6,14,6,16],[7,5,7,13],[17,5,17,13],[18,5,18,13],[27,2,27,13],[34,18,34,19],[33,2,33,13],[34,16,34,17],[27,0,27,1],[28,0,28,1],[28,28,28,29],[28,30,28,31],[28,26,28,27],[29,0,29,1],[30,24,30,25],[31,24,31,25],[31,0,31,1],[33,0,33,1],[34,0,34,1],[32,2,32,13],[30,2,30,13],[27,24,27,25],[33,20,33,21],[34,22,34,23],[32,22,32,23],[32,0,32,1],[30,0,30,1],[30,20,30,21],[49,14,49,16],[51,14,51,16],[53,14,53,16],[1,26,1,27],[1,28,1,31],[41,14,41,16],[29,16,29,17],[47,14,47,16],[37,14,37,16],[34,14,34,15],[28,18,28,19],[29,18,29,19],[28,14,28,15],[29,14,29,15],[25,14,25,16],[30,18,30,19],[31,18,31,19],[33,16,33,17],[33,18,33,19],[33,30,33,31],[29,30,29,31],[30,28,30,29],[30,30,30,31],[30,22,30,23]]}
[null,null,null,null,null,null,"OSM",null,null,null,null,null,null,null,null,null,null,null,null,null,null,null,null,null,null,null,null,null,null,null,null,null,null,null," "]
["Turnier:",null,null,null,null,null,null,null,null,null,"Datum:",null,null,null,null,null,null,null,null,null,"Gewichtsklasse:",null,null,null,null,null,"Gr. 1"]
["Turnierleiter:"]
[null,null,null,null,null,null,null,null,null,null,null,null,null,null,null,null,null,null,null,null,null,null,null,null,null,null,null,null,"7-Turnier"]
["P",1,2,3,null,"Teams",null,null,null,null,null,null,null,null,"Z-Nr.",null,null,"Teams",null,null,null,null,null,null,null,null,null,null,null,null,1,2,3,"P","Zeit:","Prüfung"]
[{"$f":"IF(B6=\"\",\"\",IF(C6=\"\",B6,IF(B6+C6=2,3,IF(D6=\"\",B6+C6,B6+C6+D6))))","v":""},null,null,null,"A",{"$f":"IF(C29=\"\",\"\",C29)","v":""},null,null,null,null,null,null,null,null,1,null,null,{"$f":"IF(C30=\"\",\"\",C30)","v":""},null,null,null,null,null,null,null,null,null,null,null,"B",{"$f":"IF(B6=1,\"0\",IF(B6=\"\",\"\",\"1\"))","v":""},{"$f":"IF(C6=1,\"0\",IF(C6=\"\",\"\",\"1\"))","v":""},"",{"$f":"IF(AE6=\"\",\"\",IF(AF6=\"\",AE6,IF(AE6+AF6=2,3,IF(AG6=\"\",AE6+AF6,AE6+AF6+AG6))))","v":""},null,{"$f":"IF(A6=\"\",\"\",IF(AND(A6=1,AF6=1)+OR(C6=\"\")+AND(A6+AH6>3)+OR(A6+AH6=2),\"nicht i.o.\",\"i.o.\"))","v":""}]
[{"$f":"IF(B7=\"\",\"\",IF(C7=\"\",B7,IF(B7+C7=2,3,IF(D7=\"\",B7+C7,B7+C7+D7))))","v":""},null,null,null,"C",{"$f":"IF(C31=\"\",\"\",C31)","v":""},null,null,null,null,null,null,null,null,2,null,null,{"$f":"IF(C32=\"\",\"\",C32)","v":""},null,null,null,null,null,null,null,null,null,null,null,"D",{"$f":"IF(B7=1,\"0\",IF(B7=\"\",\"\",\"1\"))","v":""},{"$f":"IF(C7=1,\"0\",IF(C7=\"\",\"\",\"1\"))","v":""},{"$f":"IF(D7=1,\"0\",IF(D7=\"\",\"\",\"1\"))","v":""},{"$f":"IF(AE7=\"\",\"\",IF(AF7=\"\",AE7,IF(AE7+AF7=2,3,IF(AG7=\"\",AE7+AF7,AE7+AF7+AG7))))","v":""},null,{"$f":"IF(A7=\"\",\"\",IF(AND(A7=1,AF7=1)+OR(C7=\"\")+AND(A7+AH7>3)+OR(A7+AH7=2),\"nicht i.o.\",\"i.o.\"))","v":""}]
["",null,null,null,"E",{"$f":"IF(C33=\"\",\"\",C33)","v":""},null,null,null,null,null,null,null,null,3,null,null,{"$f":"IF(C34=\"\",\"\",C34)","v":""},null,null,null,null,null,null,null,null,null,null,null,"F","","","","",null,""]
["",null,null,null,"G",{"$f":"IF(C35=\"\",\"\",C35)","v":""},null,null,null,null,null,null,null,null,4,null,null,{"$f":"IF(C29=\"\",\"\",C29)","v":""},null,null,null,null,null,null,null,null,null,null,null,"A","","","","",null,""]
["",null,null,null,"B",{"$f":"IF(C30=\"\",\"\",C30)","v":""},null,null,null,null,null,null,null,null,5,null,null,{"$f":"IF(C31=\"\",\"\",C31)","v":""},null,null,null,null,null,null,null,null,null,null,null,"C","","","","",null,""]
["",null,null,null,"D",{"$f":"IF(C32=\"\",\"\",C32)","v":""},null,null,null,null,null,null,null,null,6,null,null,{"$f":"IF(C33=\"\",\"\",C33)","v":""},null,null,null,null,null,null,null,null,null,null,null,"E","","","","",null,""]
["",null,null,null,"F",{"$f":"IF(C34=\"\",\"\",C34)","v":""},null,null,null,null,null,null,null,null,7,null,null,{"$f":"IF(C35=\"\",\"\",C35)","v":""},null,null,null,null,null,null,null,null,null,null,null,"G","","","","",null,""]
["",null,null,null,"A",{"$f":"IF(C29=\"\",\"\",C29)","v":""},null,null,null,null,null,null,null,null,8,null,null,{"$f":"IF(C32=\"\",\"\",C32)","v":""},null,null,null,null,null,null,null,null,null,null,null,"D","","","","",null,""]
["",null,null,null,"B",{"$f":"IF(C30=\"\",\"\",C30)","v":""},null,null,null,null,null,null,null,null,9,null,null,{"$f":"IF(C33=\"\",\"\",C33)","v":""},null,null,null,null,null,null,null,null,null,null,null,"E","","","","",null,""]
["",null,null,null,"C",{"$f":"IF(C31=\"\",\"\",C31)","v":""},null,null,null,null,null,null,null,null,10,null,null,{"$f":"IF(C34=\"\",\"\",C34)","v":""},null,null,null,null,null,null,null,null,null,null,null,"F","","","","",null,""]
["",null,null,null,"D",{"$f":"IF(C32=\"\",\"\",C32)","v":""},null,null,null,null,null,null,null,null,11,null,null,{"$f":"IF(C35=\"\",\"\",C35)","v":""},null,null,null,null,null,null,null,null,null,null,null,"G","","","","",null,""]
["",null,null,null,"A",{"$f":"IF(C29=\"\",\"\",C29)","v":""},null,null,null,null,null,null,null,null,12,null,null,{"$f":"IF(C33=\"\",\"\",C33)","v":""},null,null,null,null,null,null,null,null,null,null,null,"E","","","","",null,""]
["",null,null,null,"B",{"$f":"IF(C30=\"\",\"\",C30)","v":""},null,null,null,null,null,null,null,null,13,null,null,{"$f":"IF(C34=\"\",\"\",C34)","v":""},null,null,null,null,null,null,null,null,null,null,null,"F","","","","",null,""]
["",null,null,null,"C",{"$f":"IF(C31=\"\",\"\",C31)","v":""},null,null,null,null,null,null,null,null,14,null,null,{"$f":"IF(C35=\"\",\"\",C35)","v":""},null,null,null,null,null,null,null,null,null,null,null,"G","","","","",null,""]
["",null,null,null,"B",{"$f":"IF(C30=\"\",\"\",C30)","v":""},null,null,null,null,null,null,null,null,15,null,null,{"$f":"IF(C32=\"\",\"\",C32)","v":""},null,null,null,null,null,null,null,null,null,null,null,"D","","","","",null,""]
["",null,null,null,"F",{"$f":"IF(C34=\"\",\"\",C34)","v":""},null,null,null,null,null,null,null,null,16,null,null,{"$f":"IF(C29=\"\",\"\",C29)","v":""},null,null,null,null,null,null,null,null,null,null,null,"A","","","","",null,""]
["",null,null,null,"C",{"$f":"IF(C31=\"\",\"\",C31)","v":""},null,null,null,null,null,null,null,null,17,null,null,{"$f":"IF(C33=\"\",\"\",C33)","v":""},null,null,null,null,null,null,null,null,null,null,null,"E","","","","",null,""]
["",null,null,null,"G",{"$f":"IF(C35=\"\",\"\",C35)","v":""},null,null,null,null,null,null,null,null,18,null,null,{"$f":"IF(C30=\"\",\"\",C30)","v":""},null,null,null,null,null,null,null,null,null,null,null,"B","","","","",null,""]
["",null,null,null,"D",{"$f":"IF(C32=\"\",\"\",C32)","v":""},null,null,null,null,null,null,null,null,19,null,null,{"$f":"IF(C34=\"\",\"\",C34)","v":""},null,null,null,null,null,null,null,null,null,null,null,"F","","","","",null,""]
["",null,null,null,"A",{"$f":"IF(C29=\"\",\"\",C29)","v":""},null,null,null,null,null,null,null,null,20,null,null,{"$f":"IF(C31=\"\",\"\",C31)","v":""},null,null,null,null,null,null,null,null,null,null,null,"C","","","","",null,""]
["",null,null,null,"E",{"$f":"IF(C33=\"\",\"\",C33)","v":""},null,null,null,null,null,null,null,null,21,null,null,{"$f":"IF(C35=\"\",\"\",C35)","v":""},null,null,null,null,null,null,null,null,null,null,null,"G","","","","",null,""]
[null,null,null,null,null,null,null,null,null,null,null,null,null,null,null,null,null,null,null,null,null,null,null,null,null,null,null,null,null,null,null,null,null,null,{"$f":"IF(A27=\"\",\"\",IF(OR(C27=\"\")+AND(A27+AF27>3),\"nicht i.o.\",\"i.o.\"))","v":""},""]
[null,null,"Teams",null,null,null,null,null,null,null,null,null,null,null,"A",null,"B",null,"C",null,"D",null,"E",null,"F",null,"G",null,"Pt.",null,"Rang",null,null,null,"",""]
["A",null,null,null,null,null,null,null,null,null,null,null,null,null,null,null,{"$f":"A6","v":""},null,{"$f":"A25","v":""},null,{"$f":"A13","v":""},null,{"$f":"A17","v":""},null,{"$f":"AH21","v":""},null,{"$f":"AH9","v":""},null,{"$f":"IF(A6=\"\",\"\",(IF(O29<>\"\",O29,0))+(IF(Q29<>\"\",Q29,0))+(IF(S29<>\"\",S29,0))+(IF(U29<>\"\",U29,0))+(IF(W29<>\"\",W29,0))+(IF(Y29<>\"\",Y29,0))+(IF(AA29<>\"\",AA29,0)))","v":""}]
["B",null,null,null,null,null,null,null,null,null,null,null,null,null,{"$f":"AH6","v":""},null,null,null,{"$f":"A10","v":""},null,{"$f":"A20","v":""},null,{"$f":"A14","v":""},null,{"$f":"A18","v":""},null,{"$f":"AH23","v":""},null,{"$f":"IF(AH6=\"\",\"\",(IF(O30<>\"\",O30,0))+(IF(Q30<>\"\",Q30,0))+(IF(S30<>\"\",S30,0))+(IF(U30<>\"\",U30,0))+(IF(W30<>\"\",W30,0))+(IF(Y30<>\"\",Y30,0))+(IF(AA30<>\"\",AA30,0)))","v":""}]
["C",null,null,null,null,null,null,null,null,null,null,null,null,null,{"$f":"AH25","v":""},null,{"$f":"AH10","v":""},null,null,null,{"$f":"A7","v":""},null,{"$f":"A22","v":""},null,{"$f":"A15","v":""},null,{"$f":"A19","v":""},null,{"$f":"IF(A7=\"\",\"\",(IF(O31<>\"\",O31,0))+(IF(Q31<>\"\",Q31,0))+(IF(S31<>\"\",S31,0))+(IF(U31<>\"\",U31,0))+(IF(W31<>\"\",W31,0))+(IF(Y31<>\"\",Y31,0))+(IF(AA31<>\"\",AA31,0)))","v":""}]
["D",null,null,null,null,null,null,null,null,null,null,null,null,null,{"$f":"AH13","v":""},null,{"$f":"AH20","v":""},null,{"$f":"AH7","v":""},null,null,null,{"$f":"A11","v":""},null,{"$f":"A24","v":""},null,{"$f":"A16","v":""},null,{"$f":"IF(AH7=\"\",\"\",(IF(O32<>\"\",O32,0))+(IF(Q32<>\"\",Q32,0))+(IF(S32<>\"\",S32,0))+(IF(U32<>\"\",U32,0))+(IF(W32<>\"\",W32,0))+(IF(Y32<>\"\",Y32,0))+(IF(AA32<>\"\",AA32,0)))","v":""}]
["E",null,null,null,null,null,null,null,null,null,null,null,null,null,{"$f":"AH17","v":""},null,{"$f":"AH14","v":""},null,{"$f":"AH22","v":""},null,{"$f":"AH11","v":""},null,null,null,{"$f":"A8","v":""},null,{"$f":"A26","v":""},null,{"$f":"IF(A8=\"\",\"\",(IF(O33<>\"\",O33,0))+(IF(Q33<>\"\",Q33,0))+(IF(S33<>\"\",S33,0))+(IF(U33<>\"\",U33,0))+(IF(W33<>\"\",W33,0))+(IF(Y33<>\"\",Y33,0))+(IF(AA33<>\"\",AA33,0)))","v":""}]
["F",null,null,null,null,null,null,null,null,null,null,null,null,null,{"$f":"A21","v":""},null,{"$f":"AH18","v":""},null,{"$f":"AH15","v":""},null,{"$f":"AH24","v":""},null,{"$f":"AH8","v":""},null,null,null,{"$f":"A12","v":""},null,{"$f":"IF(AH8=\"\",\"\",(IF(O34<>\"\",O34,0))+(IF(Q34<>\"\",Q34,0))+(IF(S34<>\"\",S34,0))+(IF(U34<>\"\",U34,0))+(IF(W34<>\"\",W34,0))+(IF(Y34<>\"\",Y34,0))+(IF(AA34<>\"\",AA34,0)))","v":""}]
["G",null,null,null,null,null,null,null,null,null,null,null,null,null,{"$f":"A9","v":""},null,{"$f":"A23","v":""},null,{"$f":"AH19","v":""},null,{"$f":"AH16","v":""},null,{"$f":"AH26","v":""},null,{"$f":"AH12","v":""},null,null,null,{"$f":"IF(A9=\"\",\"\",(IF(O35<>\"\",O35,0))+(IF(Q35<>\"\",Q35,0))+(IF(S35<>\"\",S35,0))+(IF(U35<>\"\",U35,0))+(IF(W35<>\"\",W35,0))+(IF(Y35<>\"\",Y35,0))+(IF(AA35<>\"\",AA35,0)))","v":""}]
[null,null,null,null,null,null,null,null,null,null,null,null,null,null,null,null,null,null,null,null,null,null,null,null,null,null,null,null,null,null,null,null,null,null,null,""]
["½ -Finals"]
["P",1,2,3,null,"Teams",null,null,null,null,null,null,null,null,"Z-Nr.",null,null,"Teams",null,null,null,null,null,null,null,null,null,null,null,null,1,2,3,"P"]
[{"$f":"IF(B39=\"\",\"\",IF(C39=\"\",B39,IF(B39+C39=2,3,IF(D39=\"\",B39+C39,B39+C39+D39))))","v":""},null,null,null,{"$f":"IF(AE29=\"\",\"\",IF(AE29=1,A29,IF(AE30=1,A30,IF(AE31=1,A31,IF(AE32=1,A32,IF(AE33=1,A33,IF(AE34=1,A34,IF(AE35=1,A35))))))))","v":""},{"$f":"IF(AE29=\"\",\"\",IF(AE29=1,C29,IF(AE30=1,C30,IF(AE31=1,C31,IF(AE32=1,C32,IF(AE33=1,C33,IF(AE34=1,C34,IF(AE35=1,C35))))))))","v":""},null,null,null,null,null,null,null,null,43,null,null,{"$f":"IF('7er Gr2'!AE32=\"\",\"\",IF('7er Gr2'!AE32=2,'7er Gr2'!C32,IF('7er Gr2'!AE33=2,'7er Gr2'!C33,IF('7er Gr2'!AE34=2,'7er Gr2'!C34,IF('7er Gr2'!AE35=2,'7er Gr2'!C35,IF('7er Gr2'!AE36=2,'7er Gr2'!C36,IF('7er Gr2'!AE37=2,'7er Gr2'!C37,IF('7er Gr2'!AE38=2,'7er Gr2'!C38))))))))","v":""},null,null,null,null,null,null,null,null,null,null,null,{"$f":"IF('7er Gr2'!AE32=\"\",\"\",IF('7er Gr2'!AE32=2,'7er Gr2'!A32,IF('7er Gr2'!AE33=2,'7er Gr2'!A33,IF('7er Gr2'!AE34=2,'7er Gr2'!A34,IF('7er Gr2'!AE35=2,'7er Gr2'!A35,IF('7er Gr2'!AE36=2,'7er Gr2'!A36,IF('7er Gr2'!AE37=2,'7er Gr2'!A37,IF('7er Gr2'!AE38=2,'7er Gr2'!A38))))))))","v":""},{"$f":"IF(B39=1,\"0\",IF(B39=\"\",\"\",\"1\"))","v":""},"","",{"$f":"IF(AE39=\"\",\"\",IF(AF39=\"\",AE39,IF(AE39+AF39=2,3,IF(AG39=\"\",AE39+AF39,AE39+AF39+AG39))))","v":""}," ","",null,null,null,"Rangliste Final"]
[{"$f":"IF(B40=\"\",\"\",IF(C40=\"\",B40,IF(B40+C40=2,3,IF(D40=\"\",B40+C40,B40+C40+D40))))","v":""},null,null,null,{"$f":"IF('7er Gr2'!AE32=\"\",\"\",IF('7er Gr2'!AE32=1,'7er Gr2'!A32,IF('7er Gr2'!AE33=1,'7er Gr2'!A33,IF('7er Gr2'!AE34=1,'7er Gr2'!A34,IF('7er Gr2'!AE35=1,'7er Gr2'!A35,IF('7er Gr2'!AE36=1,'7er Gr2'!A36,IF('7er Gr2'!AE37=1,'7er Gr2'!A37,IF('7er Gr2'!AE38=1,'7er Gr2'!A38))))))))","v":""},{"$f":"IF('7er Gr2'!AE32=\"\",\"\",IF('7er Gr2'!AE32=1,'7er Gr2'!C32,IF('7er Gr2'!AE33=1,'7er Gr2'!C33,IF('7er Gr2'!AE34=1,'7er Gr2'!C34,IF('7er Gr2'!AE35=1,'7er Gr2'!C35,IF('7er Gr2'!AE36=1,'7er Gr2'!C36,IF('7er Gr2'!AE37=1,'7er Gr2'!C37,IF('7er Gr2'!AE38=1,'7er Gr2'!C38))))))))","v":""},null,null,null,null,null,null,null,null,44,null,null,{"$f":"IF(AE29=\"\",\"\",IF(AE29=2,C29,IF(AE30=2,C30,IF(AE31=2,C31,IF(AE32=2,C32,IF(AE33=2,C33,IF(AE34=2,C34,IF(AE35=2,C35))))))))","v":""},null,null,null,null,null,null,null,null,null,null,null,{"$f":"IF(AE29=\"\",\"\",IF(AE29=2,A29,IF(AE30=2,A30,IF(AE31=2,A31,IF(AE32=2,A32,IF(AE33=2,A33,IF(AE34=2,A34,IF(AE35=2,A35))))))))","v":""},"","","",{"$f":"IF(AE40=\"\",\"\",IF(AF40=\"\",AE40,IF(AE40+AF40=2,3,IF(AG40=\"\",AE40+AF40,AE40+AF40+AG40))))","v":""},null,""]
["Plazierungszug  13. / 14.",null,null,null,null,null,null,null,null,null,null,null,null,null,null,null,null,null,null,null,null,null,null,null,null,null,null,null,null,null,null,null,null,null,null,null,null,null,null,14,null,{"$f":"IF(C29=\"\",\"\",IF(OR(A42=\"\",A42+AH42>3,A42+AH42<=2),\"\",IF(A42<=1,F42,R42)))","v":""}]
[{"$f":"IF(B42=\"\",\"\",IF(C42=\"\",B42,IF(B42+C42=2,3,IF(D42=\"\",B42+C42,B42+C42+D42))))","v":""},null,null,null,{"$f":"IF(AE29=\"\",\"\",IF(AE29=7,A29,IF(AE30=7,A30,IF(AE31=7,A31,IF(AE32=7,A32,IF(AE33=7,A33,IF(AE34=7,A34,IF(AE35=7,A35))))))))","v":""},{"$f":"IF(AE29=\"\",\"\",IF(AE29=7,C29,IF(AE30=7,C30,IF(AE31=7,C31,IF(AE32=7,C32,IF(AE33=7,C33,IF(AE34=7,C34,IF(AE35=7,C35))))))))","v":""},null,null,null,null,null,null,null,null,45,null,null,{"$f":"IF('7er Gr2'!AE32=\"\",\"\",IF('7er Gr2'!AE32=7,'7er Gr2'!C32,IF('7er Gr2'!AE33=7,'7er Gr2'!C33,IF('7er Gr2'!AE34=7,'7er Gr2'!C34,IF('7er Gr2'!AE35=7,'7er Gr2'!C35,IF('7er Gr2'!AE36=7,'7er Gr2'!C36,IF('7er Gr2'!AE37=7,'7er Gr2'!C37,IF('7er Gr2'!AE38=7,'7er Gr2'!C38))))))))","v":""},null,null,null,null,null,null,null,null,null,null,null,{"$f":"IF('7er Gr2'!AE32=\"\",\"\",IF('7er Gr2'!AE32=7,'7er Gr2'!A32,IF('7er Gr2'!AE33=7,'7er Gr2'!A33,IF('7er Gr2'!AE34=7,'7er Gr2'!A34,IF('7er Gr2'!AE35=7,'7er Gr2'!A35,IF('7er Gr2'!AE36=7,'7er Gr2'!A36,IF('7er Gr2'!AE37=7,'7er Gr2'!A37,IF('7er Gr2'!AE38=7,'7er Gr2'!A38))))))))","v":""},{"$f":"IF(B42=1,\"0\",IF(B42=\"\",\"\",\"1\"))","v":""},{"$f":"IF(C42=1,\"0\",IF(C42=\"\",\"\",\"1\"))","v":""},{"$f":"IF(D42=1,\"0\",IF(D42=\"\",\"\",\"1\"))","v":""},{"$f":"IF(AE42=\"\",\"\",IF(AF42=\"\",AE42,IF(AE42+AF42=2,3,IF(AG42=\"\",AE42+AF42,AE42+AF42+AG42))))","v":""},null,"",null,null,null,13,null,{"$f":"IF(C29=\"\",\"\",IF(OR(A42=\"\",A42+AH42>3,A42+AH42<=2),\"\",IF(A42>=2,F42,R42)))","v":""}]
["Plazierungszug  11. / 12.",null,null,null,null,null,null,null,null,null,null,null,null,null,null,null,null,null,null,null,null,null,null,null,null,null,null,null,null,null,null,null,null,null,null,null,null,null,null,12,null,{"$f":"IF(C29=\"\",\"\",IF(OR(A44=\"\",A44+AH44>3,A44+AH44<=2),\"\",IF(A44<=1,F44,R44)))","v":""}]
[{"$f":"IF(B44=\"\",\"\",IF(C44=\"\",B44,IF(B44+C44=2,3,IF(D44=\"\",B44+C44,B44+C44+D44))))","v":""},null,null,null,{"$f":"IF(AE29=\"\",\"\",IF(AE29=6,A29,IF(AE30=6,A30,IF(AE31=6,A31,IF(AE32=6,A32,IF(AE33=6,A33,IF(AE34=6,A34,IF(AE35=6,A35))))))))","v":""},{"$f":"IF(AE29=\"\",\"\",IF(AE29=6,C29,IF(AE30=6,C30,IF(AE31=6,C31,IF(AE32=6,C32,IF(AE33=6,C33,IF(AE34=6,C34,IF(AE35=6,C35))))))))","v":""},null,null,null,null,null,null,null,null,46,null,null,{"$f":"IF('7er Gr2'!AE32=\"\",\"\",IF('7er Gr2'!AE32=6,'7er Gr2'!C32,IF('7er Gr2'!AE33=6,'7er Gr2'!C33,IF('7er Gr2'!AE34=6,'7er Gr2'!C34,IF('7er Gr2'!AE35=6,'7er Gr2'!C35,IF('7er Gr2'!AE36=6,'7er Gr2'!C36,IF('7er Gr2'!AE37=6,'7er Gr2'!C37,IF('7er Gr2'!AE38=6,'7er Gr2'!C38))))))))","v":""},null,null,null,null,null,null,null,null,null,null,null,{"$f":"IF('7er Gr2'!AE32=\"\",\"\",IF('7er Gr2'!AE32=6,'7er Gr2'!A32,IF('7er Gr2'!AE33=6,'7er Gr2'!A33,IF('7er Gr2'!AE34=6,'7er Gr2'!A34,IF('7er Gr2'!AE35=6,'7er Gr2'!A35,IF('7er Gr2'!AE36=6,'7er Gr2'!A36,IF('7er Gr2'!AE37=6,'7er Gr2'!A37,IF('7er Gr2'!AE38=6,'7er Gr2'!A38))))))))","v":""},{"$f":"IF(B44=1,\"0\",IF(B44=\"\",\"\",\"1\"))","v":""},{"$f":"IF(C44=1,\"0\",IF(C44=\"\",\"\",\"1\"))","v":""},{"$f":"IF(D44=1,\"0\",IF(D44=\"\",\"\",\"1\"))","v":""},{"$f":"IF(AE44=\"\",\"\",IF(AF44=\"\",AE44,IF(AE44+AF44=2,3,IF(AG44=\"\",AE44+AF44,AE44+AF44+AG44))))","v":""},null,"",null,null,null,11,null,{"$f":"IF(C29=\"\",\"\",IF(OR(A44=\"\",A44+AH44>3,A44+AH44<=2),\"\",IF(A44>=2,F44,R44)))","v":""}]
["Plazierungszug  9. / 10.",null,null,null,null,null,null,null,null,null,null,null,null,null,null,null,null,null,null,null,null,null,null,null,null,null,null,null,null,null,null,null,null,null,null,null,null,null,null,10,null,{"$f":"IF(C29=\"\",\"\",IF(OR(A46=\"\",A46+AH46>3,A46+AH46<=2),\"\",IF(A46<=1,F46,R46)))","v":""}]
[{"$f":"IF(B46=\"\",\"\",IF(C46=\"\",B46,IF(B46+C46=2,3,IF(D46=\"\",B46+C46,B46+C46+D46))))","v":""},null,null,null,{"$f":"IF(AE29=\"\",\"\",IF(AE29=5,A29,IF(AE30=5,A30,IF(AE31=5,A31,IF(AE32=5,A32,IF(AE33=5,A33,IF(AE34=5,A34,IF(AE35=5,A35))))))))","v":""},{"$f":"IF(AE29=\"\",\"\",IF(AE29=5,C29,IF(AE30=5,C30,IF(AE31=5,C31,IF(AE32=5,C32,IF(AE33=5,C33,IF(AE34=5,C34,IF(AE35=5,C35))))))))","v":""},null,null,null,null,null,null,null,null,47,null,null,{"$f":"IF('7er Gr2'!AE32=\"\",\"\",IF('7er Gr2'!AE32=5,'7er Gr2'!C32,IF('7er Gr2'!AE33=5,'7er Gr2'!C33,IF('7er Gr2'!AE34=5,'7er Gr2'!C34,IF('7er Gr2'!AE35=5,'7er Gr2'!C35,IF('7er Gr2'!AE36=5,'7er Gr2'!C36,IF('7er Gr2'!AE37=5,'7er Gr2'!C37,IF('7er Gr2'!AE38=5,'7er Gr2'!C38))))))))","v":""},null,null,null,null,null,null,null,null,null,null,null,{"$f":"IF('7er Gr2'!AE32=\"\",\"\",IF('7er Gr2'!AE32=5,'7er Gr2'!A32,IF('7er Gr2'!AE33=5,'7er Gr2'!A33,IF('7er Gr2'!AE34=5,'7er Gr2'!A34,IF('7er Gr2'!AE35=5,'7er Gr2'!A35,IF('7er Gr2'!AE36=5,'7er Gr2'!A36,IF('7er Gr2'!AE37=5,'7er Gr2'!A37,IF('7er Gr2'!AE38=5,'7er Gr2'!A38))))))))","v":""},{"$f":"IF(B46=1,\"0\",IF(B46=\"\",\"\",\"1\"))","v":""},{"$f":"IF(C46=1,\"0\",IF(C46=\"\",\"\",\"1\"))","v":""},{"$f":"IF(D46=1,\"0\",IF(D46=\"\",\"\",\"1\"))","v":""},{"$f":"IF(AE46=\"\",\"\",IF(AF46=\"\",AE46,IF(AE46+AF46=2,3,IF(AG46=\"\",AE46+AF46,AE46+AF46+AG46))))","v":""},null,"",null,null,null,9,null,{"$f":"IF(C29=\"\",\"\",IF(OR(A46=\"\",A46+AH46>3,A46+AH46<=2),\"\",IF(A46>=2,F46,R46)))","v":""}]
["Plazierungszug  7. / 8.",null,null,null,null,null,null,null,null,null,null,null,null,null,null,null,null,null,null,null,null,null,null,null,null,null,null,null,null,null,null,null,null,null,null,null,null,null,null,8,null,{"$f":"IF(C31=\"\",\"\",IF(OR(A48=\"\",A48+AH48>3,A48+AH48<=2),\"\",IF(A48<=1,F48,R48)))","v":""}]
[{"$f":"IF(B48=\"\",\"\",IF(C48=\"\",B48,IF(B48+C48=2,3,IF(D48=\"\",B48+C48,B48+C48+D48))))","v":""},null,null,null,{"$f":"IF(AE29=\"\",\"\",IF(AE29=4,A29,IF(AE30=4,A30,IF(AE31=4,A31,IF(AE32=4,A32,IF(AE33=4,A33,IF(AE34=4,A34,IF(AE35=4,A35))))))))","v":""},{"$f":"IF(AE29=\"\",\"\",IF(AE29=4,C29,IF(AE30=4,C30,IF(AE31=4,C31,IF(AE32=4,C32,IF(AE33=4,C33,IF(AE34=4,C34,IF(AE35=4,C35))))))))","v":""},null,null,null,null,null,null,null,null,48,null,null,{"$f":"IF('7er Gr2'!AE32=\"\",\"\",IF('7er Gr2'!AE32=4,'7er Gr2'!C32,IF('7er Gr2'!AE33=4,'7er Gr2'!C33,IF('7er Gr2'!AE34=4,'7er Gr2'!C34,IF('7er Gr2'!AE35=4,'7er Gr2'!C35,IF('7er Gr2'!AE36=4,'7er Gr2'!C36,IF('7er Gr2'!AE37=4,'7er Gr2'!C37,IF('7er Gr2'!AE38=4,'7er Gr2'!C38))))))))","v":""},null,null,null,null,null,null,null,null,null,null,null,{"$f":"IF('7er Gr2'!AE32=\"\",\"\",IF('7er Gr2'!AE32=4,'7er Gr2'!A32,IF('7er Gr2'!AE33=4,'7er Gr2'!A33,IF('7er Gr2'!AE34=4,'7er Gr2'!A34,IF('7er Gr2'!AE35=4,'7er Gr2'!A35,IF('7er Gr2'!AE36=4,'7er Gr2'!A36,IF('7er Gr2'!AE37=4,'7er Gr2'!A37,IF('7er Gr2'!AE38=4,'7er Gr2'!A38))))))))","v":""},{"$f":"IF(B48=1,\"0\",IF(B48=\"\",\"\",\"1\"))","v":""},{"$f":"IF(C48=1,\"0\",IF(C48=\"\",\"\",\"1\"))","v":""},{"$f":"IF(D48=1,\"0\",IF(D48=\"\",\"\",\"1\"))","v":""},{"$f":"IF(AE48=\"\",\"\",IF(AF48=\"\",AE48,IF(AE48+AF48=2,3,IF(AG48=\"\",AE48+AF48,AE48+AF48+AG48))))","v":""},null,"",null,null,null,7,null,{"$f":"IF(C31=\"\",\"\",IF(OR(A48=\"\",A48+AH48>3,A48+AH48<=2),\"\",IF(A48>=2,F48,R48)))","v":""}]
["Plazierungszug  5. / 6.",null,null,null,null,null,null,null,null,null,null,null,null,null,null,null,null,null,null,null,null,null,null,null,null,null,null,null,null,null,null,null,null,null,null,null,null,null,null,6,null,{"$f":"IF(C31=\"\",\"\",IF(OR(A50=\"\",A50+AH50>3,A50+AH50<=2),\"\",IF(A50<=1,F50,R50)))","v":""}]
[{"$f":"IF(B50=\"\",\"\",IF(C50=\"\",B50,IF(B50+C50=2,3,IF(D50=\"\",B50+C50,B50+C50+D50))))","v":""},null,null,null,{"$f":"IF(AE29=\"\",\"\",IF(AE29=3,A29,IF(AE30=3,A30,IF(AE31=3,A31,IF(AE32=3,A32,IF(AE33=3,A33,IF(AE34=3,A34,IF(AE35=3,A35))))))))","v":""},{"$f":"IF(AE29=\"\",\"\",IF(AE29=3,C29,IF(AE30=3,C30,IF(AE31=3,C31,IF(AE32=3,C32,IF(AE33=3,C33,IF(AE34=3,C34,IF(AE35=3,C35))))))))","v":""},null,null,null,null,null,null,null,null,49,null,null,{"$f":"IF('7er Gr2'!AE32=\"\",\"\",IF('7er Gr2'!AE32=3,'7er Gr2'!C32,IF('7er Gr2'!AE33=3,'7er Gr2'!C33,IF('7er Gr2'!AE34=3,'7er Gr2'!C34,IF('7er Gr2'!AE35=3,'7er Gr2'!C35,IF('7er Gr2'!AE36=3,'7er Gr2'!C36,IF('7er Gr2'!AE37=3,'7er Gr2'!C37,IF('7er Gr2'!AE38=3,'7er Gr2'!C38))))))))","v":""},null,null,null,null,null,null,null,null,null,null,null,{"$f":"IF('7er Gr2'!AE32=\"\",\"\",IF('7er Gr2'!AE32=3,'7er Gr2'!A32,IF('7er Gr2'!AE33=3,'7er Gr2'!A33,IF('7er Gr2'!AE34=3,'7er Gr2'!A34,IF('7er Gr2'!AE35=3,'7er Gr2'!A35,IF('7er Gr2'!AE36=3,'7er Gr2'!A36,IF('7er Gr2'!AE37=3,'7er Gr2'!A37,IF('7er Gr2'!AE38=3,'7er Gr2'!A38))))))))","v":""},{"$f":"IF(B50=1,\"0\",IF(B50=\"\",\"\",\"1\"))","v":""},{"$f":"IF(C50=1,\"0\",IF(C50=\"\",\"\",\"1\"))","v":""},{"$f":"IF(D50=1,\"0\",IF(D50=\"\",\"\",\"1\"))","v":""},{"$f":"IF(AE50=\"\",\"\",IF(AF50=\"\",AE50,IF(AE50+AF50=2,3,IF(AG50=\"\",AE50+AF50,AE50+AF50+AG50))))","v":""},null,"",null,null,null,5,null,{"$f":"IF(C29=\"\",\"\",IF(OR(A50=\"\",A50+AH50>3,A50+AH50<=2),\"\",IF(A50>=2,F50,R50)))","v":""}]
["Kleiner Final",null,null,null,null,null,null,null,null,null,null,null,null,null,null,null,null,null,null,null,null,null,null,null,null,null,null,null,null,null,null,null,null,null,null,null,null,null,null,4,null,{"$f":"IF(C29=\"\",\"\",IF(OR(A52=\"\",A52+AH52>3,A52+AH52<=2),\"\",IF(A52<=1,F52,R52)))","v":""}]
[{"$f":"IF(B52=\"\",\"\",IF(C52=\"\",B52,IF(B52+C52=2,3,IF(D52=\"\",B52+C52,B52+C52+D52))))","v":""},null,null,null,{"$f":"IF(A39=\"\",\"\",IF(A39>1,AD39,E39))","v":""},{"$f":"IF(A39=\"\",\"\",IF(A39>1,R39,F39))","v":""},null,null,null,null,null,null,null,null,50,null,null,{"$f":"IF(A40=\"\",\"\",IF(A40>1,R40,F40))","v":""},null,null,null,null,null,null,null,null,null,null,null,{"$f":"IF(A40=\"\",\"\",IF(A40>1,AD40,E40))","v":""},{"$f":"IF(B52=1,\"0\",IF(B52=\"\",\"\",\"1\"))","v":""},{"$f":"IF(C52=1,\"0\",IF(C52=\"\",\"\",\"1\"))","v":""},{"$f":"IF(D52=1,\"0\",IF(D52=\"\",\"\",\"1\"))","v":""},{"$f":"IF(AE52=\"\",\"\",IF(AF52=\"\",AE52,IF(AE52+AF52=2,3,IF(AG52=\"\",AE52+AF52,AE52+AF52+AG52))))","v":""},null,"",null,null,null,3,null,{"$f":"IF(C31=\"\",\"\",IF(OR(A52=\"\",A52+AH52>3,A52+AH52<=2),\"\",IF(A52>=2,F52,R52)))","v":""}]
["Final",null,null,null,null,null,null,null,null,null,null,null,null,null,null,null,null,null,null,null,null,null,null,null,null,null,null,null,null,null,null,null,null,null,null,null,null,null,null,2,null,{"$f":"IF(C31=\"\",\"\",IF(OR(A54=\"\",A54+AH54>3,A54+AH54<=2),\"\",IF(A54<=1,F54,R54)))","v":""}]
[{"$f":"IF(B54=\"\",\"\",IF(C54=\"\",B54,IF(B54+C54=2,3,IF(D54=\"\",B54+C54,B54+C54+D54))))","v":""},null,null,null,{"$f":"IF(A39=\"\",\"\",IF(A39>1,E39,AD39))","v":""},{"$f":"IF(A39=\"\",\"\",IF(A39>1,F39,R39))","v":""},null,null,null,null,null,null,null,null,51,null,null,{"$f":"IF(A40=\"\",\"\",IF(A40>1,F40,R40))","v":""},null,null,null,null,null,null,null,null,null,null,null,{"$f":"IF(A40=\"\",\"\",IF(A40>1,E40,AD40))","v":""},{"$f":"IF(B54=1,\"0\",IF(B54=\"\",\"\",\"1\"))","v":""},{"$f":"IF(C54=1,\"0\",IF(C54=\"\",\"\",\"1\"))","v":""},{"$f":"IF(D54=1,\"0\",IF(D54=\"\",\"\",\"1\"))","v":""},{"$f":"IF(AE54=\"\",\"\",IF(AF54=\"\",AE54,IF(AE54+AF54=2,3,IF(AG54=\"\",AE54+AF54,AE54+AF54+AG54))))","v":""},null,"",null,null,null,1,null,{"$f":"IF(C31=\"\",\"\",IF(OR(A54=\"\",A54+AH54>3,A54+AH54<=2),\"\",IF(A54>=2,F54,R54)))","v":""}]
[null,null,null,null,null,null,null,null,null,null,null,null,null,null,null,null,null,null,null,null,null,null,null,null,null,null,null,null,null,null,null,null,null,null,null,""]
[]
[]
[]
[]
[]
[]
[null,null,null,null,null,null,null,null,null,null,null,null,null,null,null,null,null,null,null,null,null,null,null,null,null,null,null,null,null,null,null,null,null,null,{"$f":"IF(A55=\"\",\"\",IF(AND(A55=1,AF55=1)+OR(C55=\"\")+AND(A55+AF55>3)+OR(A55+AF55=2),\"nicht i.o.\",\"i.o.\"))","v":""}]
[]
[null,null,null,null,null,null,null,null,null,null,null,null,null,null,null,null,null,null,null,null,null,null,null,null,null,null,null,null,null,null,null,null,null,null,""]
[null,null,null,null,null,null,null,null,null,null,null,null,null,null,null,null,null,null,null,null,null,null,null,null,null,null,null,null,null,null,null,null,null,null,""]

{"sheet":"7er Gr2","index":1,"n_rows":65,"n_cols":43,"rows_kept":65,"cut":false,"hidden":false,"merged":[[32,16,32,17],[31,2,31,13],[37,14,37,15],[37,2,37,13],[34,2,34,13],[33,16,33,17],[34,16,34,17],[35,16,35,17],[37,22,37,23],[31,24,31,25],[32,24,32,25],[33,24,33,25],[34,24,34,25],[31,18,31,19],[32,18,32,19],[33,18,33,19],[34,18,34,19],[34,20,34,21],[30,20,30,21],[37,18,37,19],[3,4,3,11],[7,5,7,13],[31,14,31,15],[32,14,32,15],[17,17,17,28],[18,17,18,28],[19,17,19,28],[12,17,12,28],[13,17,13,28],[14,17,14,28],[15,17,15,28],[24,17,24,28],[25,17,25,28],[26,17,26,28],[27,17,27,28],[20,17,20,28],[36,2,36,13],[37,16,37,17],[33,14,33,15],[34,14,34,15],[35,14,35,15],[36,14,36,15],[36,0,36,1],[37,0,37,1],[35,2,35,13],[0,6,0,23],[2,12,2,18],[31,22,31,23],[32,22,32,23],[31,20,31,21],[35,0,35,1],[7,14,7,16],[6,17,6,28],[6,14,6,16],[7,17,7,28],[10,5,10,13],[8,5,8,13],[10,14,10,16],[9,14,9,16],[8,14,8,16],[9,5,9,13],[8,17,8,28],[35,22,35,23],[37,20,37,21],[35,20,35,21],[30,26,30,27],[9,17,9,28],[10,17,10,28],[30,18,30,19],[32,20,32,21],[32,30,32,31],[30,30,30,31],[30,28,30,29],[30,0,30,1],[31,0,31,1],[31,28,31,29],[31,30,31,31],[31,26,31,27],[32,28,32,29],[32,26,32,27],[32,0,32,1],[30,16,30,17],[31,16,31,17],[32,2,32,13],[21,17,21,28],[27,14,27,16],[30,2,30,13],[30,14,30,15],[30,24,30,25],[30,22,30,23],[34,28,34,29],[34,30,34,31],[33,0,33,1],[33,28,33,29],[33,30,33,31],[33,22,33,23],[34,22,34,23],[33,20,33,21],[33,2,33,13],[33,26,33,27],[34,0,34,1],[34,26,34,27],[35,28,35,29],[35,30,35,31],[36,26,36,27],[35,24,35,25],[36,24,36,25],[36,22,36,23],[35,18,35,19],[36,18,36,19],[36,16,36,17],[35,26,35,27],[36,20,36,21],[37,28,37,29],[37,30,37,31],[37,26,37,27],[37,24,37,25],[36,28,36,29],[36,30,36,31],[12,14,12,16],[11,14,11,16],[14,14,14,16],[13,14,13,16],[26,14,26,16],[25,14,25,16],[20,14,20,16],[19,14,19,16],[22,14,22,16],[21,14,21,16],[11,17,11,28],[24,14,24,16],[23,14,23,16],[16,14,16,16],[15,14,15,16],[18,14,18,16],[17,14,17,16],[16,17,16,28],[0,35,5,35],[2,26,2,27],[2,28,2,31],[27,5,27,13],[23,5,23,13],[24,5,24,13],[25,5,25,13],[26,5,26,13],[19,5,19,13],[20,5,20,13],[21,5,21,13],[22,17,22,28],[23,17,23,28],[22,5,22,13],[15,5,15,13],[16,5,16,13],[17,5,17,13],[18,5,18,13],[11,5,11,13],[12,5,12,13],[13,5,13,13],[14,5,14,13],[6,5,6,13],[2,2,2,8]]}
[null,null,null,null,null,null,{"$f":"'7er Gr1'!G1:X1","v":"OSM"},null,null,null,null,null,null,null,null,null,null,null,null,null,null,null,null,null,null,null,null,null,null,null,null,null,null,null,null,"Prüfung"]
[]
["Turnier:",null,{"$f":"IF('7er Gr1'!C2=\"\",\"\",'7er Gr1'!C2)","v":""},null,null,null,null,null,null,null,"Datum:",null,{"$f":"IF('7er Gr1'!M2=\"\",\"\",'7er Gr1'!M2)","v":""},null,null,null,null,null,null,null,"Gewichtsklasse:",null,null,null,null,null,"Gr. 2",null,{"$f":"IF('7er Gr1'!AC2=\"\",\"\",'7er Gr1'!AC2)","v":""}]
["Turnierleiter:",null,null,null,{"$f":"IF('7er Gr1'!E3=\"\",\"\",'7er Gr1'!E3)","v":""}]
[]
[null,null,null,null,null,null,null,null,null,null,null,null,null,null,null,null,null,null,null,null,null,null,null,null,null,null,null,null,"7-Turnier"]
["P",1,2,3,null,"Teams",null,null,null,null,null,null,null,null,"Z-Nr.",null,null,"Teams",null,null,null,null,null,null,null,null,null,null,null,null,1,2,3,"P","Zeit:"]
[{"$f":"IF(B8=\"\",\"\",IF(C8=\"\",B8,IF(B8+C8=2,3,IF(D8=\"\",B8+C8,B8+C8+D8))))","v":""},null,null,null,"A",{"$f":"IF(C32=\"\",\"\",C32)","v":""},null,null,null,null,null,null,null,null,{"$f":"CONCATENATE(AO8,AP8,AL8,AQ8)","v":"1(22)"},null,null,{"$f":"IF(C33=\"\",\"\",C33)","v":""},null,null,null,null,null,null,null,null,null,null,null,"B",{"$f":"IF(B8=1,\"0\",IF(B8=\"\",\"\",\"1\"))","v":""},{"$f":"IF(C8=1,\"0\",IF(C8=\"\",\"\",\"1\"))","v":""},"",{"$f":"IF(AE8=\"\",\"\",IF(AF8=\"\",AE8,IF(AE8+AF8=2,3,IF(AG8=\"\",AE8+AF8,AE8+AF8+AG8))))","v":""},null,{"$f":"IF(A8=\"\",\"\",IF(AND(A8=1,AF8=1)+OR(C8=\"\")+AND(A8+AH8>3)+OR(A8+AH8=2),\"nicht i.o.\",\"i.o.\"))","v":""},null,22,null,null,1,"(",")"]
[{"$f":"IF(B9=\"\",\"\",IF(C9=\"\",B9,IF(B9+C9=2,3,IF(D9=\"\",B9+C9,B9+C9+D9))))","v":""},null,null,null,"C",{"$f":"IF(C34=\"\",\"\",C34)","v":""},null,null,null,null,null,null,null,null,{"$f":"CONCATENATE(AO9,AP9,AL9,AQ9)","v":"2(23)"},null,null,{"$f":"IF(C35=\"\",\"\",C35)","v":""},null,null,null,null,null,null,null,null,null,null,null,"D",{"$f":"IF(B9=1,\"0\",IF(B9=\"\",\"\",\"1\"))","v":""},{"$f":"IF(C9=1,\"0\",IF(C9=\"\",\"\",\"1\"))","v":""},{"$f":"IF(D9=1,\"0\",IF(D9=\"\",\"\",\"1\"))","v":""},{"$f":"IF(AE9=\"\",\"\",IF(AF9=\"\",AE9,IF(AE9+AF9=2,3,IF(AG9=\"\",AE9+AF9,AE9+AF9+AG9))))","v":""},null,{"$f":"IF(A9=\"\",\"\",IF(AND(A9=1,AF9=1)+OR(C9=\"\")+AND(A9+AH9>3)+OR(A9+AH9=2),\"nicht i.o.\",\"i.o.\"))","v":""},null,23,null,null,2,"(",")"]
["",null,null,null,"E",{"$f":"IF(C36=\"\",\"\",C36)","v":""},null,null,null,null,null,null,null,null,"3(24)",null,null,{"$f":"IF(C37=\"\",\"\",C37)","v":""},null,null,null,null,null,null,null,null,null,null,null,"F","","","","",null,"",null,24,null,null,3,"(",")"]
["",null,null,null,"G",{"$f":"IF(C38=\"\",\"\",C38)","v":""},null,null,null,null,null,null,null,null,"4(25)",null,null,{"$f":"IF(C32=\"\",\"\",C32)","v":""},null,null,null,null,null,null,null,null,null,null,null,"A","","","","",null,"",null,25,null,null,4,"(",")"]
["",null,null,null,"B",{"$f":"IF(C33=\"\",\"\",C33)","v":""},null,null,null,null,null,null,null,null,"5(26)",null,null,{"$f":"IF(C34=\"\",\"\",C34)","v":""},null,null,null,null,null,null,null,null,null,null,null,"C","","","","",null,"",null,26,null,null,5,"(",")"]
["",null,null,null,"D",{"$f":"IF(C35=\"\",\"\",C35)","v":""},null,null,null,null,null,null,null,null,"6(27)",null,null,{"$f":"IF(C36=\"\",\"\",C36)","v":""},null,null,null,null,null,null,null,null,null,null,null,"E","","","","",null,"",null,27,null,null,6,"(",")"]
["",null,null,null,"F",{"$f":"IF(C37=\"\",\"\",C37)","v":""},null,null,null,null,null,null,null,null,"7(28)",null,null,{"$f":"IF(C38=\"\",\"\",C38)","v":""},null,null,null,null,null,null,null,null,null,null,null,"G","","","","",null,"",null,28,null,null,7,"(",")"]
["",null,null,null,"A",{"$f":"IF(C32=\"\",\"\",C32)","v":""},null,null,null,null,null,null,null,null,"8(29)",null,null,{"$f":"IF(C35=\"\",\"\",C35)","v":""},null,null,null,null,null,null,null,null,null,null,null,"D","","","","",null,"",null,29,null,null,8,"(",")"]
["",null,null,null,"B",{"$f":"IF(C33=\"\",\"\",C33)","v":""},null,null,null,null,null,null,null,null,"9(30)",null,null,{"$f":"IF(C36=\"\",\"\",C36)","v":""},null,null,null,null,null,null,null,null,null,null,null,"E","","","","",null,"",null,30,null,null,9,"(",")"]
["",null,null,null,"C",{"$f":"IF(C34=\"\",\"\",C34)","v":""},null,null,null,null,null,null,null,null,"10(31)",null,null,{"$f":"IF(C37=\"\",\"\",C37)","v":""},null,null,null,null,null,null,null,null,null,null,null,"F","","","","",null,"",null,31,null,null,10,"(",")"]
["",null,null,null,"D",{"$f":"IF(C35=\"\",\"\",C35)","v":""},null,null,null,null,null,null,null,null,"11(32)",null,null,{"$f":"IF(C38=\"\",\"\",C38)","v":""},null,null,null,null,null,null,null,null,null,null,null,"G","","","","",null,"",null,32,null,null,11,"(",")"]
["",null,null,null,"A",{"$f":"IF(C32=\"\",\"\",C32)","v":""},null,null,null,null,null,null,null,null,"12(33)",null,null,{"$f":"IF(C36=\"\",\"\",C36)","v":""},null,null,null,null,null,null,null,null,null,null,null,"E","","","","",null,"",null,33,null,null,12,"(",")"]
["",null,null,null,"B",{"$f":"IF(C33=\"\",\"\",C33)","v":""},null,null,null,null,null,null,null,null,"13(34)",null,null,{"$f":"IF(C37=\"\",\"\",C37)","v":""},null,null,null,null,null,null,null,null,null,null,null,"F","","","",""," ","",null,34,null,null,13,"(",")"]
["",null,null,null,"C",{"$f":"IF(C34=\"\",\"\",C34)","v":""},null,null,null,null,null,null,null,null,"14(35)",null,null,{"$f":"IF(C38=\"\",\"\",C38)","v":""},null,null,null,null,null,null,null,null,null,null,null,"G","","","","",null,"",null,35,null,null,14,"(",")"]
["",null,null,null,"B",{"$f":"IF(C33=\"\",\"\",C33)","v":""},null,null,null,null,null,null,null,null,"15(36)",null,null,{"$f":"IF(C35=\"\",\"\",C35)","v":""},null,null,null,null,null,null,null,null,null,null,null,"D","","","","",null,"",null,36,null,null,15,"(",")"]
["",null,null,null,"F",{"$f":"IF(C37=\"\",\"\",C37)","v":""},null,null,null,null,null,null,null,null,"16(37)",null,null,{"$f":"IF(C32=\"\",\"\",C32)","v":""},null,null,null,null,null,null,null,null,null,null,null,"A","","","","",null,"",null,37,null,null,16,"(",")"]
["",null,null,null,"C",{"$f":"IF(C34=\"\",\"\",C34)","v":""},null,null,null,null,null,null,null,null,"17(38)",null,null,{"$f":"IF(C36=\"\",\"\",C36)","v":""},null,null,null,null,null,null,null,null,null,null,null,"E","","","","",null,"",null,38,null,null,17,"(",")"]
["",null,null,null,"G",{"$f":"IF(C38=\"\",\"\",C38)","v":""},null,null,null,null,null,null,null,null,"18(39)",null,null,{"$f":"IF(C33=\"\",\"\",C33)","v":""},null,null,null,null,null,null,null,null,null,null,null,"B","","","","",null,"",null,39,null,null,18,"(",")"]
["",null,null,null,"D",{"$f":"IF(C35=\"\",\"\",C35)","v":""},null,null,null,null,null,null,null,null,"19(40)",null,null,{"$f":"IF(C37=\"\",\"\",C37)","v":""},null,null,null,null,null,null,null,null,null,null,null,"F","","","","",null,"",null,40,null,null,19,"(",")"]
["",null,null,null,"A",{"$f":"IF(C32=\"\",\"\",C32)","v":""},null,null,null,null,null,null,null,null,"20(41)",null,null,{"$f":"IF(C34=\"\",\"\",C34)","v":""},null,null,null,null,null,null,null,null,null,null,null,"C","","","","",null,"",null,41,null,null,20,"(",")"]
["",null,null,null,"E",{"$f":"IF(C36=\"\",\"\",C36)","v":""},null,null,null,null,null,null,null,null,"21(42)",null,null,{"$f":"IF(C38=\"\",\"\",C38)","v":""},null,null,null,null,null,null,null,null,null,null,null,"G","","","","",null,"",null,42,null,null,21,"(",")"]
[]
[]
[null,null,"Teams",null,null,null,null,null,null,null,null,null,null,null,"A",null,"B",null,"C",null,"D",null,"E",null,"F",null,"G",null,"Pt.",null,"Rang"]
["A",null,null,null,null,null,null,null,null,null,null,null,null,null,null,null,{"$f":"A8","v":""},null,{"$f":"A27","v":""},null,{"$f":"A15","v":""},null,{"$f":"A19","v":""},null,{"$f":"AH23","v":""},null,{"$f":"AH11","v":""},null,{"$f":"IF(A8=\"\",\"\",(IF(O32<>\"\",O32,0))+(IF(Q32<>\"\",Q32,0))+(IF(S32<>\"\",S32,0))+(IF(U32<>\"\",U32,0))+(IF(W32<>\"\",W32,0))+(IF(Y32<>\"\",Y32,0))+(IF(AA32<>\"\",AA32,0)))","v":""}]
["B",null,null,null,null,null,null,null,null,null,null,null,null,null,{"$f":"AH8","v":""},null,null,null,{"$f":"A12","v":""},null,{"$f":"A22","v":""},null,{"$f":"A16","v":""},null,{"$f":"A20","v":""},null,{"$f":"AH25","v":""},null,{"$f":"IF(AH8=\"\",\"\",(IF(O33<>\"\",O33,0))+(IF(Q33<>\"\",Q33,0))+(IF(S33<>\"\",S33,0))+(IF(U33<>\"\",U33,0))+(IF(W33<>\"\",W33,0))+(IF(Y33<>\"\",Y33,0))+(IF(AA33<>\"\",AA33,0)))","v":""}]
["C",null,null,null,null,null,null,null,null,null,null,null,null,null,{"$f":"AH27","v":""},null,{"$f":"AH12","v":""},null,null,null,{"$f":"A9","v":""},null,{"$f":"A24","v":""},null,{"$f":"A17","v":""},null,{"$f":"A21","v":""},null,{"$f":"IF(A9=\"\",\"\",(IF(O34<>\"\",O34,0))+(IF(Q34<>\"\",Q34,0))+(IF(S34<>\"\",S34,0))+(IF(U34<>\"\",U34,0))+(IF(W34<>\"\",W34,0))+(IF(Y34<>\"\",Y34,0))+(IF(AA34<>\"\",AA34,0)))","v":""}]
["D",null,null,null,null,null,null,null,null,null,null,null,null,null,{"$f":"AH15","v":""},null,{"$f":"AH22","v":""},null,{"$f":"AH9","v":""},null,null,null,{"$f":"A13","v":""},null,{"$f":"A26","v":""},null,{"$f":"A18","v":""},null,{"$f":"IF(AH9=\"\",\"\",(IF(O35<>\"\",O35,0))+(IF(Q35<>\"\",Q35,0))+(IF(S35<>\"\",S35,0))+(IF(U35<>\"\",U35,0))+(IF(W35<>\"\",W35,0))+(IF(Y35<>\"\",Y35,0))+(IF(AA35<>\"\",AA35,0)))","v":""}]
["E",null,null,null,null,null,null,null,null,null,null,null,null,null,{"$f":"AH19","v":""},null,{"$f":"AH16","v":""},null,{"$f":"AH24","v":""},null,{"$f":"AH13","v":""},null,null,null,{"$f":"A10","v":""},null,{"$f":"A28","v":""},null,{"$f":"IF(A10=\"\",\"\",(IF(O36<>\"\",O36,0))+(IF(Q36<>\"\",Q36,0))+(IF(S36<>\"\",S36,0))+(IF(U36<>\"\",U36,0))+(IF(W36<>\"\",W36,0))+(IF(Y36<>\"\",Y36,0))+(IF(AA36<>\"\",AA36,0)))","v":""}]
["F",null,null,null,null,null,null,null,null,null,null,null,null,null,{"$f":"A23","v":""},null,{"$f":"AH20","v":""},null,{"$f":"AH17","v":""},null,{"$f":"AH26","v":""},null,{"$f":"AH10","v":""},null,null,null,{"$f":"A14","v":""},null,{"$f":"IF(AH10=\"\",\"\",(IF(O37<>\"\",O37,0))+(IF(Q37<>\"\",Q37,0))+(IF(S37<>\"\",S37,0))+(IF(U37<>\"\",U37,0))+(IF(W37<>\"\",W37,0))+(IF(Y37<>\"\",Y37,0))+(IF(AA37<>\"\",AA37,0)))","v":""}]
["G",null,null,null,null,null,null,null,null,null,null,null,null,null,{"$f":"A11","v":""},null,{"$f":"A25","v":""},null,{"$f":"AH21","v":""},null,{"$f":"AH18","v":""},null,{"$f":"AH28","v":""},null,{"$f":"AH14","v":""},null,null,null,{"$f":"IF(A11=\"\",\"\",(IF(O38<>\"\",O38,0))+(IF(Q38<>\"\",Q38,0))+(IF(S38<>\"\",S38,0))+(IF(U38<>\"\",U38,0))+(IF(W38<>\"\",W38,0))+(IF(Y38<>\"\",Y38,0))+(IF(AA38<>\"\",AA38,0)))","v":""}]
[]
[]
[]
[null,null,null,null,null,null,null,null,null,null,null,null,null,null,null,null,null,null,null,null,null,null,null,null,null,null,null,null,null,null,null,null,null,null,{"$f":"IF(A42=\"\",\"\",IF(AND(A42=1,AF42=1)+OR(C42=\"\")+AND(A42+AF42>3)+OR(A42+AF42=2),\"nicht i.o.\",\"i.o.\"))","v":""}]
[null,null,null,null,null,null,null,null,null,null,null,null,null,null,null,null,null,null,null,null,null,null,null,null,null,null,null,null,null,null,null,null,null,null,{"$f":"IF(A43=\"\",\"\",IF(AND(A43=1,AF43=1)+OR(C43=\"\")+AND(A43+AF43>3)+OR(A43+AF43=2),\"nicht i.o.\",\"i.o.\"))","v":""}]
[]
[]
[]
[null,null,null,null,null,null,null,null,null,null,null,null,null,null,null,null,null,null,null,null,null,null,null,null,null,null,null,null,null,null,null,null,null,null,""]
[]
[null,null,null,null,null,null,null,null,null,null,null,null,null,null,null,null,null,null,null,null,null,null,null,null,null,null,null,null,null,null,null,null,null,null,""]
[null,null,null,null,null,null,null,null,null,null,null,null,null,null,null,null,null,null,null,null,null,null,null,null,null,null,null,null,null,null,null,null,null,null,""]
[null,null,null,null,null,null,null,null,null,null,null,null,null,null,null,null,null,null,null,null,null,null,null,null,null,null,null,null,null,null,null,null,null,null,""]
[]
[null,null,null,null,null,null,null,null,null,null,null,null,null,null,null,null,null,null,null,null,null,null,null,null,null,null,null,null,null,null,null,null,null,null,""]
[]
[]
[]
[null,null,null,null,null,null,null,null,null,null,null,null,null,null,null,null,null,null,null,null,null,null,null,null,null,null,null,null,null,null,null,null,null,null,{"$f":"IF(A50=\"\",\"\",IF(AND(A50=1,AF50=1)+OR(C50=\"\")+AND(A50+AF50>3)+OR(A50+AF50=2),\"nicht i.o.\",\"i.o.\"))","v":""}]
[null,null,null,null,null,null,null,null,null,null,null,null,null,null,null,null,null,null,null,null,null,null,null,null,null,null,null,null,null,null,null,null,null,null,{"$f":"IF(A51=\"\",\"\",IF(AND(A51=1,AF51=1)+OR(C51=\"\")+AND(A51+AF51>3)+OR(A51+AF51=2),\"nicht i.o.\",\"i.o.\"))","v":""}]
[null,null,null,null,null,null,null,null,null,null,null,null,null,null,null,null,null,null,null,null,null,null,null,null,null,null,null,null,null,null,null,null,null,null,""]
[]
[null,null,null,null,null,null,null,null,null,null,null,null,null,null,null,null,null,null,null,null,null,null,null,null,null,null,null,null,null,null,null,null,null,null,""]
[null,null,null,null,null,null,null,null,null,null,null,null,null,null,null,null,null,null,null,null,null,null,null,null,null,null,null,null,null,null,null,null,null,null,""]
[]
[null,null,null,null,null,null,null,null,null,null,null,null,null,null,null,null,null,null,null,null,null,null,null,null,null,null,null,null,null,null,null,null,null,null,""]
[null,null,null,null,null,null,null,null,null,null,null,null,null,null,null,null,null,null,null,null,null,null,null,null,null,null,null,null,null,null,null,null,null,null,""]

{"sheet":"Rangliste Final","index":2,"n_rows":26,"n_cols":7,"rows_kept":26,"cut":false,"hidden":false,"merged":[[4,0,4,6],[8,0,8,6],[0,0,0,6]]}
["OSM"]
[]
[null,null,null,null,null,null,"Datum:"]
[]
["Turnier Sevelen"]
[]
[null,"Pokal-Sponsor: "]
[]
["Besten Dank fürs mitmachen."]
[]
[null,"Rangliste"]
[]
[null,"1.",{"$f":"'7er Gr1'!AP54","v":""}]
[null,"2.",{"$f":"'7er Gr1'!AP53","v":""}]
[null,"3.",{"$f":"'7er Gr1'!AP52","v":""}]
[null,"4.",{"$f":"'7er Gr1'!AP51","v":""}]
[null,"5.",{"$f":"'7er Gr1'!AP50","v":""}]
[null,"6.",{"$f":"'7er Gr1'!AP49","v":""}]
[null,"7.",{"$f":"'7er Gr1'!AP48","v":""}]
[null,"8.",{"$f":"'7er Gr1'!AP47","v":""}]
[null,"9.",{"$f":"'7er Gr1'!AP46","v":""}]
[null,"10.",{"$f":"'7er Gr1'!AP45","v":""}]
[null,"11.",{"$f":"'7er Gr1'!AP44","v":""}]
[null,"12.",{"$f":"'7er Gr1'!AP43","v":""}]
[null,"13.",{"$f":"'7er Gr1'!AP42","v":""}]
[null,"14.",{"$f":"'7er Gr1'!AP41","v":""}]