{"text_format":"1","workbook":"xlsx","n_sheets":3,"sheets":["6er Gr1","6er Gr2","Rangliste Final"],"not_rendered":{"charts":0,"images":0,"macros":1,"external_links":0,"defined_names":35,"comments":0,"pivot_tables":0},"unopened":[],"bounds":{"document_bytes":16777216,"sheet_cells":100000,"rows_first":2000,"rows_last":500,"rows_between":2000,"halvings":0,"cell_chars":16384,"cell_head_chars":4096},"cells_cut":0,"cells_raw":0,"read":"whole","date_system":"1900"}

{"sheet":"6er Gr1","index":0,"n_rows":64,"n_cols":42,"rows_kept":64,"cut":false,"hidden":false,"merged":[[47,5,47,13],[50,5,50,13],[33,17,33,28],[34,17,34,28],[35,17,35,28],[38,17,38,28],[40,17,40,28],[42,17,42,28],[44,17,44,28],[47,17,47,28],[50,17,50,28],[50,14,50,16],[35,14,35,16],[47,14,47,16],[35,5,35,13],[44,14,44,16],[38,14,38,16],[40,14,40,16],[42,14,42,16],[38,5,38,13],[40,5,40,13],[42,5,42,13],[44,5,44,13],[10,14,10,16],[9,14,9,16],[8,14,8,16],[8,17,8,28],[9,17,9,28],[18,14,18,16],[17,14,17,16],[12,14,12,16],[11,14,11,16],[14,14,14,16],[13,14,13,16],[16,14,16,16],[15,14,15,16],[14,17,14,28],[15,17,15,28],[16,17,16,28],[17,17,17,28],[0,35,5,35],[30,28,30,29],[30,30,30,31],[30,26,30,27],[30,24,30,25],[29,28,29,29],[29,30,29,31],[29,24,29,25],[29,26,29,27],[10,17,10,28],[11,17,11,28],[12,17,12,28],[28,28,28,29],[28,30,28,31],[0,6,0,23],[2,12,2,18],[6,5,6,13],[26,16,26,17],[10,5,10,13],[8,5,8,13],[9,5,9,13],[13,17,13,28],[20,14,20,16],[19,14,19,16],[24,0,24,1],[25,0,25,1],[25,28,25,29],[25,30,25,31],[25,26,25,27],[26,28,26,29],[24,2,24,15],[25,2,25,15],[26,26,26,27],[25,22,25,23],[25,20,25,21],[26,20,26,21],[24,16,24,17],[25,16,25,17],[26,0,26,1],[27,28,27,29],[27,30,27,31],[27,22,27,23],[28,22,28,23],[27,20,27,21],[27,2,27,15],[26,30,26,31],[24,30,24,31],[24,28,24,29],[26,22,26,23],[28,0,28,1],[30,0,30,1],[28,2,28,15],[30,2,30,15],[34,14,34,16],[29,0,29,1],[28,26,28,27],[27,26,27,27],[29,2,29,15],[33,14,33,16],[29,20,29,21],[33,5,33,13],[34,5,34,13],[27,0,27,1],[2,26,2,31],[2,2,2,8],[3,4,3,11],[24,26,24,27],[24,24,24,25],[24,22,24,23],[24,20,24,21],[7,5,7,13],[7,14,7,16],[6,17,6,28],[18,17,18,28],[19,17,19,28],[15,5,15,13],[16,5,16,13],[17,5,17,13],[18,5,18,13],[11,5,11,13],[12,5,12,13],[13,5,13,13],[14,5,14,13],[6,14,6,16],[7,17,7,28],[21,5,21,13],[19,5,19,13],[20,5,20,13],[21,14,21,16],[24,18,24,19],[25,18,25,19],[26,18,26,19],[27,18,27,19],[30,22,30,23],[21,17,21,28],[20,17,20,28],[25,24,25,25],[26,24,26,25],[27,24,27,25],[28,24,28,25],[29,22,29,23],[26,2,26,15],[27,16,27,17],[28,16,28,17],[29,16,29,17],[30,18,30,19],[30,16,30,17],[30,20,30,21],[28,18,28,19],[29,18,29,19],[28,20,28,21]]}
[null,null,null,null,null,null,"OSM",null,null,null,null,null,null,null,null,null,null,null,null,null,null,null,null,null,null,null,null,null,null,null,null,null,null,null," ","Prüfung"]
[]
["Turnier:",null,null,null,null,null,null,null,null,null,"Datum:",null,null,null,null,null,null,null,null,null,"Gewichtsklasse:",null,null,null,null,null,"Gr. 1"]
["Turnierleiter:"]
[]
[null,null,null,null,null,null,null,null,null,null,null,null,null,null,null,null,null,null,null,null,null,null,null,null,null,null,null,null,"6-Turnier"]
["P",1,2,3,null,"Teams",null,null,null,null,null,null,null,null,"Z-Nr.",null,null,"Teams",null,null,null,null,null,null,null,null,null,null,null,null,1,2,3,"P","Zeit:"]
[{"$f":"IF(B8=\"\",\"\",IF(C8=\"\",B8,IF(B8+C8=2,3,IF(D8=\"\",B8+C8,B8+C8+D8))))","v":""},null,null,null,"A",{"$f":"IF(C26=\"\",\"\",C26)","v":""},null,null,null,null,null,null,null,null,1,null,null,{"$f":"IF(C27=\"\",\"\",C27)","v":""},null,null,null,null,null,null,null,null,null,null,null,"B",{"$f":"IF(B8=1,\"0\",IF(B8=\"\",\"\",\"1\"))","v":""},{"$f":"IF(C8=1,\"0\",IF(C8=\"\",\"\",\"1\"))","v":""},"",{"$f":"IF(AE8=\"\",\"\",IF(AF8=\"\",AE8,IF(AE8+AF8=2,3,IF(AG8=\"\",AE8+AF8,AE8+AF8+AG8))))","v":""}," ",{"$f":"IF(A8=\"\",\"\",IF(AND(A8=1,AF8=1)+OR(C8=\"\")+AND(A8+AH8>3)+OR(A8+AH8=2),\"nicht i.o.\",\"i.o.\"))","v":""}]
[{"$f":"IF(B9=\"\",\"\",IF(C9=\"\",B9,IF(B9+C9=2,3,IF(D9=\"\",B9+C9,B9+C9+D9))))","v":""},null,null,null,"C",{"$f":"IF(C28=\"\",\"\",C28)","v":""},null,null,null,null,null,null,null,null,2,null,null,{"$f":"IF(C29=\"\",\"\",C29)","v":""},null,null,null,null,null,null,null,null,null,null,null,"D",{"$f":"IF(B9=1,\"0\",IF(B9=\"\",\"\",\"1\"))","v":""},{"$f":"IF(C9=1,\"0\",IF(C9=\"\",\"\",\"1\"))","v":""},{"$f":"IF(D9=1,\"0\",IF(D9=\"\",\"\",\"1\"))","v":""},{"$f":"IF(AE9=\"\",\"\",IF(AF9=\"\",AE9,IF(AE9+AF9=2,3,IF(AG9=\"\",AE9+AF9,AE9+AF9+AG9))))","v":""},null,{"$f":"IF(A9=\"\",\"\",IF(AND(A9=1,AF9=1)+OR(C9=\"\")+AND(A9+AH9>3)+OR(A9+AH9=2),\"nicht i.o.\",\"i.o.\"))","v":""}]
["",null,null,null,"E",{"$f":"IF(C30=\"\",\"\",C30)","v":""},null,null,null,null,null,null,null,null,3,null,null,{"$f":"IF(C31=\"\",\"\",C31)","v":""},null,null,null,null,null,null,null,null,null,null,null,"F","","","","",null,""]
["",null,null,null,"B",{"$f":"IF(C27=\"\",\"\",C27)","v":""},null,null,null,null,null,null,null,null,4,null,null,{"$f":"IF(C29=\"\",\"\",C29)","v":""},null,null,null,null,null,null,null,null,null,null,null,"D","","","","",null,""]
["",null,null,null,"A",{"$f":"IF(C26=\"\",\"\",C26)","v":""},null,null,null,null,null,null,null,null,5,null,null,{"$f":"IF(C31=\"\",\"\",C31)","v":""},null,null,null,null,null,null,null,null,null,null,null,"F","","","","",null,""]
["",null,null,null,"C",{"$f":"IF(C28=\"\",\"\",C28)","v":""},null,null,null,null,null,null,null,null,6,null,null,{"$f":"IF(C30=\"\",\"\",C30)","v":""},null,null,null,null,null,null,null,null,null,null,null,"E","","","","",null,""]
["",null,null,null,"A",{"$f":"IF(C26=\"\",\"\",C26)","v":""},null,null,null,null,null,null,null,null,7,null,null,{"$f":"IF(C29=\"\",\"\",C29)","v":""},null,null,null,null,null,null,null,null,null,null,null,"D","","","","",null,""]
["",null,null,null,"B",{"$f":"IF(C27=\"\",\"\",C27)","v":""},null,null,null,null,null,null,null,null,8,null,null,{"$f":"IF(C30=\"\",\"\",C30)","v":""},null,null,null,null,null,null,null,null,null,null,null,"E","","","","",null,""]
["",null,null,null,"C",{"$f":"IF(C28=\"\",\"\",C28)","v":""},null,null,null,null,null,null,null,null,9,null,null,{"$f":"IF(C31=\"\",\"\",C31)","v":""},null,null,null,null,null,null,null,null,null,null,null,"F","","","","",null,""]
["",null,null,null,"D",{"$f":"IF(C29=\"\",\"\",C29)","v":""},null,null,null,null,null,null,null,null,10,null,null,{"$f":"IF(C30=\"\",\"\",C30)","v":""},null,null,null,null,null,null,null,null,null,null,null,"E","","","","",null,""]
["",null,null,null,"A",{"$f":"IF(C26=\"\",\"\",C26)","v":""},null,null,null,null,null,null,null,null,11,null,null,{"$f":"IF(C28=\"\",\"\",C28)","v":""},null,null,null,null,null,null,null,null,null,null,null,"C","","","","",null,""]
["",null,null,null,"B",{"$f":"IF(C27=\"\",\"\",C27)","v":""},null,null,null,null,null,null,null,null,12,null,null,{"$f":"IF(C31=\"\",\"\",C31)","v":""},null,null,null,null,null,null,null,null,null,null,null,"F","","","","",null,""]
["",null,null,null,"A",{"$f":"IF(C26=\"\",\"\",C26)","v":""},null,null,null,null,null,null,null,null,13,null,null,{"$f":"IF(C30=\"\",\"\",C30)","v":""},null,null,null,null,null,null,null,null,null,null,null,"E","","","","",null,""]
["",null,null,null,"D",{"$f":"IF(C29=\"\",\"\",C29)","v":""},null,null,null,null,null,null,null,null,14,null,null,{"$f":"IF(C31=\"\",\"\",C31)","v":""},null,null,null,null,null,null,null,null,null,null,null,"F","","","","",null,""]
["",null,null,null,"B",{"$f":"IF(C27=\"\",\"\",C27)","v":""},null,null,null,null,null,null,null,null,15,null,null,{"$f":"IF(C28=\"\",\"\",C28)","v":""},null,null,null,null,null,null,null,null,null,null,null,"C","","","","",null,""]
[null,null,null,null,null,null,null,null,null,null,null,null,null,null,null,null,null,null,null,null,null,null,null,null,null,null,null,null,null,null,null,null,null,null,null,""]
[null,null,null,null,null,null,null,null,null,null,null,null,null,null,null,null,null,null,null,null,null,null,null,null,null,null,null,null,null,null,null,null,null,null,null,""]
[null,null,"Teams",null,null,null,null,null,null,null,null,null,null,null,null,null,"A",null,"B",null,"C",null,"D",null,"E",null,"F",null,"Pt.",null,"Rang",null,null,null,null,""]
["A",null,null,null,null,null,null,null,null,null,null,null,null,null,null,null,null,null,{"$f":"A8","v":""},null,{"$f":"A18","v":""},null,{"$f":"A14","v":""},null,{"$f":"A20","v":""},null,{"$f":"A12","v":""},null,{"$f":"IF(A8=\"\",\"\",(IF(Q26<>\"\",Q26,0))+(IF(S26<>\"\",S26,0))+(IF(U26<>\"\",U26,0))+(IF(W26<>\"\",W26,0))+(IF(Y26<>\"\",Y26,0))+(IF(AA26<>\"\",AA26,0)))","v":""}]
["B",null,null,null,null,null,null,null,null,null,null,null,null,null,null,null,{"$f":"AH8","v":""},null,null,null,{"$f":"A22","v":""},null,{"$f":"A11","v":""},null,{"$f":"A15","v":""},null,{"$f":"A19","v":""},null,{"$f":"IF(AH8=\"\",\"\",(IF(Q27<>\"\",Q27,0))+(IF(S27<>\"\",S27,0))+(IF(U27<>\"\",U27,0))+(IF(W27<>\"\",W27,0))+(IF(Y27<>\"\",Y27,0))+(IF(AA27<>\"\",AA27,0)))","v":""}]
["C",null,null,null,null,null,null,null,null,null,null,null,null,null,null,null,{"$f":"AH18","v":""},null,{"$f":"AH22","v":""},null,null,null,{"$f":"A9","v":""},null,{"$f":"A13","v":""},null,{"$f":"A16","v":""},null,{"$f":"IF(A9=\"\",\"\",(IF(Q28<>\"\",Q28,0))+(IF(S28<>\"\",S28,0))+(IF(U28<>\"\",U28,0))+(IF(W28<>\"\",W28,0))+(IF(Y28<>\"\",Y28,0))+(IF(AA28<>\"\",AA28,0)))","v":""}]
["D",null,null,null,null,null,null,null,null,null,null,null,null,null,null,null,{"$f":"AH14","v":""},null,{"$f":"AH11","v":""},null,{"$f":"AH9","v":""},null,null,null,{"$f":"A17","v":""},null,{"$f":"A21","v":""},null,{"$f":"IF(AH9=\"\",\"\",(IF(Q29<>\"\",Q29,0))+(IF(S29<>\"\",S29,0))+(IF(U29<>\"\",U29,0))+(IF(W29<>\"\",W29,0))+(IF(Y29<>\"\",Y29,0))+(IF(AA29<>\"\",AA29,0)))","v":""}]
["E",null,null,null,null,null,null,null,null,null,null,null,null,null,null,null,{"$f":"AH20","v":""},null,{"$f":"AH15","v":""},null,{"$f":"AH13","v":""},null,{"$f":"AH17","v":""},null,null,null,{"$f":"A10","v":""},null,{"$f":"IF(A10=\"\",\"\",(IF(Q30<>\"\",Q30,0))+(IF(S30<>\"\",S30,0))+(IF(U30<>\"\",U30,0))+(IF(W30<>\"\",W30,0))+(IF(Y30<>\"\",Y30,0))+(IF(AA30<>\"\",AA30,0)))","v":""}]
["F",null,null,null,null,null,null,null,null,null,null,null,null,null,null,null,{"$f":"AH12","v":""},null,{"$f":"AH19","v":""},null,{"$f":"AH16","v":""},null,{"$f":"AH21","v":""},null,{"$f":"AH10","v":""},null,null,null,{"$f":"IF(AH10=\"\",\"\",(IF(Q31<>\"\",Q31,0))+(IF(S31<>\"\",S31,0))+(IF(U31<>\"\",U31,0))+(IF(W31<>\"\",W31,0))+(IF(Y31<>\"\",Y31,0))+(IF(AA31<>\"\",AA31,0)))","v":""}]
[null,null,null,null,null,null,null,null,null,null,null,null,null,null,null,null,null,null,null,null,null,null,null,null,null,null,null,null,null,null,null,null,null,null,null,""]
["½ -Finals"]
["P",1,2,3,null,"Teams",null,null,null,null,null,null,null,null,"Z-Nr.",null,null,"Teams",null,null,null,null,null,null,null,null,null,null,null,null,1,2,3,"P"]
[{"$f":"IF(B35=\"\",\"\",IF(C35=\"\",B35,IF(B35+C35=2,3,IF(D35=\"\",B35+C35,B35+C35+D35))))","v":""},null,null,null,{"$f":"IF(AE26=\"\",\"\",IF(AE26=1,A26,IF(AE27=1,A27,IF(AE28=1,A28,IF(AE29=1,A29,IF(AE30=1,A30,IF(AE31=1,A31)))))))","v":""},{"$f":"IF(AE26=\"\",\"\",IF(AE26=1,C26,IF(AE27=1,C27,IF(AE28=1,C28,IF(AE29=1,C29,IF(AE30=1,C30,IF(AE31=1,C31)))))))","v":""},null,null,null,null,null,null,null,null,31,null,null,{"$f":"IF('6er Gr2'!AE26=\"\",\"\",IF('6er Gr2'!AE26=2,'6er Gr2'!C26,IF('6er Gr2'!AE27=2,'6er Gr2'!C27,IF('6er Gr2'!AE28=2,'6er Gr2'!C28,IF('6er Gr2'!AE29=2,'6er Gr2'!C29,IF('6er Gr2'!AE30=2,'6er Gr2'!C30,IF('6er Gr2'!AE31=2,'6er Gr2'!C31,)))))))","v":""},null,null,null,null,null,null,null,null,null,null,null,{"$f":"IF('6er Gr2'!AE26=\"\",\"\",IF('6er Gr2'!AE26=2,'6er Gr2'!A26,IF('6er Gr2'!AE27=2,'6er Gr2'!A27,IF('6er Gr2'!AE28=2,'6er Gr2'!A28,IF('6er Gr2'!AE29=2,'6er Gr2'!A29,IF('6er Gr2'!AE30=2,'6er Gr2'!A30,IF('6er Gr2'!AE31=2,'6er Gr2'!A31,)))))))","v":""},{"$f":"IF(B35=1,\"0\",IF(B35=\"\",\"\",\"1\"))","v":""},"","",{"$f":"IF(AE35=\"\",\"\",IF(AF35=\"\",AE35,IF(AE35+AF35=2,3,IF(AG35=\"\",AE35+AF35,AE35+AF35+AG35))))","v":""},null,""]
[{"$f":"IF(B36=\"\",\"\",IF(C36=\"\",B36,IF(B36+C36=2,3,IF(D36=\"\",B36+C36,B36+C36+D36))))","v":""},null,null,null,{"$f":"IF('6er Gr2'!AE26=\"\",\"\",IF('6er Gr2'!AE26=1,'6er Gr2'!A26,IF('6er Gr2'!AE27=1,'6er Gr2'!A27,IF('6er Gr2'!AE28=1,'6er Gr2'!A28,IF('6er Gr2'!AE29=1,'6er Gr2'!A29,IF('6er Gr2'!AE30=1,'6er Gr2'!A30,IF('6er Gr2'!AE31=1,'6er Gr2'!A31,)))))))","v":""},{"$f":"IF('6er Gr2'!AE26=\"\",\"\",IF('6er Gr2'!AE26=1,'6er Gr2'!C26,IF('6er Gr2'!AE27=1,'6er Gr2'!C27,IF('6er Gr2'!AE28=1,'6er Gr2'!C28,IF('6er Gr2'!AE29=1,'6er Gr2'!C29,IF('6er Gr2'!AE30=1,'6er Gr2'!C30,IF('6er Gr2'!AE31=1,'6er Gr2'!C31,)))))))","v":""},null,null,null,null,null,null,null,null,32,null,null,{"$f":"IF(AE26=\"\",\"\",IF(AE26=2,C26,IF(AE27=2,C27,IF(AE28=2,C28,IF(AE29=2,C29,IF(AE30=2,C30,IF(AE31=2,C31)))))))","v":""},null,null,null,null,null,null,null,null,null,null,null,{"$f":"IF(AE26=\"\",\"\",IF(AE26=2,A26,IF(AE27=2,A27,IF(AE28=2,A28,IF(AE29=2,CB29,IF(AE30=2,A30,IF(AE31=2,A31)))))))","v":""},"","","",{"$f":"IF(AE36=\"\",\"\",IF(AF36=\"\",AE36,IF(AE36+AF36=2,3,IF(AG36=\"\",AE36+AF36,AE36+AF36+AG36))))","v":""},null,""]
[null,null,null,null,null,null,null,null,null,null,null,null,null,null,null,null,null,null,null,null,null,null,null,null,null,null,null,null,null,null,null,null,null,null,null,""]
["Plazierungszug  11. / 12."]
[{"$f":"IF(B39=\"\",\"\",IF(C39=\"\",B39,IF(B39+C39=2,3,IF(D39=\"\",B39+C39,B39+C39+D39))))","v":""},null,null,null,{"$f":"IF(AE26=\"\",\"\",IF(AE26=6,A26,IF(AE27=6,A27,IF(AE28=6,A28,IF(AE29=6,A29,IF(AE30=6,A30,IF(AE31=6,A31)))))))","v":""},{"$f":"IF(AE26=\"\",\"\",IF(AE26=6,C26,IF(AE27=6,C27,IF(AE28=6,C28,IF(AE29=6,C29,IF(AE30=6,C30,IF(AE31=6,C31)))))))","v":""},null,null,null,null,null,null,null,null,33,null,null,{"$f":"IF('6er Gr2'!AE26=\"\",\"\",IF('6er Gr2'!AE26=6,'6er Gr2'!C26,IF('6er Gr2'!AE27=6,'6er Gr2'!C27,IF('6er Gr2'!AE28=6,'6er Gr2'!C28,IF('6er Gr2'!AE29=6,'6er Gr2'!C29,IF('6er Gr2'!AE30=6,'6er Gr2'!C30,IF('6er Gr2'!AE31=6,'6er Gr2'!C31)))))))","v":""},null,null,null,null,null,null,null,null,null,null,null,{"$f":"IF('6er Gr2'!AE26=\"\",\"\",IF('6er Gr2'!AE26=6,'6er Gr2'!A26,IF('6er Gr2'!AE27=6,'6er Gr2'!A27,IF('6er Gr2'!AE28=6,'6er Gr2'!A28,IF('6er Gr2'!AE29=6,'6er Gr2'!A29,IF('6er Gr2'!AE30=6,'6er Gr2'!A30,IF('6er Gr2'!AE31=6,'6er Gr2'!A31)))))))","v":""},{"$f":"IF(B39=1,\"0\",IF(B39=\"\",\"\",\"1\"))","v":""},{"$f":"IF(C39=1,\"0\",IF(C39=\"\",\"\",\"1\"))","v":""},{"$f":"IF(D39=1,\"0\",IF(D39=\"\",\"\",\"1\"))","v":""},{"$f":"IF(AE39=\"\",\"\",IF(AF39=\"\",AE39,IF(AE39+AF39=2,3,IF(AG39=\"\",AE39+AF39,AE39+AF39+AG39))))","v":""},null,"",null,null,null,"Rangliste Final"]
["Plazierungszug  9. / 10.",null,null,null,null,null,null,null,null,null,null,null,null,null,null,null,null,null,null,null,null,null,null,null,null,null,null,null,null,null,null,null,null,null,null,null,null,null,null,12,null,{"$f":"IF(C26=\"\",\"\",IF(OR(A39=\"\",A39+AH39>3,A39+AH39<=2),\"\",IF(A39<=1,F39,R39)))","v":""}]
[{"$f":"IF(B41=\"\",\"\",IF(C41=\"\",B41,IF(B41+C41=2,3,IF(D41=\"\",B41+C41,B41+C41+D41))))","v":""},null,null,null,{"$f":"IF(AE26=\"\",\"\",IF(AE26=5,A26,IF(AE27=5,A27,IF(AE28=5,A28,IF(AE29=5,A29,IF(AE30=5,A30,IF(AE31=5,A31)))))))","v":""},{"$f":"IF(AE26=\"\",\"\",IF(AE26=5,C26,IF(AE27=5,C27,IF(AE28=5,C28,IF(AE29=5,C29,IF(AE30=5,C30,IF(AE31=5,C31)))))))","v":""},null,null,null,null,null,null,null,null,34,null,null,{"$f":"IF('6er Gr2'!AE26=\"\",\"\",IF('6er Gr2'!AE26=5,'6er Gr2'!C26,IF('6er Gr2'!AE27=5,'6er Gr2'!C27,IF('6er Gr2'!AE28=5,'6er Gr2'!C28,IF('6er Gr2'!AE29=5,'6er Gr2'!C29,IF('6er Gr2'!AE30=5,'6er Gr2'!C30,IF('6er Gr2'!AE31=5,'6er Gr2'!C31)))))))","v":""},null,null,null,null,null,null,null,null,null,null,null,{"$f":"IF('6er Gr2'!AE26=\"\",\"\",IF('6er Gr2'!AE26=5,'6er Gr2'!A26,IF('6er Gr2'!AE27=5,'6er Gr2'!A27,IF('6er Gr2'!AE28=5,'6er Gr2'!A28,IF('6er Gr2'!AE29=5,'6er Gr2'!A29,IF('6er Gr2'!AE30=5,'6er Gr2'!A30,IF('6er Gr2'!AE31=5,'6er Gr2'!A31)))))))","v":""},{"$f":"IF(B41=1,\"0\",IF(B41=\"\",\"\",\"1\"))","v":""},{"$f":"IF(C41=1,\"0\",IF(C41=\"\",\"\",\"1\"))","v":""},{"$f":"IF(D41=1,\"0\",IF(D41=\"\",\"\",\"1\"))","v":""},{"$f":"IF(AE41=\"\",\"\",IF(AF41=\"\",AE41,IF(AE41+AF41=2,3,IF(AG41=\"\",AE41+AF41,AE41+AF41+AG41))))","v":""},null,"",null,null,null,11,null,{"$f":"IF(C26=\"\",\"\",IF(OR(A39=\"\",A39+AH39>3,A39+AH39<=2),\"\",IF(A39>=2,F39,R39)))","v":""}]
["Plazierungszug  7. / 8.",null,null,null,null,null,null,null,null,null,null,null,null,null,null,null,null,null,null,null,null,null,null,null,null,null,null,null,null,null,null,null,null,null,null,null,null,null,null,10,null,{"$f":"IF(C26=\"\",\"\",IF(OR(A41=\"\",A41+AH41>3,A41+AH41<=2),\"\",IF(A41<=1,F41,R41)))","v":""}]
[{"$f":"IF(B43=\"\",\"\",IF(C43=\"\",B43,IF(B43+C43=2,3,IF(D43=\"\",B43+C43,B43+C43+D43))))","v":""},null,null,null,{"$f":"IF(AE26=\"\",\"\",IF(AE26=4,A26,IF(AE27=4,A27,IF(AE28=4,A28,IF(AE29=4,A29,IF(AE30=4,A30,IF(AE31=4,A31)))))))","v":""},{"$f":"IF(AE26=\"\",\"\",IF(AE26=4,C26,IF(AE27=4,C27,IF(AE28=4,C28,IF(AE29=4,C29,IF(AE30=4,C30,IF(AE31=4,C31)))))))","v":""},null,null,null,null,null,null,null,null,35,null,null,{"$f":"IF('6er Gr2'!AE26=\"\",\"\",IF('6er Gr2'!AE26=4,'6er Gr2'!C26,IF('6er Gr2'!AE27=4,'6er Gr2'!C27,IF('6er Gr2'!AE28=4,'6er Gr2'!C28,IF('6er Gr2'!AE29=4,'6er Gr2'!C29,IF('6er Gr2'!AE30=4,'6er Gr2'!C30,IF('6er Gr2'!AE31=4,'6er Gr2'!C31)))))))","v":""},null,null,null,null,null,null,null,null,null,null,null,{"$f":"IF('6er Gr2'!AE26=\"\",\"\",IF('6er Gr2'!AE26=4,'6er Gr2'!A26,IF('6er Gr2'!AE27=4,'6er Gr2'!A27,IF('6er Gr2'!AE28=4,'6er Gr2'!A28,IF('6er Gr2'!AE29=4,'6er Gr2'!A29,IF('6er Gr2'!AE30=4,'6er Gr2'!A30,IF('6er Gr2'!AE31=4,'6er Gr2'!A31)))))))","v":""},{"$f":"IF(B43=1,\"0\",IF(B43=\"\",\"\",\"1\"))","v":""},{"$f":"IF(C43=1,\"0\",IF(C43=\"\",\"\",\"1\"))","v":""},{"$f":"IF(D43=1,\"0\",IF(D43=\"\",\"\",\"1\"))","v":""},{"$f":"IF(AE43=\"\",\"\",IF(AF43=\"\",AE43,IF(AE43+AF43=2,3,IF(AG43=\"\",AE43+AF43,AE43+AF43+AG43))))","v":""},null,"",null,null,null,9,null,{"$f":"IF(C26=\"\",\"\",IF(OR(A41=\"\",A41+AH41>3,A41+AH41<=2),\"\",IF(A41>=2,F41,R41)))","v":""}]
["Plazierungszug  5. / 6.",null,null,null,null,null,null,null,null,null,null,null,null,null,null,null,null,null,null,null,null,null,null,null,null,null,null,null,null,null,null,null,null,null,null,null,null,null,null,8,null,{"$f":"IF(C28=\"\",\"\",IF(OR(A43=\"\",A43+AH43>3,A43+AH43<=2),\"\",IF(A43<=1,F43,R43)))","v":""}]
[{"$f":"IF(B45=\"\",\"\",IF(C45=\"\",B45,IF(B45+C45=2,3,IF(D45=\"\",B45+C45,B45+C45+D45))))","v":""},null,null,null,{"$f":"IF(AE26=\"\",\"\",IF(AE26=3,A26,IF(AE27=3,A27,IF(AE28=3,A28,IF(AE29=3,A29,IF(AE30=3,A30,IF(AE31=3,A31)))))))","v":""},{"$f":"IF(AE26=\"\",\"\",IF(AE26=3,C26,IF(AE27=3,C27,IF(AE28=3,C28,IF(AE29=3,C29,IF(AE30=3,C30,IF(AE31=3,C31)))))))","v":""},null,null,null,null,null,null,null,null,36,null,null,{"$f":"IF('6er Gr2'!AE26=\"\",\"\",IF('6er Gr2'!AE26=3,'6er Gr2'!C26,IF('6er Gr2'!AE27=3,'6er Gr2'!C27,IF('6er Gr2'!AE28=3,'6er Gr2'!C28,IF('6er Gr2'!AE29=3,'6er Gr2'!C29,IF('6er Gr2'!AE30=3,'6er Gr2'!C30,IF('6er Gr2'!AE31=3,'6er Gr2'!C31)))))))","v":""},null,null,null,null,null,null,null,null,null,null,null,{"$f":"IF('6er Gr2'!AE26=\"\",\"\",IF('6er Gr2'!AE26=3,'6er Gr2'!A26,IF('6er Gr2'!AE27=3,'6er Gr2'!A27,IF('6er Gr2'!AE28=3,'6er Gr2'!A28,IF('6er Gr2'!AE29=3,'6er Gr2'!A29,IF('6er Gr2'!AE30=3,'6er Gr2'!A30,IF('6er Gr2'!AE31=3,'6er Gr2'!A31)))))))","v":""},{"$f":"IF(B45=1,\"0\",IF(B45=\"\",\"\",\"1\"))","v":""},{"$f":"IF(C45=1,\"0\",IF(C45=\"\",\"\",\"1\"))","v":""},{"$f":"IF(D45=1,\"0\",IF(D45=\"\",\"\",\"1\"))","v":""},{"$f":"IF(AE45=\"\",\"\",IF(AF45=\"\",AE45,IF(AE45+AF45=2,3,IF(AG45=\"\",AE45+AF45,AE45+AF45+AG45))))","v":""},null,"",null,null,null,7,null,{"$f":"IF(C28=\"\",\"\",IF(OR(A43=\"\",A43+AH43>3,A43+AH43<=2),\"\",IF(A43>=2,F43,R43)))","v":""}]
[null,null,null,null,null,null,null,null,null,null,null,null,null,null,null,null,null,null,null,null,null,null,null,null,null,null,null,null,null,null,null,null,null,null,null,"",null,null,null,6,null,{"$f":"IF(C28=\"\",\"\",IF(OR(A45=\"\",A45+AH45>3,A45+AH45<=2),\"\",IF(A45<=1,F45,R45)))","v":""}]
["Kleiner Final",null,null,null,null,null,null,null,null,null,null,null,null,null,null,null,null,null,null,null,null,null,null,null,null,null,null,null,null,null,null,null,null,null,null,null,null,null,null,5,null,{"$f":"IF(C26=\"\",\"\",IF(OR(A45=\"\",A45+AH45>3,A45+AH45<=2),\"\",IF(A45>=2,F45,R45)))","v":""}]
[{"$f":"IF(B48=\"\",\"\",IF(C48=\"\",B48,IF(B48+C48=2,3,IF(D48=\"\",B48+C48,B48+C48+D48))))","v":""},null,null,null,{"$f":"IF(A35=\"\",\"\",IF(A35>1,AD35,E35))","v":""},{"$f":"IF(A35=\"\",\"\",IF(A35>1,R35,F35))","v":""},null,null,null,null,null,null,null,null,37,null,null,{"$f":"IF(A36=\"\",\"\",IF(A36>1,R36,F36))","v":""},null,null,null,null,null,null,null,null,null,null,null,{"$f":"IF(A36=\"\",\"\",IF(A36>1,AD36,E36))","v":""},{"$f":"IF(B48=1,\"0\",IF(B48=\"\",\"\",\"1\"))","v":""},{"$f":"IF(C48=1,\"0\",IF(C48=\"\",\"\",\"1\"))","v":""},{"$f":"IF(D48=1,\"0\",IF(D48=\"\",\"\",\"1\"))","v":""},{"$f":"IF(AE48=\"\",\"\",IF(AF48=\"\",AE48,IF(AE48+AF48=2,3,IF(AG48=\"\",AE48+AF48,AE48+AF48+AG48))))","v":""}," ","",null,null,null,4,null,{"$f":"IF(C26=\"\",\"\",IF(OR(A48=\"\",A48+AH48>3,A48+AH48<=2),\"\",IF(A48<=1,F48,R48)))","v":""}]
[null,null,null,null,null,null,null,null,null,null,null,null,null,null,null,null,null,null,null,null,null,null,null,null,null,null,null,null,null,null,null,null,null,null,null,"",null,null,null,3,null,{"$f":"IF(C28=\"\",\"\",IF(OR(A48=\"\",A48+AH48>3,A48+AH48<=2),\"\",IF(A48>=2,F48,R48)))","v":""}]
["Final",null,null,null,null,null,null,null,null,null,null,null,null,null,null,null,null,null,null,null,null,null,null,null,null,null,null,null,null,null,null,null,null,null,null,null,null,null,null,2,null,{"$f":"IF(C28=\"\",\"\",IF(OR(A51=\"\",A51+AH51>3,A51+AH51<=2),\"\",IF(A51<=1,F51,R51)))","v":""}]
[{"$f":"IF(B51=\"\",\"\",IF(C51=\"\",B51,IF(B51+C51=2,3,IF(D51=\"\",B51+C51,B51+C51+D51))))","v":""},null,null,null,{"$f":"IF(A35=\"\",\"\",IF(A35>1,E35,AD35))","v":""},{"$f":"IF(A35=\"\",\"\",IF(A35>1,F35,R35))","v":""},null,null,null,null,null,null,null,null,38,null,null,{"$f":"IF(A36=\"\",\"\",IF(A36>1,F36,R36))","v":""},null,null,null,null,null,null,null,null,null,null,null,{"$f":"IF(A36=\"\",\"\",IF(A36>1,E36,AD36))","v":""},{"$f":"IF(B51=1,\"0\",IF(B51=\"\",\"\",\"1\"))","v":""},{"$f":"IF(C51=1,\"0\",IF(C51=\"\",\"\",\"1\"))","v":""},{"$f":"IF(D51=1,\"0\",IF(D51=\"\",\"\",\"1\"))","v":""},{"$f":"IF(AE51=\"\",\"\",IF(AF51=\"\",AE51,IF(AE51+AF51=2,3,IF(AG51=\"\",AE51+AF51,AE51+AF51+AG51))))","v":""}," ","",null,null,null,1,null,{"$f":"IF(C28=\"\",\"\",IF(OR(A51=\"\",A51+AH51>3,A51+AH51<=2),\"\",IF(A51>=2,F51,R51)))","v":""}]
[]
[]
[]
[]
[null,null,null,null,null,null,null,null,null,null,null,null,null,null,null,null,null,null,null,null,null,null,null,null,null,null,null,null,null,null,null,null,null,null,{"$f":"IF(A56=\"\",\"\",IF(AND(A56=1,AF56=1)+OR(C56=\"\")+AND(A56+AF56>3)+OR(A56+AF56=2),\"nicht i.o.\",\"i.o.\"))","v":""}]
[null,null,null,null,null,null,null,null,null,null,null,null,null,null,null,null,null,null,null,null,null,null,null,null,null,null,null,null,null,null,null,null,null,null,{"$f":"IF(A57=\"\",\"\",IF(AND(A57=1,AF57=1)+OR(C57=\"\")+AND(A57+AF57>3)+OR(A57+AF57=2),\"nicht i.o.\",\"i.o.\"))","v":""}]
[null,null,null,null,null,null,null,null,null,null,null,null,null,null,null,null,null,null,null,null,null,null,null,null,null,null,null,null,null,null,null,null,null,null,""]
[]
[null,null,null,null,null,null,null,null,null,null,null,null,null,null,null,null,null,null,null,null,null,null,null,null,null,null,null,null,null,null,null,null,null,null,""]
[null,null,null,null,null,null,null,null,null,null,null,null,null,null,null,null,null,null,null,null,null,null,null,null,null,null,null,null,null,null,null,null,null,null,""]
[]
[null,null,null,null,null,null,null,null,null,null,null,null,null,null,null,null,null,null,null,null,null,null,null,null,null,null,null,null,null,null,null,null,null,null,""]
[null,null,null,null,null,null,null,null,null,null,null,null,null,null,null,null,null,null,null,null,null,null,null,null,null,null,null,null,null,null,null,null,null,null,""]

{"sheet":"6er Gr2","index":1,"n_rows":42,"n_cols":42,"rows_kept":42,"cut":false,"hidden":false,"merged":[[0,6,0,23],[0,35,5,35],[2,2,2,8],[2,12,2,18],[2,26,2,31],[3,4,3,11],[8,5,8,13],[8,14,8,16],[8,17,8,28],[9,5,9,13],[9,14,9,16],[9,17,9,28],[6,5,6,13],[6,14,6,16],[6,17,6,28],[7,5,7,13],[7,14,7,16],[7,17,7,28],[12,5,12,13],[12,14,12,16],[12,17,12,28],[13,5,13,13],[13,14,13,16],[13,17,13,28],[10,5,10,13],[10,14,10,16],[10,17,10,28],[11,5,11,13],[11,14,11,16],[11,17,11,28],[16,5,16,13],[16,14,16,16],[16,17,16,28],[17,5,17,13],[17,14,17,16],[17,17,17,28],[14,5,14,13],[14,14,14,16],[14,17,14,28],[15,5,15,13],[15,14,15,16],[15,17,15,28],[20,5,20,13],[20,14,20,16],[20,17,20,28],[21,5,21,13],[21,14,21,16],[21,17,21,28],[18,5,18,13],[18,14,18,16],[18,17,18,28],[19,5,19,13],[19,14,19,16],[19,17,19,28],[26,26,26,27],[26,28,26,29],[24,24,24,25],[24,26,24,27],[24,28,24,29],[24,30,24,31],[25,0,25,1],[25,2,25,15],[25,16,25,17],[25,18,25,19],[25,20,25,21],[25,22,25,23],[24,0,24,1],[24,2,24,15],[24,16,24,17],[24,18,24,19],[24,20,24,21],[24,22,24,23],[25,24,25,25],[25,26,25,27],[25,28,25,29],[25,30,25,31],[28,18,28,19],[28,20,28,21],[28,22,28,23],[28,24,28,25],[28,26,28,27],[28,28,28,29],[26,30,26,31],[27,0,27,1],[27,2,27,15],[27,16,27,17],[27,18,27,19],[27,20,27,21],[27,22,27,23],[27,24,27,25],[27,26,27,27],[27,28,27,29],[27,30,27,31],[26,0,26,1],[26,2,26,15],[26,16,26,17],[26,18,26,19],[26,20,26,21],[26,22,26,23],[26,24,26,25],[28,30,28,31],[29,0,29,1],[29,2,29,15],[29,16,29,17],[29,18,29,19],[29,20,29,21],[29,22,29,23],[30,24,30,25],[30,26,30,27],[30,28,30,29],[30,30,30,31],[29,24,29,25],[29,26,29,27],[29,28,29,29],[29,30,29,31],[30,0,30,1],[30,2,30,15],[30,16,30,17],[30,18,30,19],[30,20,30,21],[30,22,30,23],[28,0,28,1],[28,2,28,15],[28,16,28,17]]}
[null,null,null,null,null,null,{"$f":"'6er Gr1'!G1:X1","v":"OSM"},null,null,null,null,null,null,null,null,null,null,null,null,null,null,null,null,null,null,null,null,null,null,null,null,null,null,null,null,"Prüfung"]
[]
["Turnier:",null,null,null,null,null,null,null,null,null,"Datum:",null,null,null,null,null,null,null,null,null,"Gewichtsklasse:",null,null,null,null,null,"Gr. 2"]
["Turnierleiter:"]
[]
[null,null,null,null,null,null,null,null,null,null,null,null,null,null,null,null,null,null,null,null,null,null,null,null,null,null,null,null,"6-Turnier"]
["P",1,2,3,null,"Teams",null,null,null,null,null,null,null,null,"Z-Nr.",null,null,"Teams",null,null,null,null,null,null,null,null,null,null,null,null,1,2,3,"P","Zeit:"]
[{"$f":"IF(B8=\"\",\"\",IF(C8=\"\",B8,IF(B8+C8=2,3,IF(D8=\"\",B8+C8,B8+C8+D8))))","v":""},null,null,null,"A",{"$f":"IF(C26=\"\",\"\",C26)","v":""},null,null,null,null,null,null,null,null,{"$f":"CONCATENATE(AN8,AO8,AL8,AP8)","v":"1(16)"},null,null,{"$f":"IF(C27=\"\",\"\",C27)","v":""},null,null,null,null,null,null,null,null,null,null,null,"B",{"$f":"IF(B8=1,\"0\",IF(B8=\"\",\"\",\"1\"))","v":""},{"$f":"IF(C8=1,\"0\",IF(C8=\"\",\"\",\"1\"))","v":""},"",{"$f":"IF(AE8=\"\",\"\",IF(AF8=\"\",AE8,IF(AE8+AF8=2,3,IF(AG8=\"\",AE8+AF8,AE8+AF8+AG8))))","v":""},null,{"$f":"IF(A8=\"\",\"\",IF(AND(A8=1,AF8=1)+OR(C8=\"\")+AND(A8+AH8>3)+OR(A8+AH8=2),\"nicht i.o.\",\"i.o.\"))","v":""},null,16,null,1,"(",")"]
[{"$f":"IF(B9=\"\",\"\",IF(C9=\"\",B9,IF(B9+C9=2,3,IF(D9=\"\",B9+C9,B9+C9+D9))))","v":""},null,null,null,"C",{"$f":"IF(C28=\"\",\"\",C28)","v":""},null,null,null,null,null,null,null,null,{"$f":"CONCATENATE(AN9,AO9,AL9,AP9)","v":"2(17)"},null,null,{"$f":"IF(C29=\"\",\"\",C29)","v":""},null,null,null,null,null,null,null,null,null,null,null,"D",{"$f":"IF(B9=1,\"0\",IF(B9=\"\",\"\",\"1\"))","v":""},{"$f":"IF(C9=1,\"0\",IF(C9=\"\",\"\",\"1\"))","v":""},{"$f":"IF(D9=1,\"0\",IF(D9=\"\",\"\",\"1\"))","v":""},{"$f":"IF(AE9=\"\",\"\",IF(AF9=\"\",AE9,IF(AE9+AF9=2,3,IF(AG9=\"\",AE9+AF9,AE9+AF9+AG9))))","v":""},null,{"$f":"IF(A9=\"\",\"\",IF(AND(A9=1,AF9=1)+OR(C9=\"\")+AND(A9+AH9>3)+OR(A9+AH9=2),\"nicht i.o.\",\"i.o.\"))","v":""},null,17,null,2,"(",")"]
["",null,null,null,"E",{"$f":"IF(C30=\"\",\"\",C30)","v":""},null,null,null,null,null,null,null,null,"3(18)",null,null,{"$f":"IF(C31=\"\",\"\",C31)","v":""},null,null,null,null,null,null,null,null,null,null,null,"F","","","","",null,"",null,18,null,3,"(",")"]
["",null,null,null,"B",{"$f":"IF(C27=\"\",\"\",C27)","v":""},null,null,null,null,null,null,null,null,"4(19)",null,null,{"$f":"IF(C29=\"\",\"\",C29)","v":""},null,null,null,null,null,null,null,null,null,null,null,"D","","","","",null,"",null,19,null,4,"(",")"]
["",null,null,null,"A",{"$f":"IF(C26=\"\",\"\",C26)","v":""},null,null,null,null,null,null,null,null,"5(20)",null,null,{"$f":"IF(C31=\"\",\"\",C31)","v":""},null,null,null,null,null,null,null,null,null,null,null,"F","","","","",null,"",null,20,null,5,"(",")"]
["",null,null,null,"C",{"$f":"IF(C28=\"\",\"\",C28)","v":""},null,null,null,null,null,null,null,null,"6(21)",null,null,{"$f":"IF(C30=\"\",\"\",C30)","v":""},null,null,null,null,null,null,null,null,null,null,null,"E","","","","",null,"",null,21,null,6,"(",")"]
["",null,null,null,"A",{"$f":"IF(C26=\"\",\"\",C26)","v":""},null,null,null,null,null,null,null,null,"7(22)",null,null,{"$f":"IF(C29=\"\",\"\",C29)","v":""},null,null,null,null,null,null,null,null,null,null,null,"D","","","","",null,"",null,22,null,7,"(",")"]
["",null,null,null,"B",{"$f":"IF(C27=\"\",\"\",C27)","v":""},null,null,null,null,null,null,null,null,"8(23)",null,null,{"$f":"IF(C30=\"\",\"\",C30)","v":""},null,null,null,null,null,null,null,null,null,null,null,"E","","","","",null,"",null,23,null,8,"(",")"]
["",null,null,null,"C",{"$f":"IF(C28=\"\",\"\",C28)","v":""},null,null,null,null,null,null,null,null,"9(24)",null,null,{"$f":"IF(C31=\"\",\"\",C31)","v":""},null,null,null,null,null,null,null,null,null,null,null,"F","","","","",null,"",null,24,null,9,"(",")"]
["",null,null,null,"D",{"$f":"IF(C29=\"\",\"\",C29)","v":""},null,null,null,null,null,null,null,null,"10(25)",null,null,{"$f":"IF(C30=\"\",\"\",C30)","v":""},null,null,null,null,null,null,null,null,null,null,null,"E","","","","",null,"",null,25,null,10,"(",")"]
["",null,null,null,"A",{"$f":"IF(C26=\"\",\"\",C26)","v":""},null,null,null,null,null,null,null,null,"11(26)",null,null,{"$f":"IF(C28=\"\",\"\",C28)","v":""},null,null,null,null,null,null,null,null,null,null,null,"C","","","","",null,"",null,26,null,11,"(",")"]
["",null,null,null,"B",{"$f":"IF(C27=\"\",\"\",C27)","v":""},null,null,null,null,null,null,null,null,"12(27)",null,null,{"$f":"IF(C31=\"\",\"\",C31)","v":""},null,null,null,null,null,null,null,null,null,null,null,"F","","","","",null,"",null,27,null,12,"(",")"]
["",null,null,null,"A",{"$f":"IF(C26=\"\",\"\",C26)","v":""},null,null,null,null,null,null,null,null,"13(28)",null,null,{"$f":"IF(C30=\"\",\"\",C30)","v":""},null,null,null,null,null,null,null,null,null,null,null,"E","","","","",null,"",null,28,null,13,"(",")"]
["",null,null,null,"D",{"$f":"IF(C29=\"\",\"\",C29)","v":""},null,null,null,null,null,null,null,null,"14(29)",null,null,{"$f":"IF(C31=\"\",\"\",C31)","v":""},null,null,null,null,null,null,null,null,null,null,null,"F","","","",""," ","",null,29,null,14,"(",")"]
["",null,null,null,"B",{"$f":"IF(C27=\"\",\"\",C27)","v":""},null,null,null,null,null,null,null,null,"15(30)",null,null,{"$f":"IF(C28=\"\",\"\",C28)","v":""},null,null,null,null,null,null,null,null,null,null,null,"C","","","","",null,"",null,30,null,15,"(",")"]
[]
[]
[null,null,"Teams",null,null,null,null,null,null,null,null,null,null,null,null,null,"A",null,"B",null,"C",null,"D",null,"E",null,"F",null,"Pt.",null,"Rang"]
["A",null,null,null,null,null,null,null,null,null,null,null,null,null,null,null,null,null,{"$f":"A8","v":""},null,{"$f":"A18","v":""},null,{"$f":"A14","v":""},null,{"$f":"A20","v":""},null,{"$f":"A12","v":""},null,{"$f":"IF(A8=\"\",\"\",(IF(Q26<>\"\",Q26,0))+(IF(S26<>\"\",S26,0))+(IF(U26<>\"\",U26,0))+(IF(W26<>\"\",W26,0))+(IF(Y26<>\"\",Y26,0))+(IF(AA26<>\"\",AA26,0)))","v":""}]
["B",null,null,null,null,null,null,null,null,null,null,null,null,null,null,null,{"$f":"AH8","v":""},null,null,null,{"$f":"A22","v":""},null,{"$f":"A11","v":""},null,{"$f":"A15","v":""},null,{"$f":"A19","v":""},null,{"$f":"IF(AH8=\"\",\"\",(IF(Q27<>\"\",Q27,0))+(IF(S27<>\"\",S27,0))+(IF(U27<>\"\",U27,0))+(IF(W27<>\"\",W27,0))+(IF(Y27<>\"\",Y27,0))+(IF(AA27<>\"\",AA27,0)))","v":""}]
["C",null,null,null,null,null,null,null,null,null,null,null,null,null,null,null,{"$f":"AH18","v":""},null,{"$f":"AH22","v":""},null,null,null,{"$f":"A9","v":""},null,{"$f":"A13","v":""},null,{"$f":"A16","v":""},null,{"$f":"IF(A9=\"\",\"\",(IF(Q28<>\"\",Q28,0))+(IF(S28<>\"\",S28,0))+(IF(U28<>\"\",U28,0))+(IF(W28<>\"\",W28,0))+(IF(Y28<>\"\",Y28,0))+(IF(AA28<>\"\",AA28,0)))","v":""}]
["D",null,null,null,null,null,null,null,null,null,null,null,null,null,null,null,{"$f":"AH14","v":""},null,{"$f":"AH11","v":""},null,{"$f":"AH9","v":""},null,null,null,{"$f":"A17","v":""},null,{"$f":"A21","v":""},null,{"$f":"IF(AH9=\"\",\"\",(IF(Q29<>\"\",Q29,0))+(IF(S29<>\"\",S29,0))+(IF(U29<>\"\",U29,0))+(IF(W29<>\"\",W29,0))+(IF(Y29<>\"\",Y29,0))+(IF(AA29<>\"\",AA29,0)))","v":""}]
["E",null,null,null,null,null,null,null,null,null,null,null,null,null,null,null,{"$f":"AH20","v":""},null,{"$f":"AH15","v":""},null,{"$f":"AH13","v":""},null,{"$f":"AH17","v":""},null,null,null,{"$f":"A10","v":""},null,{"$f":"IF(A10=\"\",\"\",(IF(Q30<>\"\",Q30,0))+(IF(S30<>\"\",S30,0))+(IF(U30<>\"\",U30,0))+(IF(W30<>\"\",W30,0))+(IF(Y30<>\"\",Y30,0))+(IF(AA30<>\"\",AA30,0)))","v":""}]
["F",null,null,null,null,null,null,null,null,null,null,null,null,null,null,null,{"$f":"AH12","v":""},null,{"$f":"AH19","v":""},null,{"$f":"AH16","v":""},null,{"$f":"AH21","v":""},null,{"$f":"AH10","v":""},null,null,null,{"$f":"IF(AH10=\"\",\"\",(IF(Q31<>\"\",Q31,0))+(IF(S31<>\"\",S31,0))+(IF(U31<>\"\",U31,0))+(IF(W31<>\"\",W31,0))+(IF(Y31<>\"\",Y31,0))+(IF(AA31<>\"\",AA31,0)))","v":""}]
[]
[]
[null,null,null,null,null,null,null,null,null,null,null,null,null,null,null,null,null,null,null,null,null,null,null,null,null,null,null,null,null,null,null,null,null,null,{"$f":"IF(A34=\"\",\"\",IF(AND(A34=1,AF34=1)+OR(C34=\"\")+AND(A34+AF34>3)+OR(A34+AF34=2),\"nicht i.o.\",\"i.o.\"))","v":""}]
[null,null,null,null,null,null,null,null,null,null,null,null,null,null,null,null,null,null,null,null,null,null,null,null,null,null,null,null,null,null,null,null,null,null,{"$f":"IF(A35=\"\",\"\",IF(AND(A35=1,AF35=1)+OR(C35=\"\")+AND(A35+AF35>3)+OR(A35+AF35=2),\"nicht i.o.\",\"i.o.\"))","v":""}]
[null,null,null,null,null,null,null,null,null,null,null,null,null,null,null,null,null,null,null,null,null,null,null,null,null,null,null,null,null,null,null,null,null,null,""]
[]
[null,null,null,null,null,null,null,null,null,null,null,null,null,null,null,null,null,null,null,null,null,null,null,null,null,null,null,null,null,null,null,null,null,null,""]
[null,null,null,null,null,null,null,null,null,null,null,null,null,null,null,null,null,null,null,null,null,null,null,null,null,null,null,null,null,null,null,null,null,null,""]
[]
[null,null,null,null,null,null,null,null,null,null,null,null,null,null,null,null,null,null,null,null,null,null,null,null,null,null,null,null,null,null,null,null,null,null,""]
[null,null,null,null,null,null,null,null,null,null,null,null,null,null,null,null,null,null,null,null,null,null,null,null,null,null,null,null,null,null,null,null,null,null,""]

{"sheet":"Rangliste Final","index":2,"n_rows":24,"n_cols":7,"rows_kept":24,"cut":false,"hidden":false,"merged":[[4,0,4,6],[8,0,8,6],[0,0,0,6]]}
["OSM"]
[]
[null,null,null,null,null,null,"Datum:"]
[]
["Turnier Sevelen"]
[]
[null,"Pokal-Sponsor: "]
[]
["Besten Dank fürs mitmachen."]
[]
[null,"Rangliste"]
[]
[null,"1.",{"$f":"'6er Gr1'!AP51","v":""}]
[null,"2.",{"$f":"'6er Gr1'!AP50","v":""}]
[null,"3.",{"$f":"'6er Gr1'!AP49","v":""}]
[null,"4.",{"$f":"'6er Gr1'!AP48","v":""}]
[null,"5.",{"$f":"'6er Gr1'!AP47","v":""}]
[null,"6.",{"$f":"'6er Gr1'!AP46","v":""}]
[null,"7.",{"$f":"'6er Gr1'!AP45","v":""}]
[null,"8.",{"$f":"'6er Gr1'!AP44","v":""}]
[null,"9.",{"$f":"'6er Gr1'!AP43","v":""}]
[null,"10.",{"$f":"'6er Gr1'!AP42","v":""}]
[null,"11.",{"$f":"'6er Gr1'!AP41","v":""}]
[null,"12.",{"$f":"'6er Gr1'!AP40","v":""}]