{"text_format":"1","workbook":"xlsx","n_sheets":3,"sheets":["6er Gr1","5er Gr2","Rangliste Final"],"not_rendered":{"charts":0,"images":0,"macros":1,"external_links":0,"defined_names":35,"comments":0,"pivot_tables":0},"unopened":[],"bounds":{"document_bytes":16777216,"sheet_cells":100000,"rows_first":2000,"rows_last":500,"rows_between":2000,"halvings":0,"cell_chars":16384,"cell_head_chars":4096},"cells_cut":0,"cells_raw":0,"read":"whole","date_system":"1900"}

{"sheet":"6er Gr1","index":0,"n_rows":62,"n_cols":41,"rows_kept":62,"cut":false,"hidden":false,"merged":[[35,5,35,13],[38,5,38,13],[40,5,40,13],[42,5,42,13],[45,5,45,13],[48,5,48,13],[33,17,33,28],[34,17,34,28],[35,17,35,28],[38,17,38,28],[40,17,40,28],[42,17,42,28],[45,17,45,28],[48,17,48,28],[42,14,42,16],[38,14,38,16],[40,14,40,16],[48,14,48,16],[35,14,35,16],[45,14,45,16],[21,5,21,13],[19,5,19,13],[20,5,20,13],[21,14,21,16],[24,18,24,19],[25,18,25,19],[26,18,26,19],[27,18,27,19],[30,22,30,23],[21,17,21,28],[20,17,20,28],[25,24,25,25],[26,24,26,25],[27,24,27,25],[28,24,28,25],[29,22,29,23],[26,2,26,15],[27,28,27,29],[27,16,27,17],[28,16,28,17],[29,16,29,17],[30,18,30,19],[30,16,30,17],[30,20,30,21],[26,22,26,23],[27,0,27,1],[2,26,2,31],[2,2,2,8],[3,4,3,11],[24,26,24,27],[24,24,24,25],[24,22,24,23],[24,20,24,21],[7,5,7,13],[7,14,7,16],[6,17,6,28],[18,17,18,28],[19,17,19,28],[15,5,15,13],[16,5,16,13],[17,5,17,13],[18,5,18,13],[11,5,11,13],[12,5,12,13],[13,5,13,13],[14,5,14,13],[6,14,6,16],[7,17,7,28],[30,0,30,1],[28,2,28,15],[30,2,30,15],[34,14,34,16],[29,0,29,1],[28,26,28,27],[27,26,27,27],[29,2,29,15],[33,14,33,16],[28,18,28,19],[29,18,29,19],[28,20,28,21],[29,20,29,21],[33,5,33,13],[34,5,34,13],[27,30,27,31],[27,22,27,23],[28,22,28,23],[27,20,27,21],[27,2,27,15],[26,30,26,31],[24,30,24,31],[24,28,24,29],[24,0,24,1],[25,0,25,1],[25,28,25,29],[25,30,25,31],[25,26,25,27],[26,28,26,29],[24,2,24,15],[25,2,25,15],[26,26,26,27],[25,22,25,23],[25,20,25,21],[26,20,26,21],[24,16,24,17],[25,16,25,17],[26,0,26,1],[28,0,28,1],[0,35,5,35],[30,28,30,29],[30,30,30,31],[30,26,30,27],[30,24,30,25],[29,28,29,29],[29,30,29,31],[29,24,29,25],[29,26,29,27],[10,17,10,28],[11,17,11,28],[12,17,12,28],[28,28,28,29],[28,30,28,31],[0,6,0,23],[2,12,2,18],[6,5,6,13],[26,16,26,17],[10,5,10,13],[8,5,8,13],[9,5,9,13],[13,17,13,28],[20,14,20,16],[19,14,19,16],[10,14,10,16],[9,14,9,16],[8,14,8,16],[8,17,8,28],[9,17,9,28],[18,14,18,16],[17,14,17,16],[12,14,12,16],[11,14,11,16],[14,14,14,16],[13,14,13,16],[16,14,16,16],[15,14,15,16],[14,17,14,28],[15,17,15,28],[16,17,16,28],[17,17,17,28]]}
[null,null,null,null,null,null,"OSM",null,null,null,null,null,null,null,null,null,null,null,null,null,null,null,null,null,null,null,null,null,null,null,null,null,null,null," ","Prüfung"]
[]
["Turnier:",null,null,null,null,null,null,null,null,null,"Datum:",null,null,null,null,null,null,null,null,null,"Gewichtsklasse:",null,null,null,null,null,"Gr. 1"]
["Turnierleiter:"]
[]
[null,null,null,null,null,null,null,null,null,null,null,null,null,null,null,null,null,null,null,null,null,null,null,null,null,null,null,null,"6-Turnier"]
["P",1,2,3,null,"Teams",null,null,null,null,null,null,null,null,"Z-Nr.",null,null,"Teams",null,null,null,null,null,null,null,null,null,null,null,null,1,2,3,"P","Zeit:"]
[{"$f":"IF(B8=\"\",\"\",IF(C8=\"\",B8,IF(B8+C8=2,3,IF(D8=\"\",B8+C8,B8+C8+D8))))","v":""},null,null,null,"A",{"$f":"IF(C26=\"\",\"\",C26)","v":""},null,null,null,null,null,null,null,null,1,null,null,{"$f":"IF(C27=\"\",\"\",C27)","v":""},null,null,null,null,null,null,null,null,null,null,null,"B",{"$f":"IF(B8=1,\"0\",IF(B8=\"\",\"\",\"1\"))","v":""},{"$f":"IF(C8=1,\"0\",IF(C8=\"\",\"\",\"1\"))","v":""},"",{"$f":"IF(AE8=\"\",\"\",IF(AF8=\"\",AE8,IF(AE8+AF8=2,3,IF(AG8=\"\",AE8+AF8,AE8+AF8+AG8))))","v":""}," ",{"$f":"IF(A8=\"\",\"\",IF(AND(A8=1,AF8=1)+OR(C8=\"\")+AND(A8+AH8>3)+OR(A8+AH8=2),\"nicht i.o.\",\"i.o.\"))","v":""}]
[{"$f":"IF(B9=\"\",\"\",IF(C9=\"\",B9,IF(B9+C9=2,3,IF(D9=\"\",B9+C9,B9+C9+D9))))","v":""},null,null,null,"C",{"$f":"IF(C28=\"\",\"\",C28)","v":""},null,null,null,null,null,null,null,null,2,null,null,{"$f":"IF(C29=\"\",\"\",C29)","v":""},null,null,null,null,null,null,null,null,null,null,null,"D",{"$f":"IF(B9=1,\"0\",IF(B9=\"\",\"\",\"1\"))","v":""},{"$f":"IF(C9=1,\"0\",IF(C9=\"\",\"\",\"1\"))","v":""},{"$f":"IF(D9=1,\"0\",IF(D9=\"\",\"\",\"1\"))","v":""},{"$f":"IF(AE9=\"\",\"\",IF(AF9=\"\",AE9,IF(AE9+AF9=2,3,IF(AG9=\"\",AE9+AF9,AE9+AF9+AG9))))","v":""}," ",{"$f":"IF(A9=\"\",\"\",IF(AND(A9=1,AF9=1)+OR(C9=\"\")+AND(A9+AH9>3)+OR(A9+AH9=2),\"nicht i.o.\",\"i.o.\"))","v":""}]
["",null,null,null,"E",{"$f":"IF(C30=\"\",\"\",C30)","v":""},null,null,null,null,null,null,null,null,3,null,null,{"$f":"IF(C31=\"\",\"\",C31)","v":""},null,null,null,null,null,null,null,null,null,null,null,"F","","","","",null,""]
["",null,null,null,"B",{"$f":"IF(C27=\"\",\"\",C27)","v":""},null,null,null,null,null,null,null,null,4,null,null,{"$f":"IF(C29=\"\",\"\",C29)","v":""},null,null,null,null,null,null,null,null,null,null,null,"D","","","","",null,""]
["",null,null,null,"A",{"$f":"IF(C26=\"\",\"\",C26)","v":""},null,null,null,null,null,null,null,null,5,null,null,{"$f":"IF(C31=\"\",\"\",C31)","v":""},null,null,null,null,null,null,null,null,null,null,null,"F","","","","",null,""]
["",null,null,null,"C",{"$f":"IF(C28=\"\",\"\",C28)","v":""},null,null,null,null,null,null,null,null,6,null,null,{"$f":"IF(C30=\"\",\"\",C30)","v":""},null,null,null,null,null,null,null,null,null,null,null,"E","","","","",null,""]
["",null,null,null,"A",{"$f":"IF(C26=\"\",\"\",C26)","v":""},null,null,null,null,null,null,null,null,7,null,null,{"$f":"IF(C29=\"\",\"\",C29)","v":""},null,null,null,null,null,null,null,null,null,null,null,"D","","","","",null,""]
["",null,null,null,"B",{"$f":"IF(C27=\"\",\"\",C27)","v":""},null,null,null,null,null,null,null,null,8,null,null,{"$f":"IF(C30=\"\",\"\",C30)","v":""},null,null,null,null,null,null,null,null,null,null,null,"E","","","","",null,""]
["",null,null,null,"C",{"$f":"IF(C28=\"\",\"\",C28)","v":""},null,null,null,null,null,null,null,null,9,null,null,{"$f":"IF(C31=\"\",\"\",C31)","v":""},null,null,null,null,null,null,null,null,null,null,null,"F","","","","",null,""]
["",null,null,null,"D",{"$f":"IF(C29=\"\",\"\",C29)","v":""},null,null,null,null,null,null,null,null,10,null,null,{"$f":"IF(C30=\"\",\"\",C30)","v":""},null,null,null,null,null,null,null,null,null,null,null,"E","","","","",null,""]
["",null,null,null,"A",{"$f":"IF(C26=\"\",\"\",C26)","v":""},null,null,null,null,null,null,null,null,11,null,null,{"$f":"IF(C28=\"\",\"\",C28)","v":""},null,null,null,null,null,null,null,null,null,null,null,"C","","","","",null,""]
["",null,null,null,"B",{"$f":"IF(C27=\"\",\"\",C27)","v":""},null,null,null,null,null,null,null,null,12,null,null,{"$f":"IF(C31=\"\",\"\",C31)","v":""},null,null,null,null,null,null,null,null,null,null,null,"F","","","","",null,""]
["",null,null,null,"A",{"$f":"IF(C26=\"\",\"\",C26)","v":""},null,null,null,null,null,null,null,null,13,null,null,{"$f":"IF(C30=\"\",\"\",C30)","v":""},null,null,null,null,null,null,null,null,null,null,null,"E","","","","",null,""]
["",null,null,null,"D",{"$f":"IF(C29=\"\",\"\",C29)","v":""},null,null,null,null,null,null,null,null,14,null,null,{"$f":"IF(C31=\"\",\"\",C31)","v":""},null,null,null,null,null,null,null,null,null,null,null,"F","","","","",null,""]
["",null,null,null,"B",{"$f":"IF(C27=\"\",\"\",C27)","v":""},null,null,null,null,null,null,null,null,15,null,null,{"$f":"IF(C28=\"\",\"\",C28)","v":""},null,null,null,null,null,null,null,null,null,null,null,"C","","","","",null,""]
[]
[]
[null,null,"Teams",null,null,null,null,null,null,null,null,null,null,null,null,null,"A",null,"B",null,"C",null,"D",null,"E",null,"F",null,"Pt.",null,"Rang"]
["A",null,null,null,null,null,null,null,null,null,null,null,null,null,null,null,null,null,{"$f":"A8","v":""},null,{"$f":"A18","v":""},null,{"$f":"A14","v":""},null,{"$f":"A20","v":""},null,{"$f":"A12","v":""},null,{"$f":"IF(A8=\"\",\"\",(IF(Q26<>\"\",Q26,0))+(IF(S26<>\"\",S26,0))+(IF(U26<>\"\",U26,0))+(IF(W26<>\"\",W26,0))+(IF(Y26<>\"\",Y26,0))+(IF(AA26<>\"\",AA26,0)))","v":""}]
["B",null,null,null,null,null,null,null,null,null,null,null,null,null,null,null,{"$f":"AH8","v":""},null,null,null,{"$f":"A22","v":""},null,{"$f":"A11","v":""},null,{"$f":"A15","v":""},null,{"$f":"A19","v":""},null,{"$f":"IF(AH8=\"\",\"\",(IF(Q27<>\"\",Q27,0))+(IF(S27<>\"\",S27,0))+(IF(U27<>\"\",U27,0))+(IF(W27<>\"\",W27,0))+(IF(Y27<>\"\",Y27,0))+(IF(AA27<>\"\",AA27,0)))","v":""}]
["C",null,null,null,null,null,null,null,null,null,null,null,null,null,null,null,{"$f":"AH18","v":""},null,{"$f":"AH22","v":""},null,null,null,{"$f":"A9","v":""},null,{"$f":"A13","v":""},null,{"$f":"A16","v":""},null,{"$f":"IF(A9=\"\",\"\",(IF(Q28<>\"\",Q28,0))+(IF(S28<>\"\",S28,0))+(IF(U28<>\"\",U28,0))+(IF(W28<>\"\",W28,0))+(IF(Y28<>\"\",Y28,0))+(IF(AA28<>\"\",AA28,0)))","v":""}]
["D",null,null,null,null,null,null,null,null,null,null,null,null,null,null,null,{"$f":"AH14","v":""},null,{"$f":"AH11","v":""},null,{"$f":"AH9","v":""},null,null,null,{"$f":"A17","v":""},null,{"$f":"A21","v":""},null,{"$f":"IF(AH9=\"\",\"\",(IF(Q29<>\"\",Q29,0))+(IF(S29<>\"\",S29,0))+(IF(U29<>\"\",U29,0))+(IF(W29<>\"\",W29,0))+(IF(Y29<>\"\",Y29,0))+(IF(AA29<>\"\",AA29,0)))","v":""}]
["E",null,null,null,null,null,null,null,null,null,null,null,null,null,null,null,{"$f":"AH20","v":""},null,{"$f":"AH15","v":""},null,{"$f":"AH13","v":""},null,{"$f":"AH17","v":""},null,null,null,{"$f":"A10","v":""},null,{"$f":"IF(A10=\"\",\"\",(IF(Q30<>\"\",Q30,0))+(IF(S30<>\"\",S30,0))+(IF(U30<>\"\",U30,0))+(IF(W30<>\"\",W30,0))+(IF(Y30<>\"\",Y30,0))+(IF(AA30<>\"\",AA30,0)))","v":""}]
["F",null,null,null,null,null,null,null,null,null,null,null,null,null,null,null,{"$f":"AH12","v":""},null,{"$f":"AH19","v":""},null,{"$f":"AH16","v":""},null,{"$f":"AH21","v":""},null,{"$f":"AH10","v":""},null,null,null,{"$f":"IF(AH10=\"\",\"\",(IF(Q31<>\"\",Q31,0))+(IF(S31<>\"\",S31,0))+(IF(U31<>\"\",U31,0))+(IF(W31<>\"\",W31,0))+(IF(Y31<>\"\",Y31,0))+(IF(AA31<>\"\",AA31,0)))","v":""}]
[]
["½ -Finals"]
["P",1,2,3,null,"Teams",null,null,null,null,null,null,null,null,"Z-Nr.",null,null,"Teams",null,null,null,null,null,null,null,null,null,null,null,null,1,2,3,"P"]
[{"$f":"IF(B35=\"\",\"\",IF(C35=\"\",B35,IF(B35+C35=2,3,IF(D35=\"\",B35+C35,B35+C35+D35))))","v":""},null,null,null,{"$f":"IF(AE26=\"\",\"\",IF(AE26=1,A26,IF(AE27=1,A27,IF(AE28=1,A28,IF(AE29=1,A29,IF(AE30=1,A30,IF(AE31=1,A31)))))))","v":""},{"$f":"IF(AE26=\"\",\"\",IF(AE26=1,C26,IF(AE27=1,C27,IF(AE28=1,C28,IF(AE29=1,C29,IF(AE30=1,C30,IF(AE31=1,C31)))))))","v":""},null,null,null,null,null,null,null,null,26,null,null,{"$f":"IF('5er Gr2'!AE21=\"\",\"\",IF('5er Gr2'!AE21=2,'5er Gr2'!C21,IF('5er Gr2'!AE22=2,'5er Gr2'!C22,IF('5er Gr2'!AE23=2,'5er Gr2'!C23,IF('5er Gr2'!AE24=2,'5er Gr2'!C24,IF('5er Gr2'!AE25=2,'5er Gr2'!C25,IF('5er Gr2'!#REF!=2,'5er Gr2'!#REF!,)))))))","v":""},null,null,null,null,null,null,null,null,null,null,null,{"$f":"IF('5er Gr2'!AE21=\"\",\"\",IF('5er Gr2'!AE21=2,'5er Gr2'!A21,IF('5er Gr2'!AE22=2,'5er Gr2'!A22,IF('5er Gr2'!AE23=2,'5er Gr2'!A23,IF('5er Gr2'!AE24=2,'5er Gr2'!A24,IF('5er Gr2'!AE25=2,'5er Gr2'!A25))))))","v":""},{"$f":"IF(B35=1,\"0\",IF(B35=\"\",\"\",\"1\"))","v":""},"","",{"$f":"IF(AE35=\"\",\"\",IF(AF35=\"\",AE35,IF(AE35+AF35=2,3,IF(AG35=\"\",AE35+AF35,AE35+AF35+AG35))))","v":""},null,{"$f":"IF(A35=\"\",\"\",IF(AND(A35=1,AH35=1)+OR(C35=\"\")+AND(A35+AH35>3)+OR(A35+AH35=2),\"nicht i.o.\",\"i.o.\"))","v":""}]
[{"$f":"IF(B36=\"\",\"\",IF(C36=\"\",B36,IF(B36+C36=2,3,IF(D36=\"\",B36+C36,B36+C36+D36))))","v":""},null,null,null,{"$f":"IF('5er Gr2'!AE21=\"\",\"\",IF('5er Gr2'!AE21=1,'5er Gr2'!A21,IF('5er Gr2'!AE22=1,'5er Gr2'!A22,IF('5er Gr2'!AE23=1,'5er Gr2'!A23,IF('5er Gr2'!AE24=1,'5er Gr2'!A24,IF('5er Gr2'!AE25=1,'5er Gr2'!A25))))))","v":""},{"$f":"IF('5er Gr2'!AE21=\"\",\"\",IF('5er Gr2'!AE21=1,'5er Gr2'!C21,IF('5er Gr2'!AE22=1,'5er Gr2'!C22,IF('5er Gr2'!AE23=1,'5er Gr2'!C23,IF('5er Gr2'!AE24=1,'5er Gr2'!C24,IF('5er Gr2'!AE25=1,'5er Gr2'!C25,IF('5er Gr2'!#REF!=1,'5er Gr2'!#REF!,)))))))","v":""},null,null,null,null,null,null,null,null,27,null,null,{"$f":"IF(AE26=\"\",\"\",IF(AE26=2,C26,IF(AE27=2,C27,IF(AE28=2,C28,IF(AE29=2,C29,IF(AE30=2,C30,IF(AE31=2,C31)))))))","v":""},null,null,null,null,null,null,null,null,null,null,null,{"$f":"IF(AE26=\"\",\"\",IF(AE26=2,A26,IF(AE27=2,A27,IF(AE28=2,A28,IF(AE29=2,CA29,IF(AE30=2,A30,IF(AE31=2,A31)))))))","v":""},"","","",{"$f":"IF(AE36=\"\",\"\",IF(AF36=\"\",AE36,IF(AE36+AF36=2,3,IF(AG36=\"\",AE36+AF36,AE36+AF36+AG36))))","v":""},null,{"$f":"IF(A36=\"\",\"\",IF(AND(A36=1,AH36=1)+OR(C36=\"\")+AND(A36+AH36>3)+OR(A36+AH36=2),\"nicht i.o.\",\"i.o.\"))","v":""}]
[null,null,null,null,null,null,null,null,null,null,null,null,null,null,null,null,null,null,null,null,null,null,null,null,null,null,null,null,null,null,null,null,null,null,null,{"$f":"IF(A37=\"\",\"\",IF(AND(A37=1,AH37=1)+OR(C37=\"\")+AND(A37+AH37>3)+OR(A37+AH37=2),\"nicht i.o.\",\"i.o.\"))","v":""},null,null,"Rangliste Final"]
["Plazierungszug  9. / 10."]
[{"$f":"IF(B39=\"\",\"\",IF(C39=\"\",B39,IF(B39+C39=2,3,IF(D39=\"\",B39+C39,B39+C39+D39))))","v":""},null,null,null,{"$f":"IF(AE26=\"\",\"\",IF(AE26=5,A26,IF(AE27=5,A27,IF(AE28=5,A28,IF(AE29=5,A29,IF(AE30=5,A30,IF(AE31=5,A31)))))))","v":""},{"$f":"IF(AE26=\"\",\"\",IF(AE26=5,C26,IF(AE27=5,C27,IF(AE28=5,C28,IF(AE29=5,C29,IF(AE30=5,C30,IF(AE31=5,C31)))))))","v":""},null,null,null,null,null,null,null,null,28,null,null,{"$f":"IF('5er Gr2'!AE21=\"\",\"\",IF('5er Gr2'!AE21=5,'5er Gr2'!C21,IF('5er Gr2'!AE22=5,'5er Gr2'!C22,IF('5er Gr2'!AE23=5,'5er Gr2'!C23,IF('5er Gr2'!AE24=5,'5er Gr2'!C24,IF('5er Gr2'!AE25=5,'5er Gr2'!C25,IF('5er Gr2'!#REF!=5,'5er Gr2'!#REF!)))))))","v":""},null,null,null,null,null,null,null,null,null,null,null,{"$f":"IF('5er Gr2'!AE21=\"\",\"\",IF('5er Gr2'!AE21=5,'5er Gr2'!A21,IF('5er Gr2'!AE22=5,'5er Gr2'!A22,IF('5er Gr2'!AE23=5,'5er Gr2'!A23,IF('5er Gr2'!AE24=5,'5er Gr2'!A24,IF('5er Gr2'!AE25=5,'5er Gr2'!A25))))))","v":""},{"$f":"IF(B39=1,\"0\",IF(B39=\"\",\"\",\"1\"))","v":""},{"$f":"IF(C39=1,\"0\",IF(C39=\"\",\"\",\"1\"))","v":""},{"$f":"IF(D39=1,\"0\",IF(D39=\"\",\"\",\"1\"))","v":""},{"$f":"IF(AE39=\"\",\"\",IF(AF39=\"\",AE39,IF(AE39+AF39=2,3,IF(AG39=\"\",AE39+AF39,AE39+AF39+AG39))))","v":""},null,{"$f":"IF(A39=\"\",\"\",IF(AND(A39=1,AH39=1)+OR(C39=\"\")+AND(A39+AH39>3)+OR(A39+AH39=2),\"nicht i.o.\",\"i.o.\"))","v":""},null,null,11,null,{"$f":"IF(AE26=\"\",\"\",IF(AE26=6,C26,IF(AE27=6,C27,IF(AE28=6,C28,IF(AE29=6,C29,IF(AE30=6,C30,IF(AE31=6,C31)))))))","v":""}]
["Plazierungszug  7. / 8.",null,null,null,null,null,null,null,null,null,null,null,null,null,null,null,null,null,null,null,null,null,null,null,null,null,null,null,null,null,null,null,null,null,null,null,null,null,10,null,{"$f":"IF(C30=\"\",\"\",IF(OR(A39=\"\",A39+AH39>3,A39+AH39<=2),\"\",IF(A39<=1,F39,R39)))","v":""}]
[{"$f":"IF(B41=\"\",\"\",IF(C41=\"\",B41,IF(B41+C41=2,3,IF(D41=\"\",B41+C41,B41+C41+D41))))","v":""},null,null,null,{"$f":"IF(AE26=\"\",\"\",IF(AE26=4,A26,IF(AE27=4,A27,IF(AE28=4,A28,IF(AE29=4,A29,IF(AE30=4,A30,IF(AE31=4,A31)))))))","v":""},{"$f":"IF(AE26=\"\",\"\",IF(AE26=4,C26,IF(AE27=4,C27,IF(AE28=4,C28,IF(AE29=4,C29,IF(AE30=4,C30,IF(AE31=4,C31)))))))","v":""},null,null,null,null,null,null,null,null,29,null,null,{"$f":"IF('5er Gr2'!AE21=\"\",\"\",IF('5er Gr2'!AE21=4,'5er Gr2'!C21,IF('5er Gr2'!AE22=4,'5er Gr2'!C22,IF('5er Gr2'!AE23=4,'5er Gr2'!C23,IF('5er Gr2'!AE24=4,'5er Gr2'!C24,IF('5er Gr2'!AE25=4,'5er Gr2'!C25,IF('5er Gr2'!#REF!=4,'5er Gr2'!#REF!)))))))","v":""},null,null,null,null,null,null,null,null,null,null,null,{"$f":"IF('5er Gr2'!AE21=\"\",\"\",IF('5er Gr2'!AE21=4,'5er Gr2'!A21,IF('5er Gr2'!AE22=4,'5er Gr2'!A22,IF('5er Gr2'!AE23=4,'5er Gr2'!A23,IF('5er Gr2'!AE24=4,'5er Gr2'!A24,IF('5er Gr2'!AE25=4,'5er Gr2'!A25))))))","v":""},{"$f":"IF(B41=1,\"0\",IF(B41=\"\",\"\",\"1\"))","v":""},{"$f":"IF(C41=1,\"0\",IF(C41=\"\",\"\",\"1\"))","v":""},{"$f":"IF(D41=1,\"0\",IF(D41=\"\",\"\",\"1\"))","v":""},{"$f":"IF(AE41=\"\",\"\",IF(AF41=\"\",AE41,IF(AE41+AF41=2,3,IF(AG41=\"\",AE41+AF41,AE41+AF41+AG41))))","v":""},null,{"$f":"IF(A41=\"\",\"\",IF(AND(A41=1,AH41=1)+OR(C41=\"\")+AND(A41+AH41>3)+OR(A41+AH41=2),\"nicht i.o.\",\"i.o.\"))","v":""},null,null,9,null,{"$f":"IF(C30=\"\",\"\",IF(OR(A39=\"\",A39+AH39>3,A39+AH39<=2),\"\",IF(A39>=2,F39,R39)))","v":""}]
["Plazierungszug  5. / 6.",null,null,null,null,null,null,null,null,null,null,null,null,null,null,null,null,null,null,null,null,null,null,null,null,null,null,null,null,null,null,null,null,null,null,null,null,null,8,null,{"$f":"IF(C26=\"\",\"\",IF(OR(A41=\"\",A41+AH41>3,A41+AH41<=2),\"\",IF(A41<=1,F41,R41)))","v":""}]
[{"$f":"IF(B43=\"\",\"\",IF(C43=\"\",B43,IF(B43+C43=2,3,IF(D43=\"\",B43+C43,B43+C43+D43))))","v":""},null,null,null,{"$f":"IF(AE26=\"\",\"\",IF(AE26=3,A26,IF(AE27=3,A27,IF(AE28=3,A28,IF(AE29=3,A29,IF(AE30=3,A30,IF(AE31=3,A31)))))))","v":""},{"$f":"IF(AE26=\"\",\"\",IF(AE26=3,C26,IF(AE27=3,C27,IF(AE28=3,C28,IF(AE29=3,C29,IF(AE30=3,C30,IF(AE31=3,C31)))))))","v":""},null,null,null,null,null,null,null,null,30,null,null,{"$f":"IF('5er Gr2'!AE21=\"\",\"\",IF('5er Gr2'!AE21=3,'5er Gr2'!C21,IF('5er Gr2'!AE22=3,'5er Gr2'!C22,IF('5er Gr2'!AE23=3,'5er Gr2'!C23,IF('5er Gr2'!AE24=3,'5er Gr2'!C24,IF('5er Gr2'!AE25=3,'5er Gr2'!C25,IF('5er Gr2'!#REF!=3,'5er Gr2'!#REF!)))))))","v":""},null,null,null,null,null,null,null,null,null,null,null,{"$f":"IF('5er Gr2'!AE21=\"\",\"\",IF('5er Gr2'!AE21=3,'5er Gr2'!A21,IF('5er Gr2'!AE22=3,'5er Gr2'!A22,IF('5er Gr2'!AE23=3,'5er Gr2'!A23,IF('5er Gr2'!AE24=3,'5er Gr2'!A24,IF('5er Gr2'!AE25=3,'5er Gr2'!A25))))))","v":""},{"$f":"IF(B43=1,\"0\",IF(B43=\"\",\"\",\"1\"))","v":""},{"$f":"IF(C43=1,\"0\",IF(C43=\"\",\"\",\"1\"))","v":""},{"$f":"IF(D43=1,\"0\",IF(D43=\"\",\"\",\"1\"))","v":""},{"$f":"IF(AE43=\"\",\"\",IF(AF43=\"\",AE43,IF(AE43+AF43=2,3,IF(AG43=\"\",AE43+AF43,AE43+AF43+AG43))))","v":""},null,{"$f":"IF(A43=\"\",\"\",IF(AND(A43=1,AH43=1)+OR(C43=\"\")+AND(A43+AH43>3)+OR(A43+AH43=2),\"nicht i.o.\",\"i.o.\"))","v":""},null,null,7,null,{"$f":"IF(C26=\"\",\"\",IF(OR(A41=\"\",A41+AH41>3,A41+AH41<=2),\"\",IF(A41>=2,F41,R41)))","v":""}]
[null,null,null,null,null,null,null,null,null,null,null,null,null,null,null,null,null,null,null,null,null,null,null,null,null,null,null,null,null,null,null,null,null,null,null,{"$f":"IF(A44=\"\",\"\",IF(AND(A44=1,AH44=1)+OR(C44=\"\")+AND(A44+AH44>3)+OR(A44+AH44=2),\"nicht i.o.\",\"i.o.\"))","v":""},null,null,6,null,{"$f":"IF(C26=\"\",\"\",IF(OR(A43=\"\",A43+AH43>3,A43+AH43<=2),\"\",IF(A43<=1,F43,R43)))","v":""}]
["Kleiner Final",null,null,null,null,null,null,null,null,null,null,null,null,null,null,null,null,null,null,null,null,null,null,null,null,null,null,null,null,null,null,null,null,null,null,null,null,null,5,null,{"$f":"IF(C26=\"\",\"\",IF(OR(A43=\"\",A43+AH43>3,A43+AH43<=2),\"\",IF(A43>=2,F43,R43)))","v":""}]
[{"$f":"IF(B46=\"\",\"\",IF(C46=\"\",B46,IF(B46+C46=2,3,IF(D46=\"\",B46+C46,B46+C46+D46))))","v":""},null,null,null,{"$f":"IF(A35=\"\",\"\",IF(A35>1,AD35,E35))","v":""},{"$f":"IF(A35=\"\",\"\",IF(A35>1,R35,F35))","v":""},null,null,null,null,null,null,null,null,31,null,null,{"$f":"IF(A36=\"\",\"\",IF(A36>1,R36,F36))","v":""},null,null,null,null,null,null,null,null,null,null,null,{"$f":"IF(A36=\"\",\"\",IF(A36>1,AD36,E36))","v":""},{"$f":"IF(B46=1,\"0\",IF(B46=\"\",\"\",\"1\"))","v":""},{"$f":"IF(C46=1,\"0\",IF(C46=\"\",\"\",\"1\"))","v":""},{"$f":"IF(D46=1,\"0\",IF(D46=\"\",\"\",\"1\"))","v":""},{"$f":"IF(AE46=\"\",\"\",IF(AF46=\"\",AE46,IF(AE46+AF46=2,3,IF(AG46=\"\",AE46+AF46,AE46+AF46+AG46))))","v":""}," ",{"$f":"IF(A46=\"\",\"\",IF(AND(A46=1,AH46=1)+OR(C46=\"\")+AND(A46+AH46>3)+OR(A46+AH46=2),\"nicht i.o.\",\"i.o.\"))","v":""},null,null,4,null,{"$f":"IF(C30=\"\",\"\",IF(OR(A46=\"\",A46+AH46>3,A46+AH46<=2),\"\",IF(A46<=1,F46,R46)))","v":""}]
[null,null,null,null,null,null,null,null,null,null,null,null,null,null,null,null,null,null,null,null,null,null,null,null,null,null,null,null,null,null,null,null,null,null,null,{"$f":"IF(A47=\"\",\"\",IF(AND(A47=1,AH47=1)+OR(C47=\"\")+AND(A47+AH47>3)+OR(A47+AH47=2),\"nicht i.o.\",\"i.o.\"))","v":""},null,null,3,null,{"$f":"IF(C26=\"\",\"\",IF(OR(A46=\"\",A46+AH46>3,A46+AH46<=2),\"\",IF(A46>=2,F46,R46)))","v":""}]
["Final",null,null,null,null,null,null,null,null,null,null,null,null,null,null,null,null,null,null,null,null,null,null,null,null,null,null,null,null,null,null,null,null,null,null,null,null,null,2,null,{"$f":"IF(C26=\"\",\"\",IF(OR(A49=\"\",A49+AH49>3,A49+AH49<=2),\"\",IF(A49<=1,F49,R49)))","v":""}]
[{"$f":"IF(B49=\"\",\"\",IF(C49=\"\",B49,IF(B49+C49=2,3,IF(D49=\"\",B49+C49,B49+C49+D49))))","v":""},null,null,null,{"$f":"IF(A35=\"\",\"\",IF(A35>1,E35,AD35))","v":""},{"$f":"IF(A35=\"\",\"\",IF(A35>1,F35,R35))","v":""},null,null,null,null,null,null,null,null,32,null,null,{"$f":"IF(A36=\"\",\"\",IF(A36>1,F36,R36))","v":""},null,null,null,null,null,null,null,null,null,null,null,{"$f":"IF(A36=\"\",\"\",IF(A36>1,E36,AD36))","v":""},{"$f":"IF(B49=1,\"0\",IF(B49=\"\",\"\",\"1\"))","v":""},{"$f":"IF(C49=1,\"0\",IF(C49=\"\",\"\",\"1\"))","v":""},{"$f":"IF(D49=1,\"0\",IF(D49=\"\",\"\",\"1\"))","v":""},{"$f":"IF(AE49=\"\",\"\",IF(AF49=\"\",AE49,IF(AE49+AF49=2,3,IF(AG49=\"\",AE49+AF49,AE49+AF49+AG49))))","v":""}," ",{"$f":"IF(A49=\"\",\"\",IF(AND(A49=1,AH49=1)+OR(C49=\"\")+AND(A49+AH49>3)+OR(A49+AH49=2),\"nicht i.o.\",\"i.o.\"))","v":""},null,null,1,null,{"$f":"IF(C26=\"\",\"\",IF(OR(A49=\"\",A49+AH49>3,A49+AH49<=2),\"\",IF(A49>=2,F49,R49)))","v":""}]
[]
[]
[]
[]
[null,null,null,null,null,null,null,null,null,null,null,null,null,null,null,null,null,null,null,null,null,null,null,null,null,null,null,null,null,null,null,null,null,null,{"$f":"IF(A54=\"\",\"\",IF(AND(A54=1,AF54=1)+OR(C54=\"\")+AND(A54+AF54>3)+OR(A54+AF54=2),\"nicht i.o.\",\"i.o.\"))","v":""}]
[null,null,null,null,null,null,null,null,null,null,null,null,null,null,null,null,null,null,null,null,null,null,null,null,null,null,null,null,null,null,null,null,null,null,{"$f":"IF(A55=\"\",\"\",IF(AND(A55=1,AF55=1)+OR(C55=\"\")+AND(A55+AF55>3)+OR(A55+AF55=2),\"nicht i.o.\",\"i.o.\"))","v":""}]
[null,null,null,null,null,null,null,null,null,null,null,null,null,null,null,null,null,null,null,null,null,null,null,null,null,null,null,null,null,null,null,null,null,null,""]
[]
[null,null,null,null,null,null,null,null,null,null,null,null,null,null,null,null,null,null,null,null,null,null,null,null,null,null,null,null,null,null,null,null,null,null,""]
[null,null,null,null,null,null,null,null,null,null,null,null,null,null,null,null,null,null,null,null,null,null,null,null,null,null,null,null,null,null,null,null,null,null,""]
[]
[null,null,null,null,null,null,null,null,null,null,null,null,null,null,null,null,null,null,null,null,null,null,null,null,null,null,null,null,null,null,null,null,null,null,""]
[null,null,null,null,null,null,null,null,null,null,null,null,null,null,null,null,null,null,null,null,null,null,null,null,null,null,null,null,null,null,null,null,null,null,""]

{"sheet":"5er Gr2","index":1,"n_rows":36,"n_cols":44,"rows_kept":36,"cut":false,"hidden":false,"merged":[[24,24,24,25],[24,26,24,27],[24,28,24,29],[24,30,24,31],[23,0,23,1],[23,18,23,19],[23,20,23,21],[24,0,24,1],[24,18,24,19],[24,20,24,21],[24,22,24,23],[24,2,24,17],[23,22,23,23],[23,2,23,17],[23,24,23,25],[23,26,23,27],[21,26,21,27],[21,28,21,29],[21,30,21,31],[22,24,22,25],[22,26,22,27],[22,28,22,29],[22,30,22,31],[23,28,23,29],[23,30,23,31],[22,0,22,1],[22,18,22,19],[22,20,22,21],[22,22,22,23],[22,2,22,17],[21,0,21,1],[21,18,21,19],[21,20,21,21],[21,22,21,23],[21,24,21,25],[19,24,19,25],[19,26,19,27],[19,28,19,29],[19,30,19,31],[20,0,20,1],[20,18,20,19],[20,20,20,21],[20,22,20,23],[19,0,19,1],[19,18,19,19],[19,20,19,21],[19,22,19,23],[20,24,20,25],[20,26,20,27],[20,28,20,29],[20,30,20,31],[16,5,16,13],[16,14,16,16],[16,17,16,28],[14,5,14,13],[14,14,14,16],[14,17,14,28],[15,5,15,13],[15,14,15,16],[15,17,15,28],[10,14,10,16],[10,17,10,28],[11,5,11,13],[11,14,11,16],[11,17,11,28],[6,5,6,13],[6,14,6,16],[6,17,6,28],[7,5,7,13],[7,14,7,16],[7,17,7,28],[19,2,19,17],[20,2,20,17],[21,2,21,17],[8,5,8,13],[8,14,8,16],[8,17,8,28],[9,5,9,13],[9,14,9,16],[9,17,9,28],[12,5,12,13],[12,14,12,16],[12,17,12,28],[13,5,13,13],[13,14,13,16],[13,17,13,28],[10,5,10,13],[0,6,0,23],[0,35,5,35],[2,2,2,8],[2,12,2,18],[2,26,2,31],[3,4,3,11]]}
[null,null,null,null,null,null,{"$f":"'6er Gr1'!G1:X1","v":"OSM"},null,null,null,null,null,null,null,null,null,null,null,null,null,null,null,null,null,null,null,null,null,null,null,null,null,null,null,null,"Prüfung"]
[]
["Turnier:",null,null,null,null,null,null,null,null,null,"Datum:",null,null,null,null,null,null,null,null,null,"Gewichtsklasse:",null,null,null,null,null,"Gr. 2"]
["Turnierleiter:"]
[]
[null,null,null,null,null,null,null,null,null,null,null,null,null,null,null,null,null,null,null,null,null,null,null,null,null,null,null,null,"5-Turnier"]
["P",1,2,3,null,"Teams",null,null,null,null,null,null,null,null,"Z-Nr.",null,null,"Teams",null,null,null,null,null,null,null,null,null,null,null,null,1,2,3,"P","Zeit:"]
[{"$f":"IF(B8=\"\",\"\",IF(C8=\"\",B8,IF(B8+C8=2,3,IF(D8=\"\",B8+C8,B8+C8+D8))))","v":""},null,null,null,"A",{"$f":"IF(C21=\"\",\"\",C21)","v":"v"},null,null,null,null,null,null,null,null,{"$f":"CONCATENATE(AP8,AQ8,AK8,AR8)","v":"1(16)"},null,null,{"$f":"IF(C22=\"\",\"\",C22)","v":""},null,null,null,null,null,null,null,null,null,null,null,"B",{"$f":"IF(B8=1,\"0\",IF(B8=\"\",\"\",\"1\"))","v":""},{"$f":"IF(C8=1,\"0\",IF(C8=\"\",\"\",\"1\"))","v":""},"",{"$f":"IF(AE8=\"\",\"\",IF(AF8=\"\",AE8,IF(AE8+AF8=2,3,IF(AG8=\"\",AE8+AF8,AE8+AF8+AG8))))","v":""}," ",{"$f":"IF(A8=\"\",\"\",IF(AND(A8=1,AF8=1)+OR(C8=\"\")+AND(A8+AH8>3)+OR(A8+AH8=2),\"nicht i.o.\",\"i.o.\"))","v":""},16,null,null,null,null,1,"(",")"]
[{"$f":"IF(B9=\"\",\"\",IF(C9=\"\",B9,IF(B9+C9=2,3,IF(D9=\"\",B9+C9,B9+C9+D9))))","v":""},null,null,null,"C",{"$f":"IF(C23=\"\",\"\",C23)","v":""},null,null,null,null,null,null,null,null,{"$f":"CONCATENATE(AP9,AQ9,AK9,AR9)","v":"2(17)"},null,null,{"$f":"IF(C24=\"\",\"\",C24)","v":""},null,null,null,null,null,null,null,null,null,null,null,"D",{"$f":"IF(B9=1,\"0\",IF(B9=\"\",\"\",\"1\"))","v":""},{"$f":"IF(C9=1,\"0\",IF(C9=\"\",\"\",\"1\"))","v":""},{"$f":"IF(D9=1,\"0\",IF(D9=\"\",\"\",\"1\"))","v":""},{"$f":"IF(AE9=\"\",\"\",IF(AF9=\"\",AE9,IF(AE9+AF9=2,3,IF(AG9=\"\",AE9+AF9,AE9+AF9+AG9))))","v":""},null,{"$f":"IF(A9=\"\",\"\",IF(AND(A9=1,AF9=1)+OR(C9=\"\")+AND(A9+AH9>3)+OR(A9+AH9=2),\"nicht i.o.\",\"i.o.\"))","v":""},17,null,null,null,null,2,"(",")"]
["",null,null,null,"E",{"$f":"IF(C25=\"\",\"\",C25)","v":""},null,null,null,null,null,null,null,null,"3(18)",null,null,{"$f":"IF(C21=\"\",\"\",C21)","v":"v"},null,null,null,null,null,null,null,null,null,null,null,"A","","","","",null,"",18,null,null,null,null,3,"(",")"]
["",null,null,null,"B",{"$f":"IF(C22=\"\",\"\",C22)","v":""},null,null,null,null,null,null,null,null,"4(19)",null,null,{"$f":"IF(C23=\"\",\"\",C23)","v":""},null,null,null,null,null,null,null,null,null,null,null,"C","","","","",null,"",19,null,null,null,null,4,"(",")"]
["",null,null,null,"D",{"$f":"IF(C24=\"\",\"\",C24)","v":""},null,null,null,null,null,null,null,null,"5(20)",null,null,{"$f":"IF(C25=\"\",\"\",C25)","v":""},null,null,null,null,null,null,null,null,null,null,null,"E","","","","",null,"",20,null,null,null,null,5,"(",")"]
["",null,null,null,"A",{"$f":"IF(C21=\"\",\"\",C21)","v":"v"},null,null,null,null,null,null,null,null,"6(21)",null,null,{"$f":"IF(C23=\"\",\"\",C23)","v":""},null,null,null,null,null,null,null,null,null,null,null,"C","","","","",null,"",21,null,null,null,null,6,"(",")"]
["",null,null,null,"E",{"$f":"IF(C25=\"\",\"\",C25)","v":""},null,null,null,null,null,null,null,null,"7(22)",null,null,{"$f":"IF(C22=\"\",\"\",C22)","v":""},null,null,null,null,null,null,null,null,null,null,null,"B","","","","",null,"",22,null,null,null,null,7,"(",")"]
["",null,null,null,"D",{"$f":"IF(C24=\"\",\"\",C24)","v":""},null,null,null,null,null,null,null,null,"8(23)",null,null,{"$f":"IF(C21=\"\",\"\",C21)","v":"v"},null,null,null,null,null,null,null,null,null,null,null,"A","","","","",null,"",23,null,null,null,null,8,"(",")"]
["",null,null,null,"C",{"$f":"IF(C23=\"\",\"\",C23)","v":""},null,null,null,null,null,null,null,null,"9(24)",null,null,{"$f":"IF(C25=\"\",\"\",C25)","v":""},null,null,null,null,null,null,null,null,null,null,null,"E","","","","",null,"",24,null,null,null,null,9,"(",")"]
["",null,null,null,"B",{"$f":"IF(C22=\"\",\"\",C22)","v":""},null,null,null,null,null,null,null,null,"10(25)",null,null,{"$f":"IF(C24=\"\",\"\",C24)","v":""},null,null,null,null,null,null,null,null,null,null,null,"D","","","","",null,"",25,null,null,null,null,10,"(",")"]
[]
[]
[null,null,"Teams",null,null,null,null,null,null,null,null,null,null,null,null,null,null,null,"A",null,"B",null,"C",null,"D",null,"E",null,"Pt.",null,"Rang"]
["A",null,"v",null,null,null,null,null,null,null,null,null,null,null,null,null,null,null,null,null,{"$f":"A8","v":""},null,{"$f":"A13","v":""},null,{"$f":"AH15","v":""},null,{"$f":"AH10","v":""},null,{"$f":"IF(A8=\"\",\"\",(IF(S21<>\"\",S21,0))+(IF(U21<>\"\",U21,0))+(IF(W21<>\"\",W21,0))+(IF(Y21<>\"\",Y21,0))+(IF(AA21<>\"\",AA21,0)))","v":""},null,null,null,null,null," "]
["B",null,null,null,null,null,null,null,null,null,null,null,null,null,null,null,null,null,{"$f":"AH8","v":""},null,null,null,{"$f":"A11","v":""},null,{"$f":"A17","v":""},null,{"$f":"AH14","v":""},null,{"$f":"IF(AH8=\"\",\"\",(IF(S22<>\"\",S22,0))+(IF(U22<>\"\",U22,0))+(IF(W22<>\"\",W22,0))+(IF(Y22<>\"\",Y22,0))+(IF(AA22<>\"\",AA22,0)))","v":""},null,null,null,null,null," "]
["C",null,null,null,null,null,null,null,null,null,null,null,null,null,null,null,null,null,{"$f":"AH13","v":""},null,{"$f":"AH11","v":""},null,null,null,{"$f":"A9","v":""},null,{"$f":"A16","v":""},null,{"$f":"IF(A9=\"\",\"\",(IF(S23<>\"\",S23,0))+(IF(U23<>\"\",U23,0))+(IF(W23<>\"\",W23,0))+(IF(Y23<>\"\",Y23,0))+(IF(AA23<>\"\",AA23,0)))","v":""}]
["D",null,null,null,null,null,null,null,null,null,null,null,null,null,null,null,null,null,{"$f":"A15","v":""},null,{"$f":"AH17","v":""},null,{"$f":"AH9","v":""},null,null,null,{"$f":"A12","v":""},null,{"$f":"IF(AH9=\"\",\"\",(IF(S24<>\"\",S24,0))+(IF(U24<>\"\",U24,0))+(IF(W24<>\"\",W24,0))+(IF(Y24<>\"\",Y24,0))+(IF(AA24<>\"\",AA24,0)))","v":""}]
["E",null,null,null,null,null,null,null,null,null,null,null,null,null,null,null,null,null,{"$f":"A10","v":""},null,{"$f":"A14","v":""},null,{"$f":"AH16","v":""},null,{"$f":"AH12","v":""},null,null,null,{"$f":"IF(A10=\"\",\"\",(IF(S25<>\"\",S25,0))+(IF(U25<>\"\",U25,0))+(IF(W25<>\"\",W25,0))+(IF(Y25<>\"\",Y25,0))+(IF(AA25<>\"\",AA25,0)))","v":""}]
[]
[]
[null,null,null,null,null,null,null,null,null,null,null,null,null,null,null,null,null,null,null,null,null,null,null,null,null,null,null,null,null,null,null,null,null,null,{"$f":"IF(A28=\"\",\"\",IF(AND(A28=1,AF28=1)+OR(C28=\"\")+AND(A28+AF28>3)+OR(A28+AF28=2),\"nicht i.o.\",\"i.o.\"))","v":""}]
[null,null,null,null,null,null,null,null,null,null,null,null,null,null,null,null,null,null,null,null,null,null,null,null,null,null,null,null,null,null,null,null,null,null,{"$f":"IF(A29=\"\",\"\",IF(AND(A29=1,AF29=1)+OR(C29=\"\")+AND(A29+AF29>3)+OR(A29+AF29=2),\"nicht i.o.\",\"i.o.\"))","v":""}]
[null,null,null,null,null,null,null,null,null,null,null,null,null,null,null,null,null,null,null,null,null,null,null,null,null,null,null,null,null,null,null,null,null,null,""]
[]
[null,null,null,null,null,null,null,null,null,null,null,null,null,null,null,null,null,null,null,null,null,null,null,null,null,null,null,null,null,null,null,null,null,null,""]
[null,null,null,null,null,null,null,null,null,null,null,null,null,null,null,null,null,null,null,null,null,null,null,null,null,null,null,null,null,null,null,null,null,null,""]
[]
[null,null,null,null,null,null,null,null,null,null,null,null,null,null,null,null,null,null,null,null,null,null,null,null,null,null,null,null,null,null,null,null,null,null,""]
[null,null,null,null,null,null,null,null,null,null,null,null,null,null,null,null,null,null,null,null,null,null,null,null,null,null,null,null,null,null,null,null,null,null,""]

{"sheet":"Rangliste Final","index":2,"n_rows":23,"n_cols":7,"rows_kept":23,"cut":false,"hidden":false,"merged":[[4,0,4,6],[8,0,8,6],[0,0,0,6]]}
["OSM"]
[]
[null,null,null,null,null,null,"Datum:_"]
[]
["Turnier Sevelen"]
[]
[null,"Pokal-Sponsor: "]
[]
["Besten Dank fürs mitmachen."]
[]
[null,"Rangliste"]
[]
[null,"1.",{"$f":"'6er Gr1'!AO49","v":""}]
[null,"2.",{"$f":"'6er Gr1'!AO48","v":""}]
[null,"3.",{"$f":"'6er Gr1'!AO47","v":""}]
[null,"4.",{"$f":"'6er Gr1'!AO46","v":""}]
[null,"5.",{"$f":"'6er Gr1'!AO45","v":""}]
[null,"6.",{"$f":"'6er Gr1'!AO44","v":""}]
[null,"7.",{"$f":"'6er Gr1'!AO43","v":""}]
[null,"8.",{"$f":"'6er Gr1'!AO42","v":""}]
[null,"9.",{"$f":"'6er Gr1'!AO41","v":""}]
[null,"10.",{"$f":"'6er Gr1'!AO40","v":""}]
[null,"11.",{"$f":"'6er Gr1'!AO39","v":""}]