{"text_format":"1","workbook":"xlsx","n_sheets":3,"sheets":["10er","Rangliste Final","Worktab"],"not_rendered":{"charts":0,"images":0,"macros":1,"external_links":0,"defined_names":2,"comments":0,"pivot_tables":0},"unopened":[],"bounds":{"document_bytes":16777216,"sheet_cells":100000,"rows_first":2000,"rows_last":500,"rows_between":2000,"halvings":0,"cell_chars":16384,"cell_head_chars":4096},"cells_cut":0,"cells_raw":0,"read":"whole","date_system":"1900"}

{"sheet":"10er","index":0,"n_rows":85,"n_cols":38,"rows_kept":85,"cut":false,"hidden":false,"merged":[[60,0,60,1],[60,24,60,25],[60,26,60,27],[60,2,60,13],[61,0,61,1],[61,24,61,25],[61,26,61,27],[61,2,61,13],[58,26,58,27],[58,24,58,25],[58,0,58,1],[59,0,59,1],[59,24,59,25],[59,26,59,27],[58,2,58,13],[59,2,59,13],[65,0,65,1],[65,24,65,25],[65,26,65,27],[65,2,65,13],[62,0,62,1],[62,24,62,25],[62,26,62,27],[62,2,62,13],[63,0,63,1],[63,24,63,25],[63,26,63,27],[63,2,63,13],[64,0,64,1],[64,24,64,25],[64,26,64,27],[64,2,64,13],[66,0,66,1],[66,24,66,25],[66,26,66,27],[66,2,66,13],[68,0,68,1],[68,24,68,25],[68,26,68,27],[67,0,67,1],[67,24,67,25],[67,26,67,27],[67,2,67,13],[4,5,4,13],[4,14,4,15],[4,16,4,24],[5,5,5,13],[5,14,5,15],[5,16,5,24],[6,14,6,15],[6,16,6,24],[8,5,8,13],[11,5,11,13],[11,16,11,24],[12,5,12,13],[12,14,12,15],[12,16,12,24],[11,14,11,15],[8,16,8,24],[6,5,6,13],[9,5,9,13],[9,16,9,24],[10,5,10,13],[10,16,10,24],[15,5,15,13],[15,14,15,15],[15,16,15,24],[16,5,16,13],[16,14,16,15],[16,16,16,24],[13,5,13,13],[13,14,13,15],[13,16,13,24],[14,5,14,13],[14,14,14,15],[14,16,14,24],[19,5,19,13],[19,14,19,15],[19,16,19,24],[20,5,20,13],[20,14,20,15],[20,16,20,24],[17,5,17,13],[17,14,17,15],[17,16,17,24],[18,5,18,13],[18,14,18,15],[18,16,18,24],[23,5,23,13],[23,14,23,15],[23,16,23,24],[24,5,24,13],[24,14,24,15],[24,16,24,24],[21,5,21,13],[21,14,21,15],[21,16,21,24],[22,5,22,13],[22,14,22,15],[22,16,22,24],[27,5,27,13],[27,14,27,15],[27,16,27,24],[28,5,28,13],[28,14,28,15],[28,16,28,24],[25,5,25,13],[25,14,25,15],[25,16,25,24],[26,5,26,13],[26,14,26,15],[26,16,26,24],[31,5,31,13],[31,14,31,15],[31,16,31,24],[32,5,32,13],[32,14,32,15],[32,16,32,24],[29,5,29,13],[29,14,29,15],[29,16,29,24],[30,5,30,13],[30,14,30,15],[30,16,30,24],[35,5,35,13],[35,14,35,15],[35,16,35,24],[36,5,36,13],[36,14,36,15],[36,16,36,24],[33,5,33,13],[33,14,33,15],[33,16,33,24],[34,5,34,13],[34,14,34,15],[34,16,34,24],[39,16,39,24],[40,5,40,13],[40,14,40,15],[40,16,40,24],[37,5,37,13],[37,14,37,15],[37,16,37,24],[38,5,38,13],[38,14,38,15],[38,16,38,24],[0,6,0,21],[1,2,1,8],[1,12,1,16],[49,16,49,24],[73,14,73,15],[68,2,68,13],[76,14,76,15],[47,5,47,13],[47,14,47,15],[47,16,47,24],[48,5,48,13],[48,14,48,15],[48,16,48,24],[45,5,45,13],[45,14,45,15],[45,16,45,24],[46,5,46,13],[46,14,46,15],[46,16,46,24],[43,5,43,13],[43,14,43,15],[43,16,43,24],[44,5,44,13],[44,14,44,15],[1,23,1,27],[2,4,2,11],[82,14,82,15],[84,14,84,15],[7,5,7,13],[7,14,7,15],[7,16,7,24],[8,14,8,15],[9,14,9,15],[10,14,10,15],[80,14,80,15],[74,14,74,15],[78,14,78,15],[49,5,49,13],[49,14,49,15],[44,16,44,24],[41,5,41,13],[41,14,41,15],[41,16,41,24],[42,5,42,13],[42,14,42,15],[42,16,42,24],[39,5,39,13],[39,14,39,15],[72,5,72,13],[73,5,73,13],[74,5,74,13],[76,5,76,13],[78,5,78,13],[80,5,80,13],[82,5,82,13],[84,5,84,13],[72,16,72,24],[73,16,73,24],[74,16,74,24],[76,16,76,24],[78,16,78,24],[80,16,80,24],[82,16,82,24],[84,16,84,24],[72,14,72,15]]}
[null,null,null,null,null,null,"OSM",null,null,null,null,null,null,null,null,null,null,null,null,null,null,null,null,null,null,null,null,null,null,null," ","Prüfung"]
["Turnier:",null,null,null,null,null,null,null,null,null,"Datum:",null,null,null,null,null,null,null,"Gewichtsklasse:"]
["Turnierleiter:"]
[null,null,null,null,null,null,null,null,null,null,null,null,null,null,null,null,null,null,null,null,null,null,null,null,"10-Turnier"]
["P",1,2,3,null,"Teams",null,null,null,null,null,null,null,null,"Z-Nr.",null,"Teams",null,null,null,null,null,null,null,null,null,1,2,3,"P","Zeit:"]
[{"$f":"IF(B6=\"\",\"\",IF(C6=\"\",B6,IF(B6+C6=2,3,IF(D6=\"\",B6+C6,B6+C6+D6))))","v":""},null,null,null,"A",{"$f":"IF(C60=\"\",\"\",C60)","v":""},null,null,null,null,null,null,null,null,1,null,{"$f":"IF(C61=\"\",\"\",C61)","v":""},null,null,null,null,null,null,null,null,"B",{"$f":"IF(B6=1,\"0\",IF(B6=\"\",\"\",\"1\"))","v":""},{"$f":"IF(C6=1,\"0\",IF(C6=\"\",\"\",\"1\"))","v":""},{"$f":"IF(D6=1,\"0\",IF(D6=\"\",\"\",\"1\"))","v":""},{"$f":"IF(AA6=\"\",\"\",IF(AB6=\"\",AA6,IF(AA6+AB6=2,3,IF(AC6=\"\",AA6+AB6,AA6+AB6+AC6))))","v":""}," ",{"$f":"IF(A6=\"\",\"\",IF(AND(A6=1,AB6=1)+OR(C6=\"\")+AND(A6+AD6>3)+OR(A6+AD6=2),\"nicht i.o.\",\"i.o.\"))","v":""}]
[{"$f":"IF(B7=\"\",\"\",IF(C7=\"\",B7,IF(B7+C7=2,3,IF(D7=\"\",B7+C7,B7+C7+D7))))","v":""},null,null,null,"C",{"$f":"IF(C62=\"\",\"\",C62)","v":""},null,null,null,null,null,null,null,null,2,null,{"$f":"IF(C63=\"\",\"\",C63)","v":""},null,null,null,null,null,null,null,null,"D",{"$f":"IF(B7=1,\"0\",IF(B7=\"\",\"\",\"1\"))","v":""},{"$f":"IF(C7=1,\"0\",IF(C7=\"\",\"\",\"1\"))","v":""},{"$f":"IF(D7=1,\"0\",IF(D7=\"\",\"\",\"1\"))","v":""},{"$f":"IF(AA7=\"\",\"\",IF(AB7=\"\",AA7,IF(AA7+AB7=2,3,IF(AC7=\"\",AA7+AB7,AA7+AB7+AC7))))","v":""}," ",{"$f":"IF(A7=\"\",\"\",IF(AND(A7=1,AB7=1)+OR(C7=\"\")+AND(A7+AD7>3)+OR(A7+AD7=2),\"nicht i.o.\",\"i.o.\"))","v":""}]
["",null,null,null,"E",{"$f":"IF(C64=\"\",\"\",C64)","v":""},null,null,null,null,null,null,null,null,3,null,{"$f":"IF(C65=\"\",\"\",C65)","v":""},null,null,null,null,null,null,null,null,"F","","","","",null,""]
["",null,null,null,"G",{"$f":"IF(C66=\"\",\"\",C66)","v":""},null,null,null,null,null,null,null,null,4,null,{"$f":"IF(C67=\"\",\"\",C67)","v":""},null,null,null,null,null,null,null,null,"H","","","","",null,""]
["",null,null,null,"I",{"$f":"IF(C68=\"\",\"\",C68)","v":""},null,null,null,null,null,null,null,null,5,null,{"$f":"IF(C69=\"\",\"\",C69)","v":""},null,null,null,null,null,null,null,null,"J","","","","",null,""]
["",null,null,null,"B",{"$f":"IF(C61=\"\",\"\",C61)","v":""},null,null,null,null,null,null,null,null,6,null,{"$f":"IF(C62=\"\",\"\",C62)","v":""},null,null,null,null,null,null,null,null,"C","","","","",null,""]
["",null,null,null,"D",{"$f":"IF(C63=\"\",\"\",C63)","v":""},null,null,null,null,null,null,null,null,7,null,{"$f":"IF(C64=\"\",\"\",C64)","v":""},null,null,null,null,null,null,null,null,"E","","","","",null,""]
["",null,null,null,"F",{"$f":"IF(C65=\"\",\"\",C65)","v":""},null,null,null,null,null,null,null,null,8,null,{"$f":"IF(C66=\"\",\"\",C66)","v":""},null,null,null,null,null,null,null,null,"G","","","","",null,""]
["",null,null,null,"H",{"$f":"IF(C67=\"\",\"\",C67)","v":""},null,null,null,null,null,null,null,null,9,null,{"$f":"IF(C68=\"\",\"\",C68)","v":""},null,null,null,null,null,null,null,null,"I","","","","",null,""]
["",null,null,null,"A",{"$f":"IF(C60=\"\",\"\",C60)","v":""},null,null,null,null,null,null,null,null,10,null,{"$f":"IF(C62=\"\",\"\",C62)","v":""},null,null,null,null,null,null,null,null,"C","","","","",null,""]
["",null,null,null,"B",{"$f":"IF(C61=\"\",\"\",C61)","v":""},null,null,null,null,null,null,null,null,11,null,{"$f":"IF(C64=\"\",\"\",C64)","v":""},null,null,null,null,null,null,null,null,"E","","","","",null,""]
["",null,null,null,"D",{"$f":"IF(C63=\"\",\"\",C63)","v":""},null,null,null,null,null,null,null,null,12,null,{"$f":"IF(C65=\"\",\"\",C65)","v":""},null,null,null,null,null,null,null,null,"F","","","","",null,""]
["",null,null,null,"G",{"$f":"IF(C66=\"\",\"\",C66)","v":""},null,null,null,null,null,null,null,null,13,null,{"$f":"IF(C68=\"\",\"\",C68)","v":""},null,null,null,null,null,null,null,null,"I","","","","",null,""]
["",null,null,null,"H",{"$f":"IF(C67=\"\",\"\",C67)","v":""},null,null,null,null,null,null,null,null,14,null,{"$f":"IF(C69=\"\",\"\",C69)","v":""},null,null,null,null,null,null,null,null,"J","","","","",null,""]
["",null,null,null,"A",{"$f":"IF(C60=\"\",\"\",C60)","v":""},null,null,null,null,null,null,null,null,15,null,{"$f":"IF(C63=\"\",\"\",C63)","v":""},null,null,null,null,null,null,null,null,"D","","","","",null,""]
["",null,null,null,"C",{"$f":"IF(C62=\"\",\"\",C62)","v":""},null,null,null,null,null,null,null,null,16,null,{"$f":"IF(C64=\"\",\"\",C64)","v":""},null,null,null,null,null,null,null,null,"E","","","","",null,""]
["",null,null,null,"F",{"$f":"IF(C65=\"\",\"\",C65)","v":""},null,null,null,null,null,null,null,null,17,null,{"$f":"IF(C67=\"\",\"\",C67)","v":""},null,null,null,null,null,null,null,null,"H","","","","",null,""]
["",null,null,null,"G",{"$f":"IF(C66=\"\",\"\",C66)","v":""},null,null,null,null,null,null,null,null,18,null,{"$f":"IF(C69=\"\",\"\",C69)","v":""},null,null,null,null,null,null,null,null,"J","","","","",null,""]
["",null,null,null,"B",{"$f":"IF(C61=\"\",\"\",C61)","v":""},null,null,null,null,null,null,null,null,19,null,{"$f":"IF(C63=\"\",\"\",C63)","v":""},null,null,null,null,null,null,null,null,"D","","","","",null,""]
["",null,null,null,"A",{"$f":"IF(C60=\"\",\"\",C60)","v":""},null,null,null,null,null,null,null,null,20,null,{"$f":"IF(C64=\"\",\"\",C64)","v":""},null,null,null,null,null,null,null,null,"E","","","","",null,""]
["",null,null,null,"C",{"$f":"IF(C62=\"\",\"\",C62)","v":""},null,null,null,null,null,null,null,null,21,null,{"$f":"IF(C65=\"\",\"\",C65)","v":""},null,null,null,null,null,null,null,null,"F","","","","",null,""]
["",null,null,null,"H",{"$f":"IF(C67=\"\",\"\",C67)","v":""},null,null,null,null,null,null,null,null,22,null,{"$f":"IF(C61=\"\",\"\",C61)","v":""},null,null,null,null,null,null,null,null,"B","","","","",null,""]
["",null,null,null,"J",{"$f":"IF(C69=\"\",\"\",C69)","v":""},null,null,null,null,null,null,null,null,23,null,{"$f":"IF(C60=\"\",\"\",C60)","v":""},null,null,null,null,null,null,null,null,"A","","","","",null,""]
["",null,null,null,"I",{"$f":"IF(C68=\"\",\"\",C68)","v":""},null,null,null,null,null,null,null,null,24,null,{"$f":"IF(C62=\"\",\"\",C62)","v":""},null,null,null,null,null,null,null,null,"C","","","","",null,""]
["",null,null,null,"D",{"$f":"IF(C63=\"\",\"\",C63)","v":""},null,null,null,null,null,null,null,null,25,null,{"$f":"IF(C66=\"\",\"\",C66)","v":""},null,null,null,null,null,null,null,null,"G","","","","",null,""]
["",null,null,null,"E",{"$f":"IF(C64=\"\",\"\",C64)","v":""},null,null,null,null,null,null,null,null,26,null,{"$f":"IF(C67=\"\",\"\",C67)","v":""},null,null,null,null,null,null,null,null,"H","","","","",null,""]
["",null,null,null,"J",{"$f":"IF(C69=\"\",\"\",C69)","v":""},null,null,null,null,null,null,null,null,27,null,{"$f":"IF(C61=\"\",\"\",C61)","v":""},null,null,null,null,null,null,null,null,"B","","","","",null,""]
["",null,null,null,"A",{"$f":"IF(C60=\"\",\"\",C60)","v":""},null,null,null,null,null,null,null,null,28,null,{"$f":"IF(C68=\"\",\"\",C68)","v":""},null,null,null,null,null,null,null,null,"I","","","","",null,""]
["",null,null,null,"C",{"$f":"IF(C62=\"\",\"\",C62)","v":""},null,null,null,null,null,null,null,null,29,null,{"$f":"IF(C66=\"\",\"\",C66)","v":""},null,null,null,null,null,null,null,null,"G","","","","",null,""]
["",null,null,null,"D",{"$f":"IF(C63=\"\",\"\",C63)","v":""},null,null,null,null,null,null,null,null,30,null,{"$f":"IF(C67=\"\",\"\",C67)","v":""},null,null,null,null,null,null,null,null,"H","","","","",null,""]
["",null,null,null,"F",{"$f":"IF(C65=\"\",\"\",C65)","v":""},null,null,null,null,null,null,null,null,31,null,{"$f":"IF(C69=\"\",\"\",C69)","v":""},null,null,null,null,null,null,null,null,"J","","","","",null,""]
["",null,null,null,"I",{"$f":"IF(C68=\"\",\"\",C68)","v":""},null,null,null,null,null,null,null,null,32,null,{"$f":"IF(C61=\"\",\"\",C61)","v":""},null,null,null,null,null,null,null,null,"B","","","","",null,""]
["",null,null,null,"A",{"$f":"IF(C60=\"\",\"\",C60)","v":""},null,null,null,null,null,null,null,null,33,null,{"$f":"IF(C66=\"\",\"\",C66)","v":""},null,null,null,null,null,null,null,null,"G","","","","",null,""]
["",null,null,null,"C",{"$f":"IF(C62=\"\",\"\",C62)","v":""},null,null,null,null,null,null,null,null,34,null,{"$f":"IF(C67=\"\",\"\",C67)","v":""},null,null,null,null,null,null,null,null,"H","","","","",null,""]
["",null,null,null,"E",{"$f":"IF(C64=\"\",\"\",C64)","v":""},null,null,null,null,null,null,null,null,35,null,{"$f":"IF(C69=\"\",\"\",C69)","v":""},null,null,null,null,null,null,null,null,"J","","","","",null,""]
["",null,null,null,"F",{"$f":"IF(C65=\"\",\"\",C65)","v":""},null,null,null,null,null,null,null,null,36,null,{"$f":"IF(C68=\"\",\"\",C68)","v":""},null,null,null,null,null,null,null,null,"I","","","","",null,""]
["",null,null,null,"B",{"$f":"IF(C61=\"\",\"\",C61)","v":""},null,null,null,null,null,null,null,null,37,null,{"$f":"IF(C66=\"\",\"\",C66)","v":""},null,null,null,null,null,null,null,null,"G","","","","",null,""]
["",null,null,null,"A",{"$f":"IF(C60=\"\",\"\",C60)","v":""},null,null,null,null,null,null,null,null,38,null,{"$f":"IF(C67=\"\",\"\",C67)","v":""},null,null,null,null,null,null,null,null,"H","","","","",null,""]
["",null,null,null,"D",{"$f":"IF(C63=\"\",\"\",C63)","v":""},null,null,null,null,null,null,null,null,39,null,{"$f":"IF(C69=\"\",\"\",C69)","v":""},null,null,null,null,null,null,null,null,"J","","","","",null,""]
["",null,null,null,"E",{"$f":"IF(C64=\"\",\"\",C64)","v":""},null,null,null,null,null,null,null,null,40,null,{"$f":"IF(C68=\"\",\"\",C68)","v":""},null,null,null,null,null,null,null,null,"I","","","","",null,""]
["",null,null,null,"F",{"$f":"IF(C65=\"\",\"\",C65)","v":""},null,null,null,null,null,null,null,null,41,null,{"$f":"IF(C61=\"\",\"\",C61)","v":""},null,null,null,null,null,null,null,null,"B","","","","",null,""]
["",null,null,null,"C",{"$f":"IF(C62=\"\",\"\",C62)","v":""},null,null,null,null,null,null,null,null,42,null,{"$f":"IF(C69=\"\",\"\",C69)","v":""},null,null,null,null,null,null,null,null,"J","","","","",null,""]
["",null,null,null,"E",{"$f":"IF(C64=\"\",\"\",C64)","v":""},null,null,null,null,null,null,null,null,43,null,{"$f":"IF(C66=\"\",\"\",C66)","v":""},null,null,null,null,null,null,null,null,"G","","","","",null,""]
["",null,null,null,"I",{"$f":"IF(C68=\"\",\"\",C68)","v":""},null,null,null,null,null,null,null,null,44,null,{"$f":"IF(C63=\"\",\"\",C63)","v":""},null,null,null,null,null,null,null,null,"D","","","","",null,""]
["",null,null,null,"F",{"$f":"IF(C65=\"\",\"\",C65)","v":""},null,null,null,null,null,null,null,null,45,null,{"$f":"IF(C60=\"\",\"\",C60)","v":""},null,null,null,null,null,null,null,null,"A","","","","",null,""]
[null,null,null,null,null,null,null,null,null,null,null,null,null,null,null,null,null,null,null,null,null,null,null,null,"WENDEN -->"]
[]
[]
[]
[]
[null,null,null,null,null,null,null,null,null,null,null,null,null,null,null,null,null,null,null,null,null,null,null,null,null,null,null,null,null,null,{"$f":"IF(A56=\"\",\"\",IF(AND(A56=1,AB56=1)+OR(C56=\"\")+AND(A56+AB56>3)+OR(A56+AB56=2),\"nicht i.o.\",\"i.o.\"))","v":""}]
[null,null,null,null,null,null,null,null,null,null,null,null,null,null,null,null,null,null,null,null,null,null,null,null,null,null,null,null,null,null,{"$f":"IF(A57=\"\",\"\",IF(AND(A57=1,AB57=1)+OR(C57=\"\")+AND(A57+AB57>3)+OR(A57+AB57=2),\"nicht i.o.\",\"i.o.\"))","v":""}]
[]
[null,null,"Teams",null,null,null,null,null,null,null,null,null,null,null,"A","B","C","D","E","F","G","H","I","J","Pt.",null,"Rang",null,null,null,""]
["A",null,null,null,null,null,null,null,null,null,null,null,null,null,null,{"$f":"A6","v":""},{"$f":"A15","v":""},{"$f":"A20","v":""},{"$f":"A25","v":""},{"$f":"AD50","v":""},{"$f":"A38","v":""},{"$f":"A43","v":""},{"$f":"A33","v":""},{"$f":"AD28","v":""},{"$f":"IF(A6=\"\",\"\",(IF(O60<>\"\",O60,0))+(IF(P60<>\"\",P60,0))+(IF(Q60<>\"\",Q60,0))+(IF(R60<>\"\",R60,0))+(IF(S60<>\"\",S60,0))+(IF(T60<>\"\",T60,0))+(IF(U60<>\"\",U60,0))+(IF(V60<>\"\",V60,0))+(IF(W60<>\"\",W60,0))+(IF(X60<>\"\",X60,0)))","v":""}]
["B",null,null,null,null,null,null,null,null,null,null,null,null,null,{"$f":"AD6","v":""},null,{"$f":"A11","v":""},{"$f":"A24","v":""},{"$f":"A16","v":""},{"$f":"AD46","v":""},{"$f":"A42","v":""},{"$f":"AD27","v":""},{"$f":"AD37","v":""},{"$f":"AD32","v":""},{"$f":"IF(A6=\"\",\"\",(IF(O61<>\"\",O61,0))+(IF(P61<>\"\",P61,0))+(IF(Q61<>\"\",Q61,0))+(IF(R61<>\"\",R61,0))+(IF(S61<>\"\",S61,0))+(IF(T61<>\"\",T61,0))+(IF(U61<>\"\",U61,0))+(IF(V61<>\"\",V61,0))+(IF(W61<>\"\",W61,0))+(IF(X61<>\"\",X61,0)))","v":""}]
["C",null,null,null,null,null,null,null,null,null,null,null,null,null,{"$f":"AD15","v":""},{"$f":"AD11","v":""},null,{"$f":"A7","v":""},{"$f":"A21","v":""},{"$f":"A26","v":""},{"$f":"A34","v":""},{"$f":"A39","v":""},{"$f":"AD29","v":""},{"$f":"A47","v":""},{"$f":"IF(A7=\"\",\"\",(IF(O62<>\"\",O62,0))+(IF(P62<>\"\",P62,0))+(IF(Q62<>\"\",Q62,0))+(IF(R62<>\"\",R62,0))+(IF(S62<>\"\",S62,0))+(IF(T62<>\"\",T62,0))+(IF(U62<>\"\",U62,0))+(IF(V62<>\"\",V62,0))+(IF(W62<>\"\",W62,0))+(IF(X62<>\"\",X62,0)))","v":""}]
["D",null,null,null,null,null,null,null,null,null,null,null,null,null,{"$f":"AD20","v":""},{"$f":"AD24","v":""},{"$f":"AD7","v":""},null,{"$f":"A12","v":""},{"$f":"A17","v":""},{"$f":"A30","v":""},{"$f":"A35","v":""},{"$f":"AD49","v":""},{"$f":"A44","v":""},{"$f":"IF(A7=\"\",\"\",(IF(O63<>\"\",O63,0))+(IF(P63<>\"\",P63,0))+(IF(Q63<>\"\",Q63,0))+(IF(R63<>\"\",R63,0))+(IF(S63<>\"\",S63,0))+(IF(T63<>\"\",T63,0))+(IF(U63<>\"\",U63,0))+(IF(V63<>\"\",V63,0))+(IF(W63<>\"\",W63,0))+(IF(X63<>\"\",X63,0)))","v":""}]
["E",null,null,null,null,null,null,null,null,null,null,null,null,null,{"$f":"AD25","v":""},{"$f":"AD16","v":""},{"$f":"AD21","v":""},{"$f":"AD12","v":""},null,{"$f":"A8","v":""},{"$f":"A48","v":""},{"$f":"A31","v":""},{"$f":"A45","v":""},{"$f":"A40","v":""},{"$f":"IF(A8=\"\",\"\",(IF(O64<>\"\",O64,0))+(IF(P64<>\"\",P64,0))+(IF(Q64<>\"\",Q64,0))+(IF(R64<>\"\",R64,0))+(IF(S64<>\"\",S64,0))+(IF(T64<>\"\",T64,0))+(IF(U64<>\"\",U64,0))+(IF(V64<>\"\",V64,0))+(IF(W64<>\"\",W64,0))+(IF(X64<>\"\",X64,0)))","v":""}]
["F",null,null,null,null,null,null,null,null,null,null,null,null,null,{"$f":"A50","v":""},{"$f":"A46","v":""},{"$f":"AD26","v":""},{"$f":"AD17","v":""},{"$f":"AD8","v":""},null,{"$f":"A13","v":""},{"$f":"A22","v":""},{"$f":"A41","v":""},{"$f":"A36","v":""},{"$f":"IF(A8=\"\",\"\",(IF(O65<>\"\",O65,0))+(IF(P65<>\"\",P65,0))+(IF(Q65<>\"\",Q65,0))+(IF(R65<>\"\",R65,0))+(IF(S65<>\"\",S65,0))+(IF(T65<>\"\",T65,0))+(IF(U65<>\"\",U65,0))+(IF(V65<>\"\",V65,0))+(IF(W65<>\"\",W65,0))+(IF(X65<>\"\",X65,0)))","v":""}]
["G",null,null,null,null,null,null,null,null,null,null,null,null,null,{"$f":"AD38","v":""},{"$f":"AD42","v":""},{"$f":"AD34","v":""},{"$f":"AD30","v":""},{"$f":"AD48","v":""},{"$f":"AD13","v":""},null,{"$f":"A9","v":""},{"$f":"A18","v":""},{"$f":"A23","v":""},{"$f":"IF(A9=\"\",\"\",(IF(O66<>\"\",O66,0))+(IF(P66<>\"\",P66,0))+(IF(Q66<>\"\",Q66,0))+(IF(R66<>\"\",R66,0))+(IF(S66<>\"\",S66,0))+(IF(T66<>\"\",T66,0))+(IF(U66<>\"\",U66,0))+(IF(V66<>\"\",V66,0))+(IF(W66<>\"\",W66,0))+(IF(X66<>\"\",X66,0)))","v":""}]
["H",null,null,null,null,null,null,null,null,null,null,null,null,null,{"$f":"AD43","v":""},{"$f":"A27","v":""},{"$f":"AD39","v":""},{"$f":"AD35","v":""},{"$f":"AD31","v":""},{"$f":"AD22","v":""},{"$f":"AD9","v":""},null,{"$f":"A14","v":""},{"$f":"A19","v":""},{"$f":"IF(A9=\"\",\"\",(IF(O67<>\"\",O67,0))+(IF(P67<>\"\",P67,0))+(IF(Q67<>\"\",Q67,0))+(IF(R67<>\"\",R67,0))+(IF(S67<>\"\",S67,0))+(IF(T67<>\"\",T67,0))+(IF(U67<>\"\",U67,0))+(IF(V67<>\"\",V67,0))+(IF(W67<>\"\",W67,0))+(IF(X67<>\"\",X67,0)))","v":""}]
["I",null,null,null,null,null,null,null,null,null,null,null,null,null,{"$f":"AD33","v":""},{"$f":"A37","v":""},{"$f":"A29","v":""},{"$f":"A49","v":""},{"$f":"AD45","v":""},{"$f":"AD41","v":""},{"$f":"AD18","v":""},{"$f":"AD14","v":""},null,{"$f":"A10","v":""},{"$f":"IF(A10=\"\",\"\",(IF(O68<>\"\",O68,0))+(IF(P68<>\"\",P68,0))+(IF(Q68<>\"\",Q68,0))+(IF(R68<>\"\",R68,0))+(IF(S68<>\"\",S68,0))+(IF(T68<>\"\",T68,0))+(IF(U68<>\"\",U68,0))+(IF(V68<>\"\",V68,0))+(IF(W68<>\"\",W68,0))+(IF(X68<>\"\",X68,0)))","v":""}]
["J",null,null,null,null,null,null,null,null,null,null,null,null,null,{"$f":"A28","v":""},{"$f":"A32","v":""},{"$f":"AD47","v":""},{"$f":"AD44","v":""},{"$f":"AD40","v":""},{"$f":"AD36","v":""},{"$f":"AD23","v":""},{"$f":"AD19","v":""},{"$f":"AD10","v":""},null,{"$f":"IF(A10=\"\",\"\",(IF(O69<>\"\",O69,0))+(IF(P69<>\"\",P69,0))+(IF(Q69<>\"\",Q69,0))+(IF(R69<>\"\",R69,0))+(IF(S69<>\"\",S69,0))+(IF(T69<>\"\",T69,0))+(IF(U69<>\"\",U69,0))+(IF(V69<>\"\",V69,0))+(IF(W69<>\"\",W69,0))+(IF(X69<>\"\",X69,0)))","v":""}]
[]
[]
["½ -Finals"]
["P",1,2,3,null,"Teams",null,null,null,null,null,null,null,null,"Z-Nr.",null,"Teams",null,null,null,null,null,null,null,null,null,1,2,3,"P"]
[{"$f":"IF(B74=\"\",\"\",IF(C74=\"\",B74,IF(B74+C74=2,3,IF(D74=\"\",B74+C74,B74+C74+D74))))","v":""},null,null,null,{"$f":"IF(Worktab!A1<>\"\",Worktab!A1,IF(AA66=1,A66,IF(AA67=1,A67,IF(AA68=1,A68,IF(AA69=1,A69,\"\")))))","v":""},{"$f":"IF(Worktab!B1<>\"\",Worktab!B1,IF(AA66=1,C66,IF(AA67=1,C67,IF(AA68=1,C68,IF(AA69=1,C69,\"\")))))","v":""},null,null,null,null,null,null,null,null,46,null,{"$f":"IF(Worktab!B4<>\"\",Worktab!B4,IF(AA66=4,C66,IF(AA67=4,C67,IF(AA68=4,C68,IF(AA69=4,C69,\"\")))))","v":""},null,null,null,null,null,null,null,null,{"$f":"IF(Worktab!A4<>\"\",Worktab!A4,IF(AA66=4,A66,IF(AA67=4,A67,IF(AA68=4,A68,IF(AA69=4,A69,\"\")))))","v":""},{"$f":"IF(B74=1,\"0\",IF(B74=\"\",\"\",\"1\"))","v":""},"","",{"$f":"IF(AA74=\"\",\"\",IF(AB74=\"\",AA74,IF(AA74+AB74=2,3,IF(AC74=\"\",AA74+AB74,AA74+AB74+AC74))))","v":""},null,null,{"$f":"IF(A74=\"\",\"\",IF(AND(A74=1,AD74=1)+OR(C74=\"\")+AND(A74+AD74>3)+OR(A74+AD74=2),\"nicht i.o.\",\"i.o.\"))","v":""}]
[{"$f":"IF(B75=\"\",\"\",IF(C75=\"\",B75,IF(B75+C75=2,3,IF(D75=\"\",B75+C75,B75+C75+D75))))","v":""},null,null,null,{"$f":"IF(Worktab!A2<>\"\",Worktab!A2,IF(AA66=2,A66,IF(AA67=2,A67,IF(AA68=2,A68,IF(AA69=2,A69,\"\")))))","v":""},{"$f":"IF(Worktab!B2<>\"\",Worktab!B2,IF(AA66=2,C66,IF(AA67=2,C67,IF(AA68=2,C68,IF(AA69=2,C69,\"\")))))","v":""},null,null,null,null,null,null,null,null,47,null,{"$f":"IF(Worktab!B3<>\"\",Worktab!B3,IF(AA66=3,C66,IF(AA67=3,C67,IF(AA68=3,C68,IF(AA69=3,C69,\"\")))))","v":""},null,null,null,null,null,null,null,null,{"$f":"IF(Worktab!A3<>\"\",Worktab!A3,IF(AA66=3,A66,IF(AA67=3,A67,IF(AA68=3,A68,IF(AA69=3,A69,\"\")))))","v":""},"","","",{"$f":"IF(AA75=\"\",\"\",IF(AB75=\"\",AA75,IF(AA75+AB75=2,3,IF(AC75=\"\",AA75+AB75,AA75+AB75+AC75))))","v":""},null,null,{"$f":"IF(A75=\"\",\"\",IF(AND(A75=1,AD75=1)+OR(C75=\"\")+AND(A75+AD75>3)+OR(A75+AD75=2),\"nicht i.o.\",\"i.o.\"))","v":""},null,null,"Rangliste Final"]
["Plazierungszug 9./10.",null,null,null,null,null,null,null,null,null,null,null,null,null,null,null,null,null,null,null,null,null,null,null,null,null,null,null,null,null,null,null,null,null,null,10,null,{"$f":"IF(C62=\"\",\"\",IF(OR(A77=\"\",A77+AD77>3,A77+AD77<=2),\"\",IF(A77<=1,F77,Q77)))","v":""}]
[{"$f":"IF(B77=\"\",\"\",IF(C77=\"\",B77,IF(B77+C77=2,3,IF(D77=\"\",B77+C77,B77+C77+D77))))","v":""},null,null,null,{"$f":"IF(Worktab!A9<>\"\",Worktab!A9,IF(AA66=9,A66,IF(AA67=9,A67,IF(AA68=9,A68,IF(AA69=9,A69,\"\")))))","v":""},{"$f":"IF(Worktab!B9<>\"\",Worktab!B9,IF(AA66=9,C66,IF(AA67=9,C67,IF(AA68=9,C68,IF(AA69=9,C69,\"\")))))","v":""},null,null,null,null,null,null,null,null,48,null,{"$f":"IF(Worktab!B10<>\"\",Worktab!B10,IF(AA66=10,C66,IF(AA67=10,C67,IF(AA68=10,C68,IF(AA69=10,C69,\"\")))))","v":""},null,null,null,null,null,null,null,null,{"$f":"IF(Worktab!A10<>\"\",Worktab!A10,IF(AA66=10,A66,IF(AA67=10,A67,IF(AA68=10,A68,IF(AA69=10,A69,\"\")))))","v":""},{"$f":"IF(B77=1,\"0\",IF(B77=\"\",\"\",\"1\"))","v":""},{"$f":"IF(C77=1,\"0\",IF(C77=\"\",\"\",\"1\"))","v":""},{"$f":"IF(D77=1,\"0\",IF(D77=\"\",\"\",\"1\"))","v":""},{"$f":"IF(AA77=\"\",\"\",IF(AB77=\"\",AA77,IF(AA77+AB77=2,3,IF(AC77=\"\",AA77+AB77,AA77+AB77+AC77))))","v":""},null,null,{"$f":"IF(A77=\"\",\"\",IF(AND(A77=1,AD77=1)+OR(C77=\"\")+AND(A77+AD77>3)+OR(A77+AD77=2),\"nicht i.o.\",\"i.o.\"))","v":""},null,null,9,null,{"$f":"IF(C62=\"\",\"\",IF(OR(A77=\"\",A77+AD77>3,A77+AD77<=2),\"\",IF(A77>=2,F77,Q77)))","v":""}]
["Plazierungszug 7./8.",null,null,null,null,null,null,null,null,null,null,null,null,null,null,null,null,null,null,null,null,null,null,null,null,null,null,null,null,null,null,null,null,null,null,8,null,{"$f":"IF(C64=\"\",\"\",IF(OR(A79=\"\",A79+AD79>3,A79+AD79<=2),\"\",IF(A79<=1,F79,Q79)))","v":""}]
[{"$f":"IF(B79=\"\",\"\",IF(C79=\"\",B79,IF(B79+C79=2,3,IF(D79=\"\",B79+C79,B79+C79+D79))))","v":""},null,null,null,{"$f":"IF(Worktab!A7<>\"\",Worktab!A7,IF(AA66=7,A66,IF(AA67=7,A67,IF(AA68=7,A68,IF(AA69=7,A69,\"\")))))","v":""},{"$f":"IF(Worktab!B7<>\"\",Worktab!B7,IF(AA66=7,C66,IF(AA67=7,C67,IF(AA68=7,C68,IF(AA69=7,C69,\"\")))))","v":""},null,null,null,null,null,null,null,null,49,null,{"$f":"IF(Worktab!B8<>\"\",Worktab!B8,IF(AA66=8,C66,IF(AA67=8,C67,IF(AA68=8,C68,IF(AA69=8,C69,\"\")))))","v":""},null,null,null,null,null,null,null,null,{"$f":"IF(Worktab!A8<>\"\",Worktab!A8,IF(AA66=8,A66,IF(AA67=8,A67,IF(AA68=8,A68,IF(AA69=8,A69,\"\")))))","v":""},{"$f":"IF(B79=1,\"0\",IF(B79=\"\",\"\",\"1\"))","v":""},{"$f":"IF(C79=1,\"0\",IF(C79=\"\",\"\",\"1\"))","v":""},{"$f":"IF(D79=1,\"0\",IF(D79=\"\",\"\",\"1\"))","v":""},{"$f":"IF(AA79=\"\",\"\",IF(AB79=\"\",AA79,IF(AA79+AB79=2,3,IF(AC79=\"\",AA79+AB79,AA79+AB79+AC79))))","v":""},null,null,{"$f":"IF(A79=\"\",\"\",IF(AND(A79=1,AD79=1)+OR(C79=\"\")+AND(A79+AD79>3)+OR(A79+AD79=2),\"nicht i.o.\",\"i.o.\"))","v":""},null,null,7,null,{"$f":"IF(C64=\"\",\"\",IF(OR(A79=\"\",A79+AD79>3,A79+AD79<=2),\"\",IF(A79>=2,F79,Q79)))","v":""}]
["Plazierungszug 5./6.",null,null,null,null,null,null,null,null,null,null,null,null,null,null,null,null,null,null,null,null,null,null,null,null,null,null,null,null,null,null,null,null,null,null,6,null,{"$f":"IF(C64=\"\",\"\",IF(OR(A81=\"\",A81+AD81>3,A81+AD81<=2),\"\",IF(A81<=1,F81,Q81)))","v":""}]
[{"$f":"IF(B81=\"\",\"\",IF(C81=\"\",B81,IF(B81+C81=2,3,IF(D81=\"\",B81+C81,B81+C81+D81))))","v":""},null,null,null,{"$f":"IF(Worktab!A5<>\"\",Worktab!A5,IF(AA66=5,A66,IF(AA67=5,A67,IF(AA68=5,A68,IF(AA69=5,A69,\"\")))))","v":""},{"$f":"IF(Worktab!B5<>\"\",Worktab!B5,IF(AA66=5,C66,IF(AA67=5,C67,IF(AA68=5,C68,IF(AA69=5,C69,\"\")))))","v":""},null,null,null,null,null,null,null,null,50,null,{"$f":"IF(Worktab!B6<>\"\",Worktab!B6,IF(AA66=6,C66,IF(AA67=6,C67,IF(AA68=6,C68,IF(AA69=6,C69,\"\")))))","v":""},null,null,null,null,null,null,null,null,{"$f":"IF(Worktab!A6<>\"\",Worktab!A6,IF(AA66=6,A66,IF(AA67=6,A67,IF(AA68=6,A68,IF(AA69=6,A69,\"\")))))","v":""},{"$f":"IF(B81=1,\"0\",IF(B81=\"\",\"\",\"1\"))","v":""},{"$f":"IF(C81=1,\"0\",IF(C81=\"\",\"\",\"1\"))","v":""},{"$f":"IF(D81=1,\"0\",IF(D81=\"\",\"\",\"1\"))","v":""},{"$f":"IF(AA81=\"\",\"\",IF(AB81=\"\",AA81,IF(AA81+AB81=2,3,IF(AC81=\"\",AA81+AB81,AA81+AB81+AC81))))","v":""},null,null,{"$f":"IF(A81=\"\",\"\",IF(AND(A81=1,AD81=1)+OR(C81=\"\")+AND(A81+AD81>3)+OR(A81+AD81=2),\"nicht i.o.\",\"i.o.\"))","v":""},null,null,5,null,{"$f":"IF(C64=\"\",\"\",IF(OR(A81=\"\",A81+AD81>3,A81+AD81<=2),\"\",IF(A81>=2,F81,Q81)))","v":""}]
["Kleiner Final",null,null,null,null,null,null,null,null,null,null,null,null,null,null,null,null,null,null,null,null,null,null,null,null,null,null,null,null,null,null,null,null,null,null,4,null,{"$f":"IF(C64=\"\",\"\",IF(OR(A83=\"\",A83+AD83>3,A83+AD83<=2),\"\",IF(A83<=1,F83,Q83)))","v":""}]
[{"$f":"IF(B83=\"\",\"\",IF(C83=\"\",B83,IF(B83+C83=2,3,IF(D83=\"\",B83+C83,B83+C83+D83))))","v":""},null,null,null,{"$f":"IF(A74=\"\",\"\",IF(A74>1,Z74,E74))","v":""},{"$f":"IF(A74=\"\",\"\",IF(A74>1,Q74,F74))","v":""},null,null,null,null,null,null,null,null,51,null,{"$f":"IF(A75=\"\",\"\",IF(A75>1,Q75,F75))","v":""},null,null,null,null,null,null,null,null,{"$f":"IF(A75=\"\",\"\",IF(A75>1,Z75,E75))","v":""},{"$f":"IF(B83=1,\"0\",IF(B83=\"\",\"\",\"1\"))","v":""},{"$f":"IF(C83=1,\"0\",IF(C83=\"\",\"\",\"1\"))","v":""},{"$f":"IF(D83=1,\"0\",IF(D83=\"\",\"\",\"1\"))","v":""},{"$f":"IF(AA83=\"\",\"\",IF(AB83=\"\",AA83,IF(AA83+AB83=2,3,IF(AC83=\"\",AA83+AB83,AA83+AB83+AC83))))","v":""},null,null,{"$f":"IF(A83=\"\",\"\",IF(AND(A83=1,AD83=1)+OR(C83=\"\")+AND(A83+AD83>3)+OR(A83+AD83=2),\"nicht i.o.\",\"i.o.\"))","v":""},null,null,3,null,{"$f":"IF(C64=\"\",\"\",IF(OR(A83=\"\",A83+AD83>3,A83+AD83<=2),\"\",IF(A83>=2,F83,Q83)))","v":""}]
["Final",null,null,null,null,null,null,null,null,null,null,null,null,null,null,null,null,null,null,null,null,null,null,null,null,null,null,null,null,null,null,null,null,null,null,2,null,{"$f":"IF(C64=\"\",\"\",IF(OR(A85=\"\",A85+AD85>3,A85+AD85<=2),\"\",IF(A85<=1,F85,Q85)))","v":""}]
[{"$f":"IF(B85=\"\",\"\",IF(C85=\"\",B85,IF(B85+C85=2,3,IF(D85=\"\",B85+C85,B85+C85+D85))))","v":""},null,null,null,{"$f":"IF(A74=\"\",\"\",IF(A74<2,Z74,E74))","v":""},{"$f":"IF(A74=\"\",\"\",IF(A74<2,Q74,F74))","v":""},null,null,null,null,null,null,null,null,52,null,{"$f":"IF(A75=\"\",\"\",IF(A75<2,Q75,F75))","v":""},null,null,null,null,null,null,null,null,{"$f":"IF(A75=\"\",\"\",IF(A75<2,Z75,E75))","v":""},{"$f":"IF(B85=1,\"0\",IF(B85=\"\",\"\",\"1\"))","v":""},{"$f":"IF(C85=1,\"0\",IF(C85=\"\",\"\",\"1\"))","v":""},{"$f":"IF(D85=1,\"0\",IF(D85=\"\",\"\",\"1\"))","v":""},{"$f":"IF(AA85=\"\",\"\",IF(AB85=\"\",AA85,IF(AA85+AB85=2,3,IF(AC85=\"\",AA85+AB85,AA85+AB85+AC85))))","v":""},null,null,{"$f":"IF(A85=\"\",\"\",IF(AND(A85=1,AD85=1)+OR(C85=\"\")+AND(A85+AD85>3)+OR(A85+AD85=2),\"nicht i.o.\",\"i.o.\"))","v":""},null,null,1,null,{"$f":"IF(C64=\"\",\"\",IF(OR(A85=\"\",A85+AD85>3,A85+AD85<=2),\"\",IF(A85>=2,F85,Q85)))","v":""}]

{"sheet":"Rangliste Final","index":1,"n_rows":22,"n_cols":7,"rows_kept":22,"cut":false,"hidden":false,"merged":[[4,0,4,6],[8,0,8,6],[0,0,0,6]]}
["OSM"]
[]
[null,null,null,null,null,null,"Datum:"]
[]
["Turnier Sevelen"]
[]
[null,"Pokal-Sponsor: "]
[]
["Besten Dank fürs mitmachen."]
[]
[null,"Rangliste"]
[]
[null,"1.",{"$f":"'10er'!AL85","v":""}]
[null,"2.",{"$f":"'10er'!AL84","v":""}]
[null,"3.",{"$f":"'10er'!AL83","v":""}]
[null,"4.",{"$f":"'10er'!AL82","v":""}]
[null,"5.",{"$f":"'10er'!AL81","v":""}]
[null,"6.",{"$f":"'10er'!AL80","v":""}]
[null,"7.",{"$f":"'10er'!AL79","v":""}]
[null,"8.",{"$f":"'10er'!AL78","v":""}]
[null,"9.",{"$f":"'10er'!AL77","v":""}]
[null,"10.",{"$f":"'10er'!AL76","v":""}]

{"sheet":"Worktab","index":2,"n_rows":10,"n_cols":3,"rows_kept":10,"cut":false,"hidden":false,"merged":[]}
[{"$f":"IF('10er'!AA60=\"\",\"\",IF('10er'!AA60=1,'10er'!A60,IF('10er'!AA61=1,'10er'!A61,IF('10er'!AA62=1,'10er'!A62,IF('10er'!AA63=1,'10er'!A63,IF('10er'!AA64=1,'10er'!A64,IF('10er'!AA65=1,'10er'!A65,\"\")))))))","v":""},{"$f":"IF('10er'!AA60=\"\",\"\",IF('10er'!AA60=1,'10er'!C60,IF('10er'!AA61=1,'10er'!C61,IF('10er'!AA62=1,'10er'!C62,IF('10er'!AA63=1,'10er'!C63,IF('10er'!AA64=1,'10er'!C64,IF('10er'!AA65=1,'10er'!C65,\"\")))))))","v":""},{"$f":"IF('10er'!AA60=\"\",\"\",IF('10er'!AA60=1,'10er'!Y60,IF('10er'!AA61=1,'10er'!Y61,IF('10er'!AA62=1,'10er'!Y62,IF('10er'!AA63=1,'10er'!Y63,IF('10er'!AA64=1,'10er'!Y64,IF('10er'!AA65=1,'10er'!Y65,\"\")))))))","v":""}]
[{"$f":"IF('10er'!AA60=\"\",\"\",IF('10er'!AA60=2,'10er'!A60,IF('10er'!AA61=2,'10er'!A61,IF('10er'!AA62=2,'10er'!A62,IF('10er'!AA63=2,'10er'!A63,IF('10er'!AA64=2,'10er'!A64,IF('10er'!AA65=2,'10er'!A65,\"\")))))))","v":""},{"$f":"IF('10er'!AA60=\"\",\"\",IF('10er'!AA60=2,'10er'!C60,IF('10er'!AA61=2,'10er'!C61,IF('10er'!AA62=2,'10er'!C62,IF('10er'!AA63=2,'10er'!C63,IF('10er'!AA64=2,'10er'!C64,IF('10er'!AA65=2,'10er'!C65,\"\")))))))","v":""}]
[{"$f":"IF('10er'!AA60=\"\",\"\",IF('10er'!AA60=3,'10er'!A60,IF('10er'!AA61=3,'10er'!A61,IF('10er'!AA62=3,'10er'!A62,IF('10er'!AA63=3,'10er'!A63,IF('10er'!AA64=3,'10er'!A64,IF('10er'!AA65=3,'10er'!A65,\"\")))))))","v":""},{"$f":"IF('10er'!AA60=\"\",\"\",IF('10er'!AA60=3,'10er'!C60,IF('10er'!AA61=3,'10er'!C61,IF('10er'!AA62=3,'10er'!C62,IF('10er'!AA63=3,'10er'!C63,IF('10er'!AA64=3,'10er'!C64,IF('10er'!AA65=3,'10er'!C65,\"\")))))))","v":""}]
[{"$f":"IF('10er'!AA60=\"\",\"\",IF('10er'!AA60=4,'10er'!A60,IF('10er'!AA61=4,'10er'!A61,IF('10er'!AA62=4,'10er'!A62,IF('10er'!AA63=4,'10er'!A63,IF('10er'!AA64=4,'10er'!A64,IF('10er'!AA65=4,'10er'!A65,\"\")))))))","v":""},{"$f":"IF('10er'!AA60=\"\",\"\",IF('10er'!AA60=4,'10er'!C60,IF('10er'!AA61=4,'10er'!C61,IF('10er'!AA62=4,'10er'!C62,IF('10er'!AA63=4,'10er'!C63,IF('10er'!AA64=4,'10er'!C64,IF('10er'!AA65=4,'10er'!C65,\"\")))))))","v":""}]
[{"$f":"IF('10er'!AA60=\"\",\"\",IF('10er'!AA60=5,'10er'!A60,IF('10er'!AA61=5,'10er'!A61,IF('10er'!AA62=5,'10er'!A62,IF('10er'!AA63=5,'10er'!A63,IF('10er'!AA64=5,'10er'!A64,IF('10er'!AA65=5,'10er'!A65,\"\")))))))","v":""},{"$f":"IF('10er'!AA60=\"\",\"\",IF('10er'!AA60=5,'10er'!C60,IF('10er'!AA61=5,'10er'!C61,IF('10er'!AA62=5,'10er'!C62,IF('10er'!AA63=5,'10er'!C63,IF('10er'!AA64=5,'10er'!C64,IF('10er'!AA65=5,'10er'!C65,\"\")))))))","v":""}]
[{"$f":"IF('10er'!AA60=\"\",\"\",IF('10er'!AA60=6,'10er'!A60,IF('10er'!AA61=6,'10er'!A61,IF('10er'!AA62=6,'10er'!A62,IF('10er'!AA63=6,'10er'!A63,IF('10er'!AA64=6,'10er'!A64,IF('10er'!AA65=6,'10er'!A65,\"\")))))))","v":""},{"$f":"IF('10er'!AA60=\"\",\"\",IF('10er'!AA60=6,'10er'!C60,IF('10er'!AA61=6,'10er'!C61,IF('10er'!AA62=6,'10er'!C62,IF('10er'!AA63=6,'10er'!C63,IF('10er'!AA64=6,'10er'!C64,IF('10er'!AA65=6,'10er'!C65,\"\")))))))","v":""}]
[{"$f":"IF('10er'!AA60=\"\",\"\",IF('10er'!AA60=7,'10er'!A60,IF('10er'!AA61=7,'10er'!A61,IF('10er'!AA62=7,'10er'!A62,IF('10er'!AA63=7,'10er'!A63,IF('10er'!AA64=7,'10er'!A64,IF('10er'!AA65=7,'10er'!A65,\"\")))))))","v":""},{"$f":"IF('10er'!AA60=\"\",\"\",IF('10er'!AA60=7,'10er'!C60,IF('10er'!AA61=7,'10er'!C61,IF('10er'!AA62=7,'10er'!C62,IF('10er'!AA63=7,'10er'!C63,IF('10er'!AA64=7,'10er'!C64,IF('10er'!AA65=7,'10er'!C65,\"\")))))))","v":""}]
[{"$f":"IF('10er'!AA60=\"\",\"\",IF('10er'!AA60=8,'10er'!A60,IF('10er'!AA61=8,'10er'!A61,IF('10er'!AA62=8,'10er'!A62,IF('10er'!AA63=8,'10er'!A63,IF('10er'!AA64=8,'10er'!A64,IF('10er'!AA65=8,'10er'!A65,\"\")))))))","v":""},{"$f":"IF('10er'!AA60=\"\",\"\",IF('10er'!AA60=8,'10er'!C60,IF('10er'!AA61=8,'10er'!C61,IF('10er'!AA62=8,'10er'!C62,IF('10er'!AA63=8,'10er'!C63,IF('10er'!AA64=8,'10er'!C64,IF('10er'!AA65=8,'10er'!C65,\"\")))))))","v":""}]
[{"$f":"IF('10er'!AA60=\"\",\"\",IF('10er'!AA60=9,'10er'!A60,IF('10er'!AA61=9,'10er'!A61,IF('10er'!AA62=9,'10er'!A62,IF('10er'!AA63=9,'10er'!A63,IF('10er'!AA64=9,'10er'!A64,IF('10er'!AA65=9,'10er'!A65,\"\")))))))","v":""},{"$f":"IF('10er'!AA60=\"\",\"\",IF('10er'!AA60=9,'10er'!C60,IF('10er'!AA61=9,'10er'!C61,IF('10er'!AA62=9,'10er'!C62,IF('10er'!AA63=9,'10er'!C63,IF('10er'!AA64=9,'10er'!C64,IF('10er'!AA65=9,'10er'!C65,\"\")))))))","v":""}]
[{"$f":"IF('10er'!AA60=\"\",\"\",IF('10er'!AA60=10,'10er'!A60,IF('10er'!AA61=10,'10er'!A61,IF('10er'!AA62=10,'10er'!A62,IF('10er'!AA63=10,'10er'!A63,IF('10er'!AA64=10,'10er'!A64,IF('10er'!AA65=10,'10er'!A65,\"\")))))))","v":""},{"$f":"IF('10er'!AA60=\"\",\"\",IF('10er'!AA60=10,'10er'!C60,IF('10er'!AA61=10,'10er'!C61,IF('10er'!AA62=10,'10er'!C62,IF('10er'!AA63=10,'10er'!C63,IF('10er'!AA64=10,'10er'!C64,IF('10er'!AA65=10,'10er'!C65,\"\")))))))","v":""}]