{"text_format":"1","workbook":"xlsx","n_sheets":4,"sheets":["9er","Rangliste Vorrunde","Rangliste Final","Worktab"],"not_rendered":{"charts":0,"images":0,"macros":1,"external_links":0,"defined_names":3,"comments":0,"pivot_tables":0},"unopened":[],"bounds":{"document_bytes":16777216,"sheet_cells":100000,"rows_first":2000,"rows_last":500,"rows_between":2000,"halvings":0,"cell_chars":16384,"cell_head_chars":4096},"cells_cut":0,"cells_raw":0,"read":"whole","date_system":"1900"}

{"sheet":"9er","index":0,"n_rows":65,"n_cols":37,"rows_kept":65,"cut":false,"hidden":false,"merged":[[56,15,56,22],[58,15,58,22],[60,15,60,22],[56,5,56,12],[62,15,62,22],[64,15,64,22],[62,5,62,12],[64,5,64,12],[1,2,1,9],[1,13,1,17],[60,13,60,14],[56,13,56,14],[58,5,58,12],[60,5,60,12],[62,13,62,14],[58,13,58,14],[37,14,37,15],[37,16,37,24],[38,5,38,13],[38,14,38,15],[38,16,38,24],[35,5,35,13],[35,14,35,15],[35,16,35,24],[1,24,1,29],[2,5,2,12],[0,7,0,22],[64,13,64,14],[7,5,7,13],[7,14,7,15],[7,16,7,24],[8,14,8,15],[9,14,9,15],[10,14,10,15],[40,5,40,13],[40,14,40,15],[40,16,40,24],[55,13,55,14],[55,5,55,12],[55,15,55,22],[50,2,50,15],[51,2,51,15],[42,2,42,15],[43,2,43,15],[39,5,39,13],[39,14,39,15],[39,16,39,24],[37,5,37,13],[36,5,36,13],[36,14,36,15],[36,16,36,24],[33,5,33,13],[33,14,33,15],[33,16,33,24],[34,5,34,13],[34,14,34,15],[34,16,34,24],[31,5,31,13],[31,14,31,15],[31,16,31,24],[32,5,32,13],[32,14,32,15],[32,16,32,24],[29,5,29,13],[29,14,29,15],[29,16,29,24],[30,5,30,13],[30,14,30,15],[30,16,30,24],[27,5,27,13],[27,14,27,15],[27,16,27,24],[28,5,28,13],[28,14,28,15],[28,16,28,24],[25,5,25,13],[25,14,25,15],[25,16,25,24],[26,5,26,13],[26,14,26,15],[26,16,26,24],[23,5,23,13],[23,14,23,15],[23,16,23,24],[24,5,24,13],[24,14,24,15],[24,16,24,24],[21,5,21,13],[21,14,21,15],[21,16,21,24],[22,5,22,13],[22,14,22,15],[22,16,22,24],[19,5,19,13],[19,14,19,15],[19,16,19,24],[20,5,20,13],[20,14,20,15],[20,16,20,24],[17,5,17,13],[17,14,17,15],[17,16,17,24],[18,5,18,13],[18,14,18,15],[18,16,18,24],[15,5,15,13],[15,14,15,15],[15,16,15,24],[16,5,16,13],[16,14,16,15],[16,16,16,24],[13,5,13,13],[13,14,13,15],[13,16,13,24],[14,5,14,13],[14,14,14,15],[14,16,14,24],[11,5,11,13],[11,16,11,24],[12,5,12,13],[12,14,12,15],[12,16,12,24],[11,14,11,15],[6,14,6,15],[6,16,6,24],[8,5,8,13],[8,16,8,24],[6,5,6,13],[9,5,9,13],[9,16,9,24],[4,16,4,24],[5,5,5,13],[5,14,5,15],[5,16,5,24],[51,0,51,1],[51,25,51,26],[51,27,51,29],[50,0,50,1],[50,25,50,26],[50,27,50,29],[49,0,49,1],[49,25,49,26],[49,27,49,29],[48,0,48,1],[48,25,48,26],[48,27,48,29],[48,2,48,15],[49,2,49,15],[47,0,47,1],[47,25,47,26],[47,27,47,29],[46,0,46,1],[10,5,10,13],[10,16,10,24],[0,31,4,31],[42,27,42,29],[42,25,42,26],[42,0,42,1],[43,0,43,1],[43,25,43,26],[43,27,43,29],[54,5,54,12],[54,15,54,22],[54,13,54,14],[46,25,46,26],[46,27,46,29],[46,2,46,15],[47,2,47,15],[45,0,45,1],[45,25,45,26],[45,27,45,29],[44,0,44,1],[44,25,44,26],[44,27,44,29],[44,2,44,15],[45,2,45,15],[4,5,4,13],[4,14,4,15]]}
[null,null,null,null,null,null,null,"OSM",null,null,null,null,null,null,null,null,null,null,null,null,null,null,null,null,null,null,null,null,null,null," ","Prüfung"]
["Turnier:",null,null,null,null,null,null,null,null,null,null,"Datum:",null,null,null,null,null,null,null,"Gewichtsklasse:",null,null,null,null,null,null,null,null,null,null," "]
["Turnierleiter:"]
[null,null,null,null,null,null,null,null,null,null,null,null,null,null,null,null,null,null,null,null,null,null,null,null,null,"9-Turnier"]
["P",1,2,3,null,"Teams",null,null,null,null,null,null,null,null,"Z-Nr.",null,"Teams",null,null,null,null,null,null,null,null,null,1,2,3,"P","Zeit:"]
[{"$f":"IF(B6=\"\",\"\",IF(C6=\"\",B6,IF(B6+C6=2,3,IF(D6=\"\",B6+C6,B6+C6+D6))))","v":""},null,null,null,"A",{"$f":"IF(C44=\"\",\"\",C44)","v":""},null,null,null,null,null,null,null,null,1,null,{"$f":"IF(C45=\"\",\"\",C45)","v":""},null,null,null,null,null,null,null,null,"B",{"$f":"IF(B6=1,\"0\",IF(B6=\"\",\"\",\"1\"))","v":""},{"$f":"IF(C6=1,\"0\",IF(C6=\"\",\"\",\"1\"))","v":""},{"$f":"IF(D6=1,\"0\",IF(D6=\"\",\"\",\"1\"))","v":""},{"$f":"IF(AA6=\"\",\"\",IF(AB6=\"\",AA6,IF(AA6+AB6=2,3,IF(AC6=\"\",AA6+AB6,AA6+AB6+AC6))))","v":""}," ",{"$f":"IF(A6=\"\",\"\",IF(AND(A6=1,AB6=1)+OR(C6=\"\")+AND(A6+AD6>3)+OR(A6+AD6=2),\"nicht i.o.\",\"i.o.\"))","v":""}]
[{"$f":"IF(B7=\"\",\"\",IF(C7=\"\",B7,IF(B7+C7=2,3,IF(D7=\"\",B7+C7,B7+C7+D7))))","v":""},null,null,null,"C",{"$f":"IF(C46=\"\",\"\",C46)","v":""},null,null,null,null,null,null,null,null,2,null,{"$f":"IF(C47=\"\",\"\",C47)","v":""},null,null,null,null,null,null,null,null,"D",{"$f":"IF(B7=1,\"0\",IF(B7=\"\",\"\",\"1\"))","v":""},{"$f":"IF(C7=1,\"0\",IF(C7=\"\",\"\",\"1\"))","v":""},{"$f":"IF(D7=1,\"0\",IF(D7=\"\",\"\",\"1\"))","v":""},{"$f":"IF(AA7=\"\",\"\",IF(AB7=\"\",AA7,IF(AA7+AB7=2,3,IF(AC7=\"\",AA7+AB7,AA7+AB7+AC7))))","v":""},null,{"$f":"IF(A7=\"\",\"\",IF(AND(A7=1,AB7=1)+OR(C7=\"\")+AND(A7+AD7>3)+OR(A7+AD7=2),\"nicht i.o.\",\"i.o.\"))","v":""}]
["",null,null,null,"E",{"$f":"IF(C48=\"\",\"\",C48)","v":""},null,null,null,null,null,null,null,null,3,null,{"$f":"IF(C49=\"\",\"\",C49)","v":""},null,null,null,null,null,null,null,null,"F","","","","",null,""]
["",null,null,null,"G",{"$f":"IF(C50=\"\",\"\",C50)","v":""},null,null,null,null,null,null,null,null,4,null,{"$f":"IF(C51=\"\",\"\",C51)","v":""},null,null,null,null,null,null,null,null,"H","","","","",null,""]
["",null,null,null,"I",{"$f":"IF(C52=\"\",\"\",C52)","v":""},null,null,null,null,null,null,null,null,5,null,{"$f":"IF(C44=\"\",\"\",C44)","v":""},null,null,null,null,null,null,null,null,"A","","","","",null,""]
["",null,null,null,"B",{"$f":"IF(C45=\"\",\"\",C45)","v":""},null,null,null,null,null,null,null,null,6,null,{"$f":"IF(C46=\"\",\"\",C46)","v":""},null,null,null,null,null,null,null,null,"C","","","","",null,""]
["",null,null,null,"F",{"$f":"IF(C49=\"\",\"\",C49)","v":""},null,null,null,null,null,null,null,null,7,null,{"$f":"IF(C50=\"\",\"\",C50)","v":""},null,null,null,null,null,null,null,null,"G","","","","",null,""]
["",null,null,null,"D",{"$f":"IF(C47=\"\",\"\",C47)","v":""},null,null,null,null,null,null,null,null,8,null,{"$f":"IF(C48=\"\",\"\",C48)","v":""},null,null,null,null,null,null,null,null,"E","","","","",null,""]
["",null,null,null,"H",{"$f":"IF(C51=\"\",\"\",C51)","v":""},null,null,null,null,null,null,null,null,9,null,{"$f":"IF(C52=\"\",\"\",C52)","v":""},null,null,null,null,null,null,null,null,"I","","","","",null,""]
["",null,null,null,"A",{"$f":"IF(C44=\"\",\"\",C44)","v":""},null,null,null,null,null,null,null,null,10,null,{"$f":"IF(C46=\"\",\"\",C46)","v":""},null,null,null,null,null,null,null,null,"C","","","","",null,""]
["",null,null,null,"B",{"$f":"IF(C45=\"\",\"\",C45)","v":""},null,null,null,null,null,null,null,null,11,null,{"$f":"IF(C47=\"\",\"\",C47)","v":""},null,null,null,null,null,null,null,null,"D","","","","",null,""]
["",null,null,null,"G",{"$f":"IF(C50=\"\",\"\",C50)","v":""},null,null,null,null,null,null,null,null,12,null,{"$f":"IF(C52=\"\",\"\",C52)","v":""},null,null,null,null,null,null,null,null,"I","","","","",null,""]
["",null,null,null,"C",{"$f":"IF(C46=\"\",\"\",C46)","v":""},null,null,null,null,null,null,null,null,13,null,{"$f":"IF(C48=\"\",\"\",C48)","v":""},null,null,null,null,null,null,null,null,"E","","","","",null,""]
["",null,null,null,"D",{"$f":"IF(C47=\"\",\"\",C47)","v":""},null,null,null,null,null,null,null,null,14,null,{"$f":"IF(C49=\"\",\"\",C49)","v":""},null,null,null,null,null,null,null,null,"F","","","","",null,""]
["",null,null,null,"B",{"$f":"IF(C45=\"\",\"\",C45)","v":""},null,null,null,null,null,null,null,null,15,null,{"$f":"IF(C52=\"\",\"\",C52)","v":""},null,null,null,null,null,null,null,null,"I","","","","",null,""]
["",null,null,null,"E",{"$f":"IF(C48=\"\",\"\",C48)","v":""},null,null,null,null,null,null,null,null,16,null,{"$f":"IF(C50=\"\",\"\",C50)","v":""},null,null,null,null,null,null,null,null,"G","","","","",null,""]
["",null,null,null,"F",{"$f":"IF(C49=\"\",\"\",C49)","v":""},null,null,null,null,null,null,null,null,17,null,{"$f":"IF(C51=\"\",\"\",C51)","v":""},null,null,null,null,null,null,null,null,"H","","","","",null,""]
["",null,null,null,"A",{"$f":"IF(C44=\"\",\"\",C44)","v":""},null,null,null,null,null,null,null,null,18,null,{"$f":"IF(C47=\"\",\"\",C47)","v":""},null,null,null,null,null,null,null,null,"D","","","","",null,""]
["",null,null,null,"B",{"$f":"IF(C45=\"\",\"\",C45)","v":""},null,null,null,null,null,null,null,null,19,null,{"$f":"IF(C48=\"\",\"\",C48)","v":""},null,null,null,null,null,null,null,null,"E","","","","",null,""]
["",null,null,null,"C",{"$f":"IF(C46=\"\",\"\",C46)","v":""},null,null,null,null,null,null,null,null,20,null,{"$f":"IF(C49=\"\",\"\",C49)","v":""},null,null,null,null,null,null,null,null,"F","","","","",null,""]
["",null,null,null,"D",{"$f":"IF(C47=\"\",\"\",C47)","v":""},null,null,null,null,null,null,null,null,21,null,{"$f":"IF(C50=\"\",\"\",C50)","v":""},null,null,null,null,null,null,null,null,"G","","","","",null,""]
["",null,null,null,"E",{"$f":"IF(C48=\"\",\"\",C48)","v":""},null,null,null,null,null,null,null,null,22,null,{"$f":"IF(C51=\"\",\"\",C51)","v":""},null,null,null,null,null,null,null,null,"H","","","","",null,""]
["",null,null,null,"B",{"$f":"IF(C45=\"\",\"\",C45)","v":""},null,null,null,null,null,null,null,null,23,null,{"$f":"IF(C49=\"\",\"\",C49)","v":""},null,null,null,null,null,null,null,null,"F","","","","",null,""]
["",null,null,null,"C",{"$f":"IF(C46=\"\",\"\",C46)","v":""},null,null,null,null,null,null,null,null,24,null,{"$f":"IF(C52=\"\",\"\",C52)","v":""},null,null,null,null,null,null,null,null,"I","","","","",null,""]
["",null,null,null,"A",{"$f":"IF(C44=\"\",\"\",C44)","v":""},null,null,null,null,null,null,null,null,25,null,{"$f":"IF(C48=\"\",\"\",C48)","v":""},null,null,null,null,null,null,null,null,"E","","","","",null,""]
["",null,null,null,"D",{"$f":"IF(C47=\"\",\"\",C47)","v":""},null,null,null,null,null,null,null,null,26,null,{"$f":"IF(C51=\"\",\"\",C51)","v":""},null,null,null,null,null,null,null,null,"H","","","","",null,""]
["",null,null,null,"F",{"$f":"IF(C49=\"\",\"\",C49)","v":""},null,null,null,null,null,null,null,null,27,null,{"$f":"IF(C52=\"\",\"\",C52)","v":""},null,null,null,null,null,null,null,null,"I","","","","",null,""]
["",null,null,null,"B",{"$f":"IF(C45=\"\",\"\",C45)","v":""},null,null,null,null,null,null,null,null,28,null,{"$f":"IF(C50=\"\",\"\",C50)","v":""},null,null,null,null,null,null,null,null,"G","","","","",null,""]
["",null,null,null,"A",{"$f":"IF(C44=\"\",\"\",C44)","v":""},null,null,null,null,null,null,null,null,29,null,{"$f":"IF(C51=\"\",\"\",C51)","v":""},null,null,null,null,null,null,null,null,"H","","","","",null,""]
["",null,null,null,"D",{"$f":"IF(C47=\"\",\"\",C47)","v":""},null,null,null,null,null,null,null,null,30,null,{"$f":"IF(C52=\"\",\"\",C52)","v":""},null,null,null,null,null,null,null,null,"I","","","","",null,""]
["",null,null,null,"C",{"$f":"IF(C46=\"\",\"\",C46)","v":""},null,null,null,null,null,null,null,null,31,null,{"$f":"IF(C50=\"\",\"\",C50)","v":""},null,null,null,null,null,null,null,null,"G","","","","",null,""]
["",null,null,null,"B",{"$f":"IF(C45=\"\",\"\",C45)","v":""},null,null,null,null,null,null,null,null,32,null,{"$f":"IF(C51=\"\",\"\",C51)","v":""},null,null,null,null,null,null,null,null,"H","","","","",null,""]
["",null,null,null,"A",{"$f":"IF(C44=\"\",\"\",C44)","v":""},null,null,null,null,null,null,null,null,33,null,{"$f":"IF(C49=\"\",\"\",C49)","v":""},null,null,null,null,null,null,null,null,"F","","","","",null,""]
["",null,null,null,"E",{"$f":"IF(C48=\"\",\"\",C48)","v":""},null,null,null,null,null,null,null,null,34,null,{"$f":"IF(C52=\"\",\"\",C52)","v":""},null,null,null,null,null,null,null,null,"I","","","","",null,""]
["",null,null,null,"C",{"$f":"IF(C46=\"\",\"\",C46)","v":""},null,null,null,null,null,null,null,null,35,null,{"$f":"IF(C51=\"\",\"\",C51)","v":""},null,null,null,null,null,null,null,null,"H","","","","",null,""]
["",null,null,null,"A",{"$f":"IF(C44=\"\",\"\",C44)","v":""},null,null,null,null,null,null,null,null,36,null,{"$f":"IF(C50=\"\",\"\",C50)","v":""},null,null,null,null,null,null,null,null,"G","","","",""," ",""]
[null,null,null,null,null,null,null,null,null,null,null,null,null,null,null,null,null,null,null,null,null,null,null,null,null,null,null,null,null,null,null,null,null,null,"Rangliste Vorrunde"]
[null,null,"Teams",null,null,null,null,null,null,null,null,null,null,null,null,null,"A","B","C","D","E","F","G","H","I","Pt.",null,"Rang"]
["A",null,null,null,null,null,null,null,null,null,null,null,null,null,null,null,null,{"$f":"A6","v":""},{"$f":"A15","v":""},{"$f":"A23","v":""},{"$f":"A30","v":""},{"$f":"A38","v":""},{"$f":"A41","v":""},{"$f":"A34","v":""},{"$f":"AD10","v":""},{"$f":"IF(A6=\"\",\"\",(IF(Q44<>\"\",Q44,0))+(IF(R44<>\"\",R44,0))+(IF(S44<>\"\",S44,0))+(IF(T44<>\"\",T44,0))+(IF(U44<>\"\",U44,0))+(IF(V44<>\"\",V44,0))+(IF(W44<>\"\",W44,0))+(IF(X44<>\"\",X44,0))+(IF(Y44<>\"\",Y44,0)))","v":""},null,null,null,null,null,null,null,null,1,null,{"$f":"IF(AB44=\"\",\"\",IF(AB44=1,C44,IF(AB45=1,C45,IF(AB45=1,C45,IF(AB46=1,C46,IF(AB47=1,C47,IF(AB48=1,C48,IF(AB49=1,C49,IF(AB50=1,C50,IF(AB51=1,C51,C52))))))))))","v":""}]
["B",null,null,null,null,null,null,null,null,null,null,null,null,null,null,null,{"$f":"AD6","v":""},null,{"$f":"A11","v":""},{"$f":"A16","v":""},{"$f":"A24","v":""},{"$f":"A28","v":""},{"$f":"A33","v":""},{"$f":"A37","v":""},{"$f":"A20","v":""},{"$f":"IF(A6=\"\",\"\",(IF(Q45<>\"\",Q45,0))+(IF(R45<>\"\",R45,0))+(IF(S45<>\"\",S45,0))+(IF(T45<>\"\",T45,0))+(IF(U45<>\"\",U45,0))+(IF(V45<>\"\",V45,0))+(IF(W45<>\"\",W45,0))+(IF(X45<>\"\",X45,0))+(IF(Y45<>\"\",Y45,0)))","v":""},null,null,null,null,null,null,null,null,2,null,{"$f":"IF(AB44=\"\",\"\",IF(AB44=2,C44,IF(AB45=2,C45,IF(AB45=2,C45,IF(AB46=2,C46,IF(AB47=2,C47,IF(AB48=2,C48,IF(AB49=2,C49,IF(AB50=2,C50,IF(AB51=2,C51,C52))))))))))","v":""}]
["C",null,null,null,null,null,null,null,null,null,null,null,null,null,null,null,{"$f":"AD15","v":""},{"$f":"AD11","v":""},null,{"$f":"A7","v":""},{"$f":"A18","v":""},{"$f":"A25","v":""},{"$f":"A36","v":""},{"$f":"A40","v":""},{"$f":"A29","v":""},{"$f":"IF(A7=\"\",\"\",(IF(Q46<>\"\",Q46,0))+(IF(R46<>\"\",R46,0))+(IF(S46<>\"\",S46,0))+(IF(T46<>\"\",T46,0))+(IF(U46<>\"\",U46,0))+(IF(V46<>\"\",V46,0))+(IF(W46<>\"\",W46,0))+(IF(X46<>\"\",X46,0))+(IF(Y46<>\"\",Y46,0)))","v":""},null,null,null,null,null,null,null,null,3,null,{"$f":"IF(AB44=\"\",\"\",IF(AB44=3,C44,IF(AB45=3,C45,IF(AB45=3,C45,IF(AB46=3,C46,IF(AB47=3,C47,IF(AB48=3,C48,IF(AB49=3,C49,IF(AB50=3,C50,IF(AB51=3,C51,C52))))))))))","v":""}]
["D",null,null,null,null,null,null,null,null,null,null,null,null,null,null,null,{"$f":"AD23","v":""},{"$f":"AD16","v":""},{"$f":"AD7","v":""},null,{"$f":"A13","v":""},{"$f":"A19","v":""},{"$f":"A26","v":""},{"$f":"A31","v":""},{"$f":"A35","v":""},{"$f":"IF(A7=\"\",\"\",(IF(Q47<>\"\",Q47,0))+(IF(R47<>\"\",R47,0))+(IF(S47<>\"\",S47,0))+(IF(T47<>\"\",T47,0))+(IF(U47<>\"\",U47,0))+(IF(V47<>\"\",V47,0))+(IF(W47<>\"\",W47,0))+(IF(X47<>\"\",X47,0))+(IF(Y47<>\"\",Y47,0)))","v":""},null,null,null,null,null,null,null,null,4,null,{"$f":"IF(AB44=\"\",\"\",IF(AB44=4,C44,IF(AB45=4,C45,IF(AB45=4,C45,IF(AB46=4,C46,IF(AB47=4,C47,IF(AB48=4,C48,IF(AB49=4,C49,IF(AB50=4,C50,IF(AB51=4,C51,C52))))))))))","v":""}]
["E",null,null,null,null,null,null,null,null,null,null,null,null,null,null,null,{"$f":"AD30","v":""},{"$f":"AD24","v":""},{"$f":"AD18","v":""},{"$f":"AD13","v":""},null,{"$f":"A8","v":""},{"$f":"A21","v":""},{"$f":"A27","v":""},{"$f":"A39","v":""},{"$f":"IF(A8=\"\",\"\",(IF(Q48<>\"\",Q48,0))+(IF(R48<>\"\",R48,0))+(IF(S48<>\"\",S48,0))+(IF(T48<>\"\",T48,0))+(IF(U48<>\"\",U48,0))+(IF(V48<>\"\",V48,0))+(IF(W48<>\"\",W48,0))+(IF(X48<>\"\",X48,0))+(IF(Y48<>\"\",Y48,0)))","v":""},null,null,null,null,null,null,null,null,5,null,{"$f":"IF(AB44=\"\",\"\",IF(AB44=5,C44,IF(AB45=5,C45,IF(AB45=5,C45,IF(AB46=5,C46,IF(AB47=5,C47,IF(AB48=5,C48,IF(AB49=5,C49,IF(AB50=5,C50,IF(AB51=5,C51,C52))))))))))","v":""}]
["F",null,null,null,null,null,null,null,null,null,null,null,null,null,null,null,{"$f":"AD38","v":""},{"$f":"AD28","v":""},{"$f":"AD25","v":""},{"$f":"AD19","v":""},{"$f":"AD8","v":""},null,{"$f":"A12","v":""},{"$f":"A22","v":""},{"$f":"A32","v":""},{"$f":"IF(A8=\"\",\"\",(IF(Q49<>\"\",Q49,0))+(IF(R49<>\"\",R49,0))+(IF(S49<>\"\",S49,0))+(IF(T49<>\"\",T49,0))+(IF(U49<>\"\",U49,0))+(IF(V49<>\"\",V49,0))+(IF(W49<>\"\",W49,0))+(IF(X49<>\"\",X49,0))+(IF(Y49<>\"\",Y49,0)))","v":""},null,null,null,null,null,null,null,null,6,null,{"$f":"IF(AB44=\"\",\"\",IF(AB44=6,C44,IF(AB45=6,C45,IF(AB45=6,C45,IF(AB46=6,C46,IF(AB47=6,C47,IF(AB48=6,C48,IF(AB49=6,C49,IF(AB50=6,C50,IF(AB51=6,C51,C52))))))))))","v":""}]
["G",null,null,null,null,null,null,null,null,null,null,null,null,null,null,null,{"$f":"AD41","v":""},{"$f":"AD33","v":""},{"$f":"AD36","v":""},{"$f":"AD26","v":""},{"$f":"AD21","v":""},{"$f":"AD12","v":""},null,{"$f":"A9","v":""},{"$f":"A17","v":""},{"$f":"IF(A9=\"\",\"\",(IF(Q50<>\"\",Q50,0))+(IF(R50<>\"\",R50,0))+(IF(S50<>\"\",S50,0))+(IF(T50<>\"\",T50,0))+(IF(U50<>\"\",U50,0))+(IF(V50<>\"\",V50,0))+(IF(W50<>\"\",W50,0))+(IF(X50<>\"\",X50,0))+(IF(Y50<>\"\",Y50,0)))","v":""},null,null,null,null,null,null,null,null,7,null,{"$f":"IF(AB44=\"\",\"\",IF(AB44=7,C44,IF(AB45=7,C45,IF(AB45=7,C45,IF(AB46=7,C46,IF(AB47=7,C47,IF(AB48=7,C48,IF(AB49=7,C49,IF(AB50=7,C50,IF(AB51=7,C51,C52))))))))))","v":""}]
["H",null,null,null,null,null,null,null,null,null,null,null,null,null,null,null,{"$f":"AD34","v":""},{"$f":"AD37","v":""},{"$f":"AD40","v":""},{"$f":"AD31","v":""},{"$f":"AD27","v":""},{"$f":"AD22","v":""},{"$f":"AD9","v":""},null,{"$f":"A14","v":""},{"$f":"IF(A9=\"\",\"\",(IF(Q51<>\"\",Q51,0))+(IF(R51<>\"\",R51,0))+(IF(S51<>\"\",S51,0))+(IF(T51<>\"\",T51,0))+(IF(U51<>\"\",U51,0))+(IF(V51<>\"\",V51,0))+(IF(W51<>\"\",W51,0))+(IF(X51<>\"\",X51,0))+(IF(Y51<>\"\",Y51,0)))","v":""},null,null,null,null,null,null,null,null,8,null,{"$f":"IF(AB44=\"\",\"\",IF(AB44=8,C44,IF(AB45=8,C45,IF(AB45=8,C45,IF(AB46=8,C46,IF(AB47=8,C47,IF(AB48=8,C48,IF(AB49=8,C49,IF(AB50=8,C50,IF(AB51=8,C51,C52))))))))))","v":""}]
["I",null,null,null,null,null,null,null,null,null,null,null,null,null,null,null,{"$f":"A10","v":""},{"$f":"AD20","v":""},{"$f":"AD29","v":""},{"$f":"AD35","v":""},{"$f":"AD39","v":""},{"$f":"AD32","v":""},{"$f":"AD17","v":""},{"$f":"AD14","v":""},null,{"$f":"IF(A10=\"\",\"\",(IF(Q52<>\"\",Q52,0))+(IF(R52<>\"\",R52,0))+(IF(S52<>\"\",S52,0))+(IF(T52<>\"\",T52,0))+(IF(U52<>\"\",U52,0))+(IF(V52<>\"\",V52,0))+(IF(W52<>\"\",W52,0))+(IF(X52<>\"\",X52,0))+(IF(Y52<>\"\",Y52,0)))","v":""},null,null,null,null,null,null,null,null,9,null,{"$f":"IF(AB44=\"\",\"\",IF(AB44=9,C44,IF(AB45=9,C45,IF(AB45=9,C45,IF(AB46=9,C46,IF(AB47=9,C47,IF(AB48=9,C48,IF(AB49=9,C49,IF(AB50=9,C50,IF(AB51=9,C51,C52))))))))))","v":""}]
[null,null,null,null,null,null,null,null,null,null,null,null,null,null,null,null,null,null,null,null,null,null,null,null,null,null,null,null,null,null,"Kontrollsumme =108"]
["½ -Finals",null,null,null,null,null,null,null,null,null,null,null,null,null,null,null,null,null,null,null,null,null,null,null,null,null,null,null,null,null,{"$f":"SUM(Z44:AA52)","v":0}]
["P",1,2,3,null,"Teams",null,null,null,null,null,null,null,"Z-Nr.",null,"Teams",null,null,null,null,null,null,null,null,1,2,3,"P",null,null,null,null,null,null,"Rangliste Final"]
[{"$f":"IF(B56=\"\",\"\",IF(C56=\"\",B56,IF(B56+C56=2,3,IF(D56=\"\",B56+C56,B56+C56+D56))))","v":""},null,null,null,{"$f":"IF(Worktab!A1<>\"\",Worktab!A1,IF(AB50=1,A50,IF(AB51=1,A51,IF(AB52=1,A52,\"\"))))","v":""},{"$f":"IF(Worktab!B1<>\"\",Worktab!B1,IF(AB50=1,C50,IF(AB51=1,C51,IF(AB52=1,C52,\"\"))))","v":""},null,null,null,null,null,null,null,37,null,{"$f":"IF(Worktab!B4<>\"\",Worktab!B4,IF(AB50=4,C50,IF(AB51=4,C51,IF(AB52=4,C52,\"\"))))","v":""},null,null,null,null,null,null,null,{"$f":"IF(Worktab!A4<>\"\",Worktab!A4,IF(AB50=4,A50,IF(AB51=4,A51,IF(AB52=4,A52,\"\"))))","v":""},{"$f":"IF(B56=1,\"0\",IF(B56=\"\",\"\",\"1\"))","v":""},{"$f":"IF(C56=1,\"0\",IF(C56=\"\",\"\",\"1\"))","v":""},{"$f":"IF(D56=1,\"0\",IF(D56=\"\",\"\",\"1\"))","v":""},{"$f":"IF(Y56=\"\",\"\",IF(Z56=\"\",Y56,IF(Y56+Z56=2,3,IF(AA56=\"\",Y56+Z56,Y56+Z56+AA56))))","v":""},null,null," ",{"$f":"IF(A56=\"\",\"\",IF(AND(A56=1,AB56=1)+OR(C56=\"\")+AND(A56+AB56>3)+OR(A56+AB56=2),\"nicht i.o.\",\"i.o.\"))","v":""}]
[{"$f":"IF(B57=\"\",\"\",IF(C57=\"\",B57,IF(B57+C57=2,3,IF(D57=\"\",B57+C57,B57+C57+D57))))","v":""},null,null,null,{"$f":"IF(Worktab!A2<>\"\",Worktab!A2,IF(AB50=2,A50,IF(AB51=2,A51,IF(AB52=2,A52,\"\"))))","v":""},{"$f":"IF(Worktab!B2<>\"\",Worktab!B2,IF(AB50=2,C50,IF(AB51=2,C51,IF(AB52=2,C52,\"\"))))","v":""},null,null,null,null,null,null,null,38,null,{"$f":"IF(Worktab!B3<>\"\",Worktab!B3,IF(AB50=3,C50,IF(AB51=3,C51,IF(AB52=3,C52,\"\"))))","v":""},null,null,null,null,null,null,null,{"$f":"IF(Worktab!A3<>\"\",Worktab!A3,IF(AB50=3,A50,IF(AB51=3,A51,IF(AB52=3,A52,\"\"))))","v":""},{"$f":"IF(B57=1,\"0\",IF(B57=\"\",\"\",\"1\"))","v":""},{"$f":"IF(C57=1,\"0\",IF(C57=\"\",\"\",\"1\"))","v":""},"",{"$f":"IF(Y57=\"\",\"\",IF(Z57=\"\",Y57,IF(Y57+Z57=2,3,IF(AA57=\"\",Y57+Z57,Y57+Z57+AA57))))","v":""},null,null,null,{"$f":"IF(A57=\"\",\"\",IF(AND(A57=1,AB57=1)+OR(C57=\"\")+AND(A57+AB57>3)+OR(A57+AB57=2),\"nicht i.o.\",\"i.o.\"))","v":""},null,null,9,null,{"$f":"IF(AB44=\"\",\"\",IF(AB44=9,C44,IF(AB45=9,C45,IF(AB45=9,C45,IF(AB46=9,C46,IF(AB47=9,C47,IF(AB48=9,C48,IF(AB49=9,C49,IF(AB50=9,C50,IF(AB51=9,C51,C52))))))))))","v":""}]
["Plazierungszug 7./8.",null,null,null,null,null,null,null,null,null,null,null,null,null,null,null,null,null,null,null,null,null,null,null,null,null,null,null,null,null,null,null,null,null,8,null,{"$f":"IF(C44=\"\",\"\",IF(OR(A59=\"\",A59+AB59>3,A59+AB59<=2),\"\",IF(A59<=1,F59,P59)))","v":""}]
[{"$f":"IF(B59=\"\",\"\",IF(C59=\"\",B59,IF(B59+C59=2,3,IF(D59=\"\",B59+C59,B59+C59+D59))))","v":""},null,null,null,{"$f":"IF(Worktab!A7<>\"\",Worktab!A7,IF(AB50=7,A50,IF(AB51=7,A51,IF(AB52=7,A52,\"\"))))","v":""},{"$f":"IF(Worktab!B7<>\"\",Worktab!B7,IF(AB50=7,C50,IF(AB51=7,C51,IF(AB52=7,C52,\"\"))))","v":""},null,null,null,null,null,null,null,39,null,{"$f":"IF(Worktab!B8<>\"\",Worktab!B8,IF(AB50=8,C50,IF(AB51=8,C51,IF(AB52=8,C52,\"\"))))","v":""},null,null,null,null,null,null,null,{"$f":"IF(Worktab!A8<>\"\",Worktab!A8,IF(AB50=8,A50,IF(AB51=8,A51,IF(AB52=8,A52,\"\"))))","v":""},{"$f":"IF(B59=1,\"0\",IF(B59=\"\",\"\",\"1\"))","v":""},{"$f":"IF(C59=1,\"0\",IF(C59=\"\",\"\",\"1\"))","v":""},{"$f":"IF(D59=1,\"0\",IF(D59=\"\",\"\",\"1\"))","v":""},{"$f":"IF(Y59=\"\",\"\",IF(Z59=\"\",Y59,IF(Y59+Z59=2,3,IF(AA59=\"\",Y59+Z59,Y59+Z59+AA59))))","v":""},null,null,null,"",null,null,7,null,{"$f":"IF(C44=\"\",\"\",IF(OR(A59=\"\",A59+AB59>3,A59+AB59<=2),\"\",IF(A59>=2,F59,P59)))","v":""}]
["Plazierungszug 5./6.",null,null,null,null,null,null,null,null,null,null,null,null,null,null,null,null,null,null,null,null,null,null,null,null,null,null,null,null,null,null,null,null,null,6,null,{"$f":"IF(C44=\"\",\"\",IF(OR(A61=\"\",A61+AB65>3,A61+AB61<=2),\"\",IF(A61<=1,F61,P61)))","v":""}]
[{"$f":"IF(B61=\"\",\"\",IF(C61=\"\",B61,IF(B61+C61=2,3,IF(D61=\"\",B61+C61,B61+C61+D61))))","v":""},null,null,null,{"$f":"IF(Worktab!A5<>\"\",Worktab!A5,IF(AB50=5,A50,IF(AB51=5,A51,IF(AB52=5,A52,\"\"))))","v":""},{"$f":"IF(Worktab!B5<>\"\",Worktab!B5,IF(AB50=5,C50,IF(AB51=5,C51,IF(AB52=5,C52,\"\"))))","v":""},null,null,null,null,null,null,null,40,null,{"$f":"IF(Worktab!B6<>\"\",Worktab!B6,IF(AB50=6,C50,IF(AB51=6,C51,IF(AB52=6,C52,\"\"))))","v":""},null,null,null,null,null,null,null,{"$f":"IF(Worktab!A6<>\"\",Worktab!A6,IF(AB50=6,A50,IF(AB51=6,A51,IF(AB52=6,A52,\"\"))))","v":""},{"$f":"IF(B61=1,\"0\",IF(B61=\"\",\"\",\"1\"))","v":""},{"$f":"IF(C61=1,\"0\",IF(C61=\"\",\"\",\"1\"))","v":""},{"$f":"IF(D61=1,\"0\",IF(D61=\"\",\"\",\"1\"))","v":""},{"$f":"IF(Y61=\"\",\"\",IF(Z61=\"\",Y61,IF(Y61+Z61=2,3,IF(AA61=\"\",Y61+Z61,Y61+Z61+AA61))))","v":""},null,null," ","",null,null,5,null,{"$f":"IF(C44=\"\",\"\",IF(OR(A61=\"\",A61+AB61>3,A61+AB61<=2),\"\",IF(A61>=2,F61,P61)))","v":""}]
["Kleiner Final",null,null,null,null,null,null,null,null,null,null,null,null,null,null,null,null,null,null,null,null,null,null,null,null,null,null,null,null,null,null,null,null,null,4,null,{"$f":"IF(C44=\"\",\"\",IF(OR(A63=\"\",A63+AB65>3,A63+AB63<=2),\"\",IF(A63<=1,F63,P63)))","v":""}]
[{"$f":"IF(B63=\"\",\"\",IF(C63=\"\",B63,IF(B63+C63=2,3,IF(D63=\"\",B63+C63,B63+C63+D63))))","v":""},null,null,null,{"$f":"IF(A56=\"\",\"\",IF(A56>1,X56,E56))","v":""},{"$f":"IF(A56=\"\",\"\",IF(A56>1,P56,F56))","v":""},null,null,null,null,null,null,null,41,null,{"$f":"IF(A57=\"\",\"\",IF(A57>1,P57,F57))","v":""},null,null,null,null,null,null,null,{"$f":"IF(A57=\"\",\"\",IF(A57>1,X57,E57))","v":""},{"$f":"IF(B63=1,\"0\",IF(B63=\"\",\"\",\"1\"))","v":""},{"$f":"IF(C63=1,\"0\",IF(C63=\"\",\"\",\"1\"))","v":""},{"$f":"IF(D63=1,\"0\",IF(D63=\"\",\"\",\"1\"))","v":""},{"$f":"IF(Y63=\"\",\"\",IF(Z63=\"\",Y63,IF(Y63+Z63=2,3,IF(AA63=\"\",Y63+Z63,Y63+Z63+AA63))))","v":""},null,null," ","",null,null,3,null,{"$f":"IF(C44=\"\",\"\",IF(OR(A63=\"\",A63+AB63>3,A63+AB63<=2),\"\",IF(A63>=2,F63,P63)))","v":""}]
["Final",null,null,null,null,null,null,null,null,null,null,null,null,null,null,null,null,null,null,null,null,null,null,null,null,null,null,null,null,null,null,null,null,null,2,null,{"$f":"IF(C44=\"\",\"\",IF(OR(A65=\"\",A65+AB65>3,A65+AB65<=2),\"\",IF(A65<=1,F65,P65)))","v":""}]
[{"$f":"IF(B65=\"\",\"\",IF(C65=\"\",B65,IF(B65+C65=2,3,IF(D65=\"\",B65+C65,B65+C65+D65))))","v":""},null,null,null,{"$f":"IF(A56=\"\",\"\",IF(A56<2,X56,E56))","v":""},{"$f":"IF(A56=\"\",\"\",IF(A56<2,P56,F56))","v":""},null,null,null,null,null,null,null,42,null,{"$f":"IF(A57=\"\",\"\",IF(A57<2,P57,F57))","v":""},null,null,null,null,null,null,null,{"$f":"IF(A57=\"\",\"\",IF(A57<2,X57,E57))","v":""},{"$f":"IF(B65=1,\"0\",IF(B65=\"\",\"\",\"1\"))","v":""},{"$f":"IF(C65=1,\"0\",IF(C65=\"\",\"\",\"1\"))","v":""},{"$f":"IF(D65=1,\"0\",IF(D65=\"\",\"\",\"1\"))","v":""},{"$f":"IF(Y65=\"\",\"\",IF(Z65=\"\",Y65,IF(Y65+Z65=2,3,IF(AA65=\"\",Y65+Z65,Y65+Z65+AA65))))","v":""},null,null," ","",null,null,1,null,{"$f":"IF(C44=\"\",\"\",IF(OR(A65=\"\",A65+AB65>3,A65+AB65<=2),\"\",IF(A65>=2,F65,P65)))","v":""}]

{"sheet":"Rangliste Vorrunde","index":1,"n_rows":21,"n_cols":7,"rows_kept":21,"cut":false,"hidden":false,"merged":[[4,0,4,6],[8,0,8,6],[0,0,0,6]]}
["OSM"]
[]
[null,null,null,null,null,null,"Datum:"]
[]
["Turnier Sevelen"]
[]
[null,"Pokal-Sponsor: "]
[]
["Besten Dank fürs mitmachen."]
[]
[null,"Rangliste"]
[]
[null,"1.",{"$f":"'9er'!AK44","v":""}]
[null,"2.",{"$f":"'9er'!AK45","v":""}]
[null,"3.",{"$f":"'9er'!AK46","v":""}]
[null,"4.",{"$f":"'9er'!AK47","v":""}]
[null,"5.",{"$f":"'9er'!AK48","v":""}]
[null,"6.",{"$f":"'9er'!AK49","v":""}]
[null,"7.",{"$f":"'9er'!AK50","v":""}]
[null,"8.",{"$f":"'9er'!AK51","v":""}]
[null,"9.",{"$f":"'9er'!AK52","v":""}]

{"sheet":"Rangliste Final","index":2,"n_rows":21,"n_cols":7,"rows_kept":21,"cut":false,"hidden":false,"merged":[[4,0,4,6],[8,0,8,6],[0,0,0,6]]}
["OSM"]
[]
[null,null,null,null,null,null,"Datum:"]
[]
["Turnier Sevelen"]
[]
[null,"Pokal-Sponsor: "]
[]
["Besten Dank fürs mitmachen."]
[]
[null,"Rangliste"]
[]
[null,"1.",{"$f":"'9er'!AK65","v":""}]
[null,"2.",{"$f":"'9er'!AK64","v":""}]
[null,"3.",{"$f":"'9er'!AK63","v":""}]
[null,"4.",{"$f":"'9er'!AK62","v":""}]
[null,"5.",{"$f":"'9er'!AK61","v":""}]
[null,"6.",{"$f":"'9er'!AK60","v":""}]
[null,"7.",{"$f":"'9er'!AK59","v":""}]
[null,"8.",{"$f":"'9er'!AK58","v":""}]
[null,"9.",{"$f":"'9er'!AK57","v":""}]

{"sheet":"Worktab","index":3,"n_rows":8,"n_cols":3,"rows_kept":8,"cut":false,"hidden":false,"merged":[]}
[{"$f":"IF('9er'!AB44=\"\",\"\",IF('9er'!AB44=1,'9er'!A44,IF('9er'!AB45=1,'9er'!A45,IF('9er'!AB46=1,'9er'!A46,IF('9er'!AB47=1,'9er'!A47,IF('9er'!AB48=1,'9er'!A48,IF('9er'!AB49=1,'9er'!A49,\"\")))))))","v":""},{"$f":"IF('9er'!AB44=\"\",\"\",IF('9er'!AB44=1,'9er'!C44,IF('9er'!AB45=1,'9er'!C45,IF('9er'!AB46=1,'9er'!C46,IF('9er'!AB47=1,'9er'!C47,IF('9er'!AB48=1,'9er'!C48,IF('9er'!AB49=1,'9er'!C49,\"\")))))))","v":""},{"$f":"IF('9er'!AB44=\"\",\"\",IF('9er'!AB44=1,'9er'!Z44,IF('9er'!AB45=1,'9er'!Z45,IF('9er'!AB46=1,'9er'!Z46,IF('9er'!AB47=1,'9er'!Z47,IF('9er'!AB48=1,'9er'!Z48,IF('9er'!AB49=1,'9er'!Z49,\"\")))))))","v":""}]
[{"$f":"IF('9er'!AB44=\"\",\"\",IF('9er'!AB44=2,'9er'!A44,IF('9er'!AB45=2,'9er'!A45,IF('9er'!AB46=2,'9er'!A46,IF('9er'!AB47=2,'9er'!A47,IF('9er'!AB48=2,'9er'!A48,IF('9er'!AB49=2,'9er'!A49,\"\")))))))","v":""},{"$f":"IF('9er'!AB44=\"\",\"\",IF('9er'!AB44=2,'9er'!C44,IF('9er'!AB45=2,'9er'!C45,IF('9er'!AB46=2,'9er'!C46,IF('9er'!AB47=2,'9er'!C47,IF('9er'!AB48=2,'9er'!C48,IF('9er'!AB49=2,'9er'!C49,\"\")))))))","v":""},{"$f":"IF('9er'!AB44=\"\",\"\",IF('9er'!AB44=2,'9er'!Z44,IF('9er'!AB45=2,'9er'!Z45,IF('9er'!AB46=2,'9er'!Z46,IF('9er'!AB47=2,'9er'!Z47,IF('9er'!AB48=2,'9er'!Z48,IF('9er'!AB49=2,'9er'!Z49,\"\")))))))","v":""}]
[{"$f":"IF('9er'!AB44=\"\",\"\",IF('9er'!AB44=3,'9er'!A44,IF('9er'!AB45=3,'9er'!A45,IF('9er'!AB46=3,'9er'!A46,IF('9er'!AB47=3,'9er'!A47,IF('9er'!AB48=3,'9er'!A48,IF('9er'!AB49=3,'9er'!A49,\"\")))))))","v":""},{"$f":"IF('9er'!AB44=\"\",\"\",IF('9er'!AB44=3,'9er'!C44,IF('9er'!AB45=3,'9er'!C45,IF('9er'!AB46=3,'9er'!C46,IF('9er'!AB47=3,'9er'!C47,IF('9er'!AB48=3,'9er'!C48,IF('9er'!AB49=3,'9er'!C49,\"\")))))))","v":""},{"$f":"IF('9er'!AB44=\"\",\"\",IF('9er'!AB44=3,'9er'!Z44,IF('9er'!AB45=3,'9er'!Z45,IF('9er'!AB46=3,'9er'!Z46,IF('9er'!AB47=3,'9er'!Z47,IF('9er'!AB48=3,'9er'!Z48,IF('9er'!AB49=3,'9er'!Z49,\"\")))))))","v":""}]
[{"$f":"IF('9er'!AB44=\"\",\"\",IF('9er'!AB44=4,'9er'!A44,IF('9er'!AB45=4,'9er'!A45,IF('9er'!AB46=4,'9er'!A46,IF('9er'!AB47=4,'9er'!A47,IF('9er'!AB48=4,'9er'!A48,IF('9er'!AB49=4,'9er'!A49,\"\")))))))","v":""},{"$f":"IF('9er'!AB44=\"\",\"\",IF('9er'!AB44=4,'9er'!C44,IF('9er'!AB45=4,'9er'!C45,IF('9er'!AB46=4,'9er'!C46,IF('9er'!AB47=4,'9er'!C47,IF('9er'!AB48=4,'9er'!C48,IF('9er'!AB49=4,'9er'!C49,\"\")))))))","v":""},{"$f":"IF('9er'!AB44=\"\",\"\",IF('9er'!AB44=4,'9er'!Z44,IF('9er'!AB45=4,'9er'!Z45,IF('9er'!AB46=4,'9er'!Z46,IF('9er'!AB47=4,'9er'!Z47,IF('9er'!AB48=4,'9er'!Z48,IF('9er'!AB49=4,'9er'!Z49,\"\")))))))","v":""}]
[{"$f":"IF('9er'!AB44=\"\",\"\",IF('9er'!AB44=5,'9er'!A44,IF('9er'!AB45=5,'9er'!A45,IF('9er'!AB46=5,'9er'!A46,IF('9er'!AB47=5,'9er'!A47,IF('9er'!AB48=5,'9er'!A48,IF('9er'!AB49=5,'9er'!A49,\"\")))))))","v":""},{"$f":"IF('9er'!AB44=\"\",\"\",IF('9er'!AB44=5,'9er'!C44,IF('9er'!AB45=5,'9er'!C45,IF('9er'!AB46=5,'9er'!C46,IF('9er'!AB47=5,'9er'!C47,IF('9er'!AB48=5,'9er'!C48,IF('9er'!AB49=5,'9er'!C49,\"\")))))))","v":""},{"$f":"IF('9er'!AB44=\"\",\"\",IF('9er'!AB44=5,'9er'!Z44,IF('9er'!AB45=5,'9er'!Z45,IF('9er'!AB46=5,'9er'!Z46,IF('9er'!AB47=5,'9er'!Z47,IF('9er'!AB48=5,'9er'!Z48,IF('9er'!AB49=5,'9er'!Z49,\"\")))))))","v":""}]
[{"$f":"IF('9er'!AB44=\"\",\"\",IF('9er'!AB44=6,'9er'!A44,IF('9er'!AB45=6,'9er'!A45,IF('9er'!AB46=6,'9er'!A46,IF('9er'!AB47=6,'9er'!A47,IF('9er'!AB48=6,'9er'!A48,IF('9er'!AB49=6,'9er'!A49,\"\")))))))","v":""},{"$f":"IF('9er'!AB44=\"\",\"\",IF('9er'!AB44=6,'9er'!C44,IF('9er'!AB45=6,'9er'!C45,IF('9er'!AB46=6,'9er'!C46,IF('9er'!AB47=6,'9er'!C47,IF('9er'!AB48=6,'9er'!C48,IF('9er'!AB49=6,'9er'!C49,\"\")))))))","v":""},{"$f":"IF('9er'!AB44=\"\",\"\",IF('9er'!AB44=6,'9er'!Z44,IF('9er'!AB45=6,'9er'!Z45,IF('9er'!AB46=6,'9er'!Z46,IF('9er'!AB47=6,'9er'!Z47,IF('9er'!AB48=6,'9er'!Z48,IF('9er'!AB49=6,'9er'!Z49,\"\")))))))","v":""}]
[{"$f":"IF('9er'!AB44=\"\",\"\",IF('9er'!AB44=7,'9er'!A44,IF('9er'!AB45=7,'9er'!A45,IF('9er'!AB46=7,'9er'!A46,IF('9er'!AB47=7,'9er'!A47,IF('9er'!AB48=7,'9er'!A48,IF('9er'!AB49=7,'9er'!A49,\"\")))))))","v":""},{"$f":"IF('9er'!AB44=\"\",\"\",IF('9er'!AB44=7,'9er'!C44,IF('9er'!AB45=7,'9er'!C45,IF('9er'!AB46=7,'9er'!C46,IF('9er'!AB47=7,'9er'!C47,IF('9er'!AB48=7,'9er'!C48,IF('9er'!AB49=7,'9er'!C49,\"\")))))))","v":""},{"$f":"IF('9er'!AB44=\"\",\"\",IF('9er'!AB44=7,'9er'!Z44,IF('9er'!AB45=7,'9er'!Z45,IF('9er'!AB46=7,'9er'!Z46,IF('9er'!AB47=7,'9er'!Z47,IF('9er'!AB48=7,'9er'!Z48,IF('9er'!AB49=7,'9er'!Z49,\"\")))))))","v":""}]
[{"$f":"IF('9er'!AB44=\"\",\"\",IF('9er'!AB44=8,'9er'!A44,IF('9er'!AB45=8,'9er'!A45,IF('9er'!AB46=8,'9er'!A46,IF('9er'!AB47=8,'9er'!A47,IF('9er'!AB48=8,'9er'!A48,IF('9er'!AB49=8,'9er'!A49,\"\")))))))","v":""},{"$f":"IF('9er'!AB44=\"\",\"\",IF('9er'!AB44=8,'9er'!C44,IF('9er'!AB45=8,'9er'!C45,IF('9er'!AB46=8,'9er'!C46,IF('9er'!AB47=8,'9er'!C47,IF('9er'!AB48=8,'9er'!C48,IF('9er'!AB49=8,'9er'!C49,\"\")))))))","v":""},{"$f":"IF('9er'!AB44=\"\",\"\",IF('9er'!AB44=8,'9er'!Z44,IF('9er'!AB45=8,'9er'!Z45,IF('9er'!AB46=8,'9er'!Z46,IF('9er'!AB47=8,'9er'!Z47,IF('9er'!AB48=8,'9er'!Z48,IF('9er'!AB49=8,'9er'!Z49,\"\")))))))","v":""}]